BEGIN:VCALENDAR
VERSION:2.0
PRODID:-// - ECPv6.15.20//NONSGML v1.0//EN
CALSCALE:GREGORIAN
METHOD:PUBLISH
X-ORIGINAL-URL:https://wxryfm.org
X-WR-CALDESC:Events for 
REFRESH-INTERVAL;VALUE=DURATION:PT1H
X-Robots-Tag:noindex
X-PUBLISHED-TTL:PT1H
BEGIN:VTIMEZONE
TZID:America/New_York
BEGIN:DAYLIGHT
TZOFFSETFROM:-0500
TZOFFSETTO:-0400
TZNAME:EDT
DTSTART:20240310T070000
END:DAYLIGHT
BEGIN:STANDARD
TZOFFSETFROM:-0400
TZOFFSETTO:-0500
TZNAME:EST
DTSTART:20241103T060000
END:STANDARD
BEGIN:DAYLIGHT
TZOFFSETFROM:-0500
TZOFFSETTO:-0400
TZNAME:EDT
DTSTART:20250309T070000
END:DAYLIGHT
BEGIN:STANDARD
TZOFFSETFROM:-0400
TZOFFSETTO:-0500
TZNAME:EST
DTSTART:20251102T060000
END:STANDARD
BEGIN:DAYLIGHT
TZOFFSETFROM:-0500
TZOFFSETTO:-0400
TZNAME:EDT
DTSTART:20260308T070000
END:DAYLIGHT
BEGIN:STANDARD
TZOFFSETFROM:-0400
TZOFFSETTO:-0500
TZNAME:EST
DTSTART:20261101T060000
END:STANDARD
END:VTIMEZONE
BEGIN:VEVENT
DTSTART;TZID=America/New_York:20251107T190000
DTEND;TZID=America/New_York:20251107T230000
DTSTAMP:20260424T035759
CREATED:20250818T122354Z
LAST-MODIFIED:20250818T122421Z
UID:1503-1762542000-1762556400@wxryfm.org
SUMMARY:Hiss Golden Messenger - The Senate
DESCRIPTION:
URL:https://wxryfm.org/event/hiss-golden-messenger-the-senate/
LOCATION:The Senate Columbia\, 1022 Senate Street\, Columbia\, SC\, 29201\, United States
CATEGORIES:Concert
ATTACH;FMTTYPE=image/jpeg:https://wxryfm.org/wp-content/uploads/2025/08/393a327a-2dc0-4b5c-bec1-abc4c213739d_TABLET_LANDSCAPE_16_9.jpg
END:VEVENT
BEGIN:VEVENT
DTSTART;TZID=America/New_York:20251112T190000
DTEND;TZID=America/New_York:20251112T230000
DTSTAMP:20260424T035759
CREATED:20250818T123120Z
LAST-MODIFIED:20250818T123120Z
UID:1506-1762974000-1762988400@wxryfm.org
SUMMARY:Cameron Whitcomb - The Senate
DESCRIPTION:
URL:https://wxryfm.org/event/cameron-whitcomb-the-senate/
LOCATION:The Senate Columbia\, 1022 Senate Street\, Columbia\, SC\, 29201\, United States
CATEGORIES:Concert
ATTACH;FMTTYPE=image/jpeg:https://wxryfm.org/wp-content/uploads/2025/08/6d7b81c1-6572-4c78-a30d-ff68a6fd4c80_TABLET_LANDSCAPE_16_9.jpg
END:VEVENT
BEGIN:VEVENT
DTSTART;TZID=America/New_York:20251115T080000
DTEND;TZID=America/New_York:20251115T210000
DTSTAMP:20260424T035759
CREATED:20251020T140037Z
LAST-MODIFIED:20251020T140229Z
UID:1557-1763193600-1763240400@wxryfm.org
SUMMARY:Jam Room Music Festival - Finlay Park
DESCRIPTION:
URL:https://wxryfm.org/event/jam-room-music-festival-finlay-park/
LOCATION:Finlay Park\, 930 Taylor Street\, COLUMBIA\, SC\, 29201\, United States
CATEGORIES:Community Event,Music Festival
END:VEVENT
BEGIN:VEVENT
DTSTART;TZID=America/New_York:20251115T180000
DTEND;TZID=America/New_York:20251115T230000
DTSTAMP:20260424T035759
CREATED:20250515T155232Z
LAST-MODIFIED:20250515T155232Z
UID:1452-1763229600-1763247600@wxryfm.org
SUMMARY:NEEDTOBREATHE Acoustic - Township
DESCRIPTION:
URL:https://wxryfm.org/event/needtobreathe-acoustic-township/
LOCATION:The Township Auditorium\, 1703 Taylor Street\, Columbia\, SC\, 29201\, United States
CATEGORIES:Concert
ATTACH;FMTTYPE=image/jpeg:https://wxryfm.org/wp-content/uploads/2025/05/NeedToBreathe-Columbia-Horizontal.jpg
END:VEVENT
END:VCALENDAR