BEGIN:VCALENDAR
VERSION:2.0
PRODID:-// - ECPv6.15.20//NONSGML v1.0//EN
CALSCALE:GREGORIAN
METHOD:PUBLISH
X-ORIGINAL-URL:https://wxryfm.org
X-WR-CALDESC:Events for 
REFRESH-INTERVAL;VALUE=DURATION:PT1H
X-Robots-Tag:noindex
X-PUBLISHED-TTL:PT1H
BEGIN:VTIMEZONE
TZID:America/New_York
BEGIN:DAYLIGHT
TZOFFSETFROM:-0500
TZOFFSETTO:-0400
TZNAME:EDT
DTSTART:20230312T070000
END:DAYLIGHT
BEGIN:STANDARD
TZOFFSETFROM:-0400
TZOFFSETTO:-0500
TZNAME:EST
DTSTART:20231105T060000
END:STANDARD
BEGIN:DAYLIGHT
TZOFFSETFROM:-0500
TZOFFSETTO:-0400
TZNAME:EDT
DTSTART:20240310T070000
END:DAYLIGHT
BEGIN:STANDARD
TZOFFSETFROM:-0400
TZOFFSETTO:-0500
TZNAME:EST
DTSTART:20241103T060000
END:STANDARD
BEGIN:DAYLIGHT
TZOFFSETFROM:-0500
TZOFFSETTO:-0400
TZNAME:EDT
DTSTART:20250309T070000
END:DAYLIGHT
BEGIN:STANDARD
TZOFFSETFROM:-0400
TZOFFSETTO:-0500
TZNAME:EST
DTSTART:20251102T060000
END:STANDARD
END:VTIMEZONE
BEGIN:VEVENT
DTSTART;TZID=America/New_York:20240927T183000
DTEND;TZID=America/New_York:20240927T230000
DTSTAMP:20260424T103349
CREATED:20240527T132341Z
LAST-MODIFIED:20240527T132341Z
UID:1050-1727461800-1727478000@wxryfm.org
SUMMARY:Old 97's - The Senate
DESCRIPTION:
URL:https://wxryfm.org/event/old-97s-the-senate/
LOCATION:The Senate Columbia\, 1022 Senate Street\, Columbia\, SC\, 29201\, United States
CATEGORIES:Concert
END:VEVENT
BEGIN:VEVENT
DTSTART;TZID=America/New_York:20240927T080000
DTEND;TZID=America/New_York:20240929T170000
DTSTAMP:20260424T103349
CREATED:20240612T232311Z
LAST-MODIFIED:20240612T232311Z
UID:1124-1727424000-1727629200@wxryfm.org
SUMMARY:South Carolina Writer's Association StoryFest 2024
DESCRIPTION:The South Carolina Writers Association will host its annual conference\, 2024 Storyfest\, Sept. 27 through 29 in Columbia\, featuring more than a dozen acclaimed authors\, agents and editors. \nThe event\, to be held at the DoubleTree by Hilton\, will include talks and classes by writers from South Carolina\, Georgia\, California and New York\, including Lynn Cullen\, national bestselling author of “The Girl with a Cure” and “Mrs. Poe;” Grady Hendrix\, screenwriter and author of “How to Sell a Haunted House” and “The Southern Book Club’s Guide to Slaying Vampires;” and Tiffany Yates Martin\, author of six novels and the how-to book “Intuitive Editing: A Creative and Practical Guide to Revising Your Writing.” \nOther features of 2024 Storyfest will be masterclasses\, panels and keynotes addresses\, manuscript critiques\, craft classes\, and meetings with sought-after editors and agents\, including Andrew Geyer\, the award-winning author or co-author of 10 books and editor of SCWA’s literary journal\, The Petigru Review. \nAlso included are award-winning South Carolina novelist and short story writer Scott Gould; Southern Indie Bookstore bestselling author Mindy Friddle; Columbia poet laureate Jennifer Bartell Boykin; New York Times noteworthy author Cinelle Barnes; military science fiction and post-apocalyptic writer Alex Rath; and screenwriter and producer Alan Roth\, a winner of the prestigious Nicholl Fellowship Award in Screenwriting. \nSome of the South’s top publishers also will attend\, including Arcadia Publishing\, Palmetto Publishing and the University of South Carolina Press. \n 
URL:https://wxryfm.org/event/south-carolina-writers-association-storyfest-2024/
LOCATION:Doubletree by Hilton Columbia\, 2100 Bush RIver Road\, COLUMBIA\, SC\, 29210\, United States
CATEGORIES:Literature
ATTACH;FMTTYPE=image/png:https://wxryfm.org/wp-content/uploads/2024/06/SCWA_Storytellers2024-CLR.png
END:VEVENT
BEGIN:VEVENT
DTSTART;TZID=America/New_York:20240926T200000
DTEND;TZID=America/New_York:20240926T230000
DTSTAMP:20260424T103349
CREATED:20240916T142120Z
LAST-MODIFIED:20240916T142120Z
UID:1179-1727380800-1727391600@wxryfm.org
SUMMARY:STRFKR - The Underground Charlotte
DESCRIPTION:
URL:https://wxryfm.org/event/strfkr-the-underground-charlotte/
LOCATION:The Underground Charlotte\, 820 Hamilton Street\, Charlotte\, NC\, 28206\, United States
CATEGORIES:Concert
ATTACH;FMTTYPE=image/webp:https://wxryfm.org/wp-content/uploads/2024/09/5a37f643-2fa1-45d7-bc92-b776c2a9c1c7_RETINA_PORTRAIT_16_9.webp
END:VEVENT
BEGIN:VEVENT
DTSTART;TZID=America/New_York:20240926T193000
DTEND;TZID=America/New_York:20240926T220000
DTSTAMP:20260424T103349
CREATED:20240919T014915Z
LAST-MODIFIED:20240919T014950Z
UID:1232-1727379000-1727388000@wxryfm.org
SUMMARY:USC Symphony Season Opener - Firebird & the Phoenix
DESCRIPTION:In celebration of the 100th anniversary of the University of South Carolina School of Music\, the 2024-25 season of the USC Symphony orchestra highlights our students\, faculty\, and alumni. \nThe Firebird & The Phoenix showcases Wu Wei on the sheng with guest conductor Jordan Brooks. The program includes “The Song of the Flaming Phoenix” by Fang Man (faculty at USC School of Music) and “The Firebird Suite\, 1919” by the Russian composer Igor Stravinsky.
URL:https://wxryfm.org/event/usc-symphony-season-opener-firebird-the-phoenix/
LOCATION:Koger Center for the Arts\, 1051 Greene St\, Columbia\, SC\, 29201\, United States
CATEGORIES:Classical and Orchestral Music,Concert
ATTACH;FMTTYPE=image/webp:https://wxryfm.org/wp-content/uploads/2024/09/1723649345-1600x0-c-default.webp
END:VEVENT
BEGIN:VEVENT
DTSTART;TZID=America/New_York:20240924T200000
DTEND;TZID=America/New_York:20240924T230000
DTSTAMP:20260424T103349
CREATED:20240916T141857Z
LAST-MODIFIED:20240916T141857Z
UID:1176-1727208000-1727218800@wxryfm.org
SUMMARY:Sisters of Mercy - The Fillmore Charlotte
DESCRIPTION:
URL:https://wxryfm.org/event/sisters-of-mercy-the-fillmore-charlotte/
LOCATION:The Fillmore Charlotte\, 820 Hamilton Street\, Charlotte\, NC\, 28206\, United States
CATEGORIES:Concert
ATTACH;FMTTYPE=image/webp:https://wxryfm.org/wp-content/uploads/2024/09/f33dd002-8a40-49f5-a9cd-9e1e4edd1b8b_RETINA_PORTRAIT_16_9.webp
END:VEVENT
BEGIN:VEVENT
DTSTART;TZID=America/New_York:20240923T200000
DTEND;TZID=America/New_York:20240923T230000
DTSTAMP:20260424T103349
CREATED:20240916T140107Z
LAST-MODIFIED:20240916T140107Z
UID:1173-1727121600-1727132400@wxryfm.org
SUMMARY:Lawrence - The Fillmore Charlotte
DESCRIPTION:
URL:https://wxryfm.org/event/lawrence-the-fillmore-charlotte-2/
LOCATION:The Fillmore Charlotte\, 820 Hamilton Street\, Charlotte\, NC\, 28206\, United States
CATEGORIES:Concert
ATTACH;FMTTYPE=image/webp:https://wxryfm.org/wp-content/uploads/2024/09/03bbb5f8-9dd8-41dc-9cf4-ebacbd8fb720_RETINA_PORTRAIT_16_9.webp
END:VEVENT
BEGIN:VEVENT
DTSTART;TZID=America/New_York:20240923T200000
DTEND;TZID=America/New_York:20240923T230000
DTSTAMP:20260424T103349
CREATED:20240527T114000Z
LAST-MODIFIED:20240527T114000Z
UID:977-1727121600-1727132400@wxryfm.org
SUMMARY:Lawrence - The Fillmore Charlotte
DESCRIPTION:
URL:https://wxryfm.org/event/lawrence-the-fillmore-charlotte/
LOCATION:SC
CATEGORIES:Concert
END:VEVENT
BEGIN:VEVENT
DTSTART;TZID=America/New_York:20240923T080000
DTEND;TZID=America/New_York:20240923T170000
DTSTAMP:20260424T103349
CREATED:20240527T132119Z
LAST-MODIFIED:20240527T132119Z
UID:1048-1727078400-1727110800@wxryfm.org
SUMMARY:Briston Maroney - The Senate
DESCRIPTION:
URL:https://wxryfm.org/event/briston-maroney-the-senate/
LOCATION:The Senate Columbia\, 1022 Senate Street\, Columbia\, SC\, 29201\, United States
CATEGORIES:Concert
END:VEVENT
BEGIN:VEVENT
DTSTART;TZID=America/New_York:20240922T173000
DTEND;TZID=America/New_York:20240922T230000
DTSTAMP:20260424T103349
CREATED:20240527T130205Z
LAST-MODIFIED:20240527T130205Z
UID:1025-1727026200-1727046000@wxryfm.org
SUMMARY:Staind & Breaking Benjamin w/Daughtry PNC Music Pavillion
DESCRIPTION:
URL:https://wxryfm.org/event/staind-breaking-benjamin-w-daughtry-pnc-music-pavillion/
LOCATION:PNC Music Pavillion – Charlotte\, 707 Pavillion Boulevard\, Charlotte\, NC\, 28262\, United States
CATEGORIES:Concert
END:VEVENT
BEGIN:VEVENT
DTSTART;TZID=America/New_York:20240921T193000
DTEND;TZID=America/New_York:20240921T230000
DTSTAMP:20260424T103349
CREATED:20240527T120204Z
LAST-MODIFIED:20240527T120204Z
UID:997-1726947000-1726959600@wxryfm.org
SUMMARY:Melissa Etheridge and Jewel - Skyla Credit Union Amphitheater Charlotte
DESCRIPTION:
URL:https://wxryfm.org/event/melissa-etheridge-and-jewel-skyla-credit-union-amphitheater-charlotte/
LOCATION:Skyla Credit Union Amphitheatre at the Music Factory\, 1000 North Carolina Music Factory Blvd\, Charlotte\, NC\, 28206\, United States
CATEGORIES:Concert
END:VEVENT
BEGIN:VEVENT
DTSTART;TZID=America/New_York:20240919T200000
DTEND;TZID=America/New_York:20240919T230000
DTSTAMP:20260424T103349
CREATED:20240916T135816Z
LAST-MODIFIED:20240916T135827Z
UID:1171-1726776000-1726786800@wxryfm.org
SUMMARY:KALEO - The Fillmore Charlotte
DESCRIPTION:
URL:https://wxryfm.org/event/kaleo-the-fillmore-charlotte/
LOCATION:The Fillmore Charlotte\, 820 Hamilton Street\, Charlotte\, NC\, 28206\, United States
CATEGORIES:Concert
END:VEVENT
BEGIN:VEVENT
DTSTART;TZID=America/New_York:20240919T190000
DTEND;TZID=America/New_York:20240919T230000
DTSTAMP:20260424T103349
CREATED:20240527T125843Z
LAST-MODIFIED:20240527T125843Z
UID:1023-1726772400-1726786800@wxryfm.org
SUMMARY:Hootie and the Blowfish w/Collective Soul and Edwin McCain - PNC Music Pavillion
DESCRIPTION:
URL:https://wxryfm.org/event/hootie-and-the-blowfish-w-collective-soul-and-edwin-mccain-pnc-music-pavillion/
LOCATION:PNC Music Pavillion – Charlotte\, 707 Pavillion Boulevard\, Charlotte\, NC\, 28262\, United States
CATEGORIES:Concert
END:VEVENT
BEGIN:VEVENT
DTSTART;TZID=America/New_York:20240918T190000
DTEND;TZID=America/New_York:20240918T230000
DTSTAMP:20260424T103349
CREATED:20240527T133634Z
LAST-MODIFIED:20240527T133634Z
UID:1066-1726686000-1726700400@wxryfm.org
SUMMARY:Black Pumas - Firefly Distillery
DESCRIPTION:
URL:https://wxryfm.org/event/black-pumas-firefly-distillery/
LOCATION:Firefly Distillery – Charleston\, 4201 Spruill Ave\, North Charleston\, SC\, 29405\, United States
CATEGORIES:Concert
END:VEVENT
BEGIN:VEVENT
DTSTART;TZID=America/New_York:20240917T190000
DTEND;TZID=America/New_York:20240917T220000
DTSTAMP:20260424T103349
CREATED:20240527T133456Z
LAST-MODIFIED:20240527T133456Z
UID:1064-1726599600-1726610400@wxryfm.org
SUMMARY:Mt. Joy - Firefly Distillery
DESCRIPTION:
URL:https://wxryfm.org/event/mt-joy-firefly-distillery/
LOCATION:Firefly Distillery – Charleston\, 4201 Spruill Ave\, North Charleston\, SC\, 29405\, United States
CATEGORIES:Concert
END:VEVENT
BEGIN:VEVENT
DTSTART;TZID=America/New_York:20240916T190000
DTEND;TZID=America/New_York:20240916T230000
DTSTAMP:20260424T103349
CREATED:20240527T131953Z
LAST-MODIFIED:20240527T131953Z
UID:1046-1726513200-1726527600@wxryfm.org
SUMMARY:The Wallflowers - The Senate
DESCRIPTION:
URL:https://wxryfm.org/event/the-wallflowers-the-senate/
LOCATION:The Senate Columbia\, 1022 Senate Street\, Columbia\, SC\, 29201\, United States
CATEGORIES:Concert
END:VEVENT
BEGIN:VEVENT
DTSTART;TZID=America/New_York:20240915T190000
DTEND;TZID=America/New_York:20240915T230000
DTSTAMP:20260424T103349
CREATED:20240527T133316Z
LAST-MODIFIED:20240527T133316Z
UID:1062-1726426800-1726441200@wxryfm.org
SUMMARY:YUNG GRAVY - Firefly Distillery
DESCRIPTION:
URL:https://wxryfm.org/event/yung-gravy-firefly-distillery/
LOCATION:Firefly Distillery – Charleston\, 4201 Spruill Ave\, North Charleston\, SC\, 29405\, United States
CATEGORIES:Concert
END:VEVENT
BEGIN:VEVENT
DTSTART;TZID=America/New_York:20240914T200000
DTEND;TZID=America/New_York:20240914T230000
DTSTAMP:20260424T103349
CREATED:20240527T112132Z
LAST-MODIFIED:20240527T112132Z
UID:960-1726344000-1726354800@wxryfm.org
SUMMARY:The Airborne Toxic Event - The Underground Charlotte
DESCRIPTION:
URL:https://wxryfm.org/event/the-airborne-toxic-event-the-underground-charlotte/
LOCATION:The Underground Charlotte\, 820 Hamilton Street\, Charlotte\, NC\, 28206\, United States
CATEGORIES:Concert
END:VEVENT
BEGIN:VEVENT
DTSTART;TZID=America/New_York:20240913T180000
DTEND;TZID=America/New_York:20240913T230000
DTSTAMP:20260424T103349
CREATED:20240325T160043Z
LAST-MODIFIED:20240325T132928Z
UID:913-1726250400-1726268400@wxryfm.org
SUMMARY:Nathaniel Rateliff & the Nightsweats/My Morning Jacket
DESCRIPTION:
URL:https://wxryfm.org/event/nathaniel-rateliff-the-nightsweats-my-morning-jacket/
LOCATION:PNC Music Pavillion – Charlotte\, 707 Pavillion Boulevard\, Charlotte\, NC\, 28262\, United States
CATEGORIES:Concert
ATTACH;FMTTYPE=image/jpeg:https://wxryfm.org/wp-content/uploads/2024/03/Static_Social-X_800x419_MyMorningJacket-NathanielRateliff_2024_Regional_PNCMusicPavilionCharlotte_0913.jpg
END:VEVENT
BEGIN:VEVENT
DTSTART;TZID=America/New_York:20240912T190000
DTEND;TZID=America/New_York:20240912T230000
DTSTAMP:20260424T103349
CREATED:20240527T134333Z
LAST-MODIFIED:20240527T134333Z
UID:1074-1726167600-1726182000@wxryfm.org
SUMMARY:My Morning Jacket and Nathaniel Rateliff & The Night Sweats - Charleston
DESCRIPTION:
URL:https://wxryfm.org/event/my-morning-jacket-and-nathaniel-rateliff-the-night-sweats-charleston/
LOCATION:Credit One Stadium Charleston\, 161 Seven Farms Drive\, Charleston\, SC\, 29492\, United States
CATEGORIES:Concert
END:VEVENT
BEGIN:VEVENT
DTSTART;TZID=America/New_York:20240908T193000
DTEND;TZID=America/New_York:20240908T230000
DTSTAMP:20260424T103349
CREATED:20240527T134832Z
LAST-MODIFIED:20240527T134832Z
UID:1078-1725823800-1725836400@wxryfm.org
SUMMARY:Bowling for Soup w/ Wheatus and Don't Panic - Charleston Music Hall
DESCRIPTION:
URL:https://wxryfm.org/event/bowling-for-soup-w-wheatus-and-dont-panic-charleston-music-hall/
LOCATION:Charleston Music Hall\, 37 John Street\, Charleston\, SC\, 29043\, United States
CATEGORIES:Concert
END:VEVENT
BEGIN:VEVENT
DTSTART;TZID=America/New_York:20240907T200000
DTEND;TZID=America/New_York:20240907T230000
DTSTAMP:20260424T103349
CREATED:20240527T134554Z
LAST-MODIFIED:20240527T134554Z
UID:1076-1725739200-1725750000@wxryfm.org
SUMMARY:Trevor Hall - Charleston Music Hall
DESCRIPTION:
URL:https://wxryfm.org/event/trevor-hall-charleston-music-hall/
LOCATION:Charleston Music Hall\, 37 John Street\, Charleston\, SC\, 29043\, United States
CATEGORIES:Concert
END:VEVENT
BEGIN:VEVENT
DTSTART;TZID=America/New_York:20240907T150000
DTEND;TZID=America/New_York:20240907T200000
DTSTAMP:20260424T103349
CREATED:20240205T141255Z
LAST-MODIFIED:20240205T141255Z
UID:831-1725721200-1725739200@wxryfm.org
SUMMARY:Meeting Street Music Festival - West Columbia
DESCRIPTION:
URL:https://wxryfm.org/event/meeting-street-music-festival-west-columbia-2/
LOCATION:SC
CATEGORIES:Community Event,Music Festival
END:VEVENT
BEGIN:VEVENT
DTSTART;TZID=America/New_York:20240906T200000
DTEND;TZID=America/New_York:20240906T230000
DTSTAMP:20260424T103349
CREATED:20240527T113846Z
LAST-MODIFIED:20240527T113846Z
UID:975-1725652800-1725663600@wxryfm.org
SUMMARY:Manchester Orchestra - The Fillmore Charlotte
DESCRIPTION:
URL:https://wxryfm.org/event/manchester-orchestra-the-fillmore-charlotte/
LOCATION:The Fillmore Charlotte\, 820 Hamilton Street\, Charlotte\, NC\, 28206\, United States
CATEGORIES:Concert
END:VEVENT
BEGIN:VEVENT
DTSTART;TZID=America/New_York:20240901T190000
DTEND;TZID=America/New_York:20240901T230000
DTSTAMP:20260424T103349
CREATED:20240527T122821Z
LAST-MODIFIED:20240527T122821Z
UID:1019-1725217200-1725231600@wxryfm.org
SUMMARY:Avril Lavigne w/Simple Plan and Girlfriends - PNC Music Pavillion
DESCRIPTION:
URL:https://wxryfm.org/event/avril-lavigne-w-simple-plan-and-girlfriends-pnc-music-pavillion/
LOCATION:PNC Music Pavillion – Charlotte\, 707 Pavillion Boulevard\, Charlotte\, NC\, 28262\, United States
CATEGORIES:Concert
END:VEVENT
BEGIN:VEVENT
DTSTART;TZID=America/New_York:20240831T190000
DTEND;TZID=America/New_York:20240831T230000
DTSTAMP:20260424T103349
CREATED:20240527T133158Z
LAST-MODIFIED:20240527T133158Z
UID:1060-1725130800-1725145200@wxryfm.org
SUMMARY:Sublime with Rome Farewell Tour - Firefly Distillery
DESCRIPTION:
URL:https://wxryfm.org/event/sublime-with-rome-farewell-tour-firefly-distillery/
LOCATION:Firefly Distillery – Charleston\, 4201 Spruill Ave\, North Charleston\, SC\, 29405\, United States
CATEGORIES:Concert
END:VEVENT
BEGIN:VEVENT
DTSTART;TZID=America/New_York:20240830T180000
DTEND;TZID=America/New_York:20240830T230000
DTSTAMP:20260424T103349
CREATED:20240527T133040Z
LAST-MODIFIED:20240527T133040Z
UID:1058-1725040800-1725058800@wxryfm.org
SUMMARY:Band of Horses w/City & Colour - Firefly Distillery
DESCRIPTION:
URL:https://wxryfm.org/event/band-of-horses-w-city-colour-firefly-distillery/
LOCATION:Firefly Distillery – Charleston\, 4201 Spruill Ave\, North Charleston\, SC\, 29405\, United States
END:VEVENT
BEGIN:VEVENT
DTSTART;TZID=America/New_York:20240828T180000
DTEND;TZID=America/New_York:20240828T230000
DTSTAMP:20260424T103349
CREATED:20240422T160045Z
LAST-MODIFIED:20240422T143255Z
UID:928-1724868000-1724886000@wxryfm.org
SUMMARY:Imagine Dragons PNC Music Pavilion Charlotte
DESCRIPTION:
URL:https://wxryfm.org/event/imagine-dragons-pnc-music-pavilion-charlotte/
LOCATION:PNC Music Pavillion – Charlotte\, 707 Pavillion Boulevard\, Charlotte\, NC\, 28262\, United States
CATEGORIES:Concert
ATTACH;FMTTYPE=image/jpeg:https://wxryfm.org/wp-content/uploads/2024/04/Static_Social-X_800x419_ImagineDragons_2024_Regional_PNCMusicPavilionCharlotte_0828.jpg
END:VEVENT
BEGIN:VEVENT
DTSTART;TZID=America/New_York:20240826T183000
DTEND;TZID=America/New_York:20240826T230000
DTSTAMP:20260424T103349
CREATED:20240527T122622Z
LAST-MODIFIED:20240527T122622Z
UID:1017-1724697000-1724713200@wxryfm.org
SUMMARY:Green Day w/ Rancid and the Linda Lindas - PNC Music Pavillion
DESCRIPTION:
URL:https://wxryfm.org/event/green-day-w-rancid-and-the-linda-lindas-pnc-music-pavillion/
LOCATION:PNC Music Pavillion – Charlotte\, 707 Pavillion Boulevard\, Charlotte\, NC\, 28262\, United States
CATEGORIES:Concert
END:VEVENT
BEGIN:VEVENT
DTSTART;TZID=America/New_York:20240826T180000
DTEND;TZID=America/New_York:20240826T230000
DTSTAMP:20260424T103349
CREATED:20240527T120013Z
LAST-MODIFIED:20240527T120013Z
UID:995-1724695200-1724713200@wxryfm.org
SUMMARY:Bush - Skyla Credit Union Amphitheater Charlotte
DESCRIPTION:
URL:https://wxryfm.org/event/bush-skyla-credit-union-amphitheater-charlotte/
LOCATION:Skyla Credit Union Amphitheatre at the Music Factory\, 1000 North Carolina Music Factory Blvd\, Charlotte\, NC\, 28206\, United States
CATEGORIES:Concert
END:VEVENT
BEGIN:VEVENT
DTSTART;TZID=America/New_York:20240826T180000
DTEND;TZID=America/New_York:20240826T230000
DTSTAMP:20260424T103349
CREATED:20231112T154523Z
LAST-MODIFIED:20231114T133921Z
UID:557-1724695200-1724713200@wxryfm.org
SUMMARY:Green Day with Rancid and the Linda Lindas - Charlotte
DESCRIPTION:
URL:https://wxryfm.org/event/green-day-with-rancid-and-the-linda-lindas-charlotte/
LOCATION:PNC Music Pavillion – Charlotte\, 707 Pavillion Boulevard\, Charlotte\, NC\, 28262\, United States
CATEGORIES:Concert
END:VEVENT
END:VCALENDAR