BEGIN:VCALENDAR
VERSION:2.0
PRODID:-// - ECPv6.15.20//NONSGML v1.0//EN
CALSCALE:GREGORIAN
METHOD:PUBLISH
X-ORIGINAL-URL:https://wxryfm.org
X-WR-CALDESC:Events for 
REFRESH-INTERVAL;VALUE=DURATION:PT1H
X-Robots-Tag:noindex
X-PUBLISHED-TTL:PT1H
BEGIN:VTIMEZONE
TZID:America/New_York
BEGIN:DAYLIGHT
TZOFFSETFROM:-0500
TZOFFSETTO:-0400
TZNAME:EDT
DTSTART:20230312T070000
END:DAYLIGHT
BEGIN:STANDARD
TZOFFSETFROM:-0400
TZOFFSETTO:-0500
TZNAME:EST
DTSTART:20231105T060000
END:STANDARD
BEGIN:DAYLIGHT
TZOFFSETFROM:-0500
TZOFFSETTO:-0400
TZNAME:EDT
DTSTART:20240310T070000
END:DAYLIGHT
BEGIN:STANDARD
TZOFFSETFROM:-0400
TZOFFSETTO:-0500
TZNAME:EST
DTSTART:20241103T060000
END:STANDARD
BEGIN:DAYLIGHT
TZOFFSETFROM:-0500
TZOFFSETTO:-0400
TZNAME:EDT
DTSTART:20250309T070000
END:DAYLIGHT
BEGIN:STANDARD
TZOFFSETFROM:-0400
TZOFFSETTO:-0500
TZNAME:EST
DTSTART:20251102T060000
END:STANDARD
BEGIN:DAYLIGHT
TZOFFSETFROM:-0500
TZOFFSETTO:-0400
TZNAME:EDT
DTSTART:20260308T070000
END:DAYLIGHT
BEGIN:STANDARD
TZOFFSETFROM:-0400
TZOFFSETTO:-0500
TZNAME:EST
DTSTART:20261101T060000
END:STANDARD
END:VTIMEZONE
BEGIN:VEVENT
DTSTART;TZID=America/New_York:20251011T183000
DTEND;TZID=America/New_York:20251011T230000
DTSTAMP:20260424T074805
CREATED:20250818T132011Z
LAST-MODIFIED:20250818T132011Z
UID:1510-1760207400-1760223600@wxryfm.org
SUMMARY:The Band Camino with Almost Monday
DESCRIPTION:
URL:https://wxryfm.org/event/the-band-camino-with-almost-monday/
LOCATION:The Township Auditorium\, 1703 Taylor Street\, Columbia\, SC\, 29201\, United States
CATEGORIES:Concert
ATTACH;FMTTYPE=image/jpeg:https://wxryfm.org/wp-content/uploads/2025/08/251011_bandcamino_township_1100x500.jpg
END:VEVENT
BEGIN:VEVENT
DTSTART;TZID=America/New_York:20251010T180000
DTEND;TZID=America/New_York:20251010T230000
DTSTAMP:20260424T074805
CREATED:20250515T150755Z
LAST-MODIFIED:20250515T150755Z
UID:1449-1760119200-1760137200@wxryfm.org
SUMMARY:Turnpike Troubadors with Dawes - Township
DESCRIPTION:
URL:https://wxryfm.org/event/turnpike-troubadors-with-dawes-township/
LOCATION:The Township Auditorium\, 1703 Taylor Street\, Columbia\, SC\, 29201\, United States
CATEGORIES:Concert
ATTACH;FMTTYPE=image/jpeg:https://wxryfm.org/wp-content/uploads/2025/05/1010-Columbia-TurnpikeTroubadours-Social-1200x628-1.jpg
END:VEVENT
BEGIN:VEVENT
DTSTART;TZID=America/New_York:20250926T180000
DTEND;TZID=America/New_York:20250926T230000
DTSTAMP:20260424T074805
CREATED:20250212T174028Z
LAST-MODIFIED:20250212T174028Z
UID:1428-1758909600-1758927600@wxryfm.org
SUMMARY:The Lumineers and Chance Pena - Credit One Stadium Charleston
DESCRIPTION:
URL:https://wxryfm.org/event/the-lumineers-and-chance-pena-credit-one-stadium-charleston/
LOCATION:Credit One Stadium Charleston\, 161 Seven Farms Drive\, Charleston\, SC\, 29492\, United States
CATEGORIES:Concert
ATTACH;FMTTYPE=image/jpeg:https://wxryfm.org/wp-content/uploads/2025/02/Static_Social-Instagram_1080x1080_TheLumineers_2025_Regional_CreditOneStadium_0906_Out-2.14.jpg
END:VEVENT
BEGIN:VEVENT
DTSTART;TZID=America/New_York:20250923T183000
DTEND;TZID=America/New_York:20250923T230000
DTSTAMP:20260424T074805
CREATED:20250818T121617Z
LAST-MODIFIED:20250818T121617Z
UID:1497-1758652200-1758668400@wxryfm.org
SUMMARY:Maddox Batson - The Senate
DESCRIPTION:
URL:https://wxryfm.org/event/maddox-batson-the-senate/
LOCATION:The Senate Columbia\, 1022 Senate Street\, Columbia\, SC\, 29201\, United States
CATEGORIES:Concert
ATTACH;FMTTYPE=image/jpeg:https://wxryfm.org/wp-content/uploads/2025/08/bb00184b-48d7-4d5f-8407-43af3c37f0f6_TABLET_LANDSCAPE_16_9.jpg
END:VEVENT
BEGIN:VEVENT
DTSTART;TZID=America/New_York:20250914T190000
DTEND;TZID=America/New_York:20250914T230000
DTSTAMP:20260424T074805
CREATED:20250818T120826Z
LAST-MODIFIED:20250818T120826Z
UID:1491-1757876400-1757890800@wxryfm.org
SUMMARY:The Brook and the Bluff - The Senate
DESCRIPTION:
URL:https://wxryfm.org/event/the-brook-and-the-bluff-the-senate/
LOCATION:The Senate Columbia\, 1022 Senate Street\, Columbia\, SC\, 29201\, United States
CATEGORIES:Concert
ATTACH;FMTTYPE=image/jpeg:https://wxryfm.org/wp-content/uploads/2025/08/fbe5e0d5-f7ff-44d6-aa64-09f8675647d8_TABLET_LANDSCAPE_16_9.jpg
END:VEVENT
BEGIN:VEVENT
DTSTART;TZID=America/New_York:20250826T190000
DTEND;TZID=America/New_York:20250826T230000
DTSTAMP:20260424T074805
CREATED:20250818T120604Z
LAST-MODIFIED:20250818T120604Z
UID:1488-1756234800-1756249200@wxryfm.org
SUMMARY:The FIXX - The Senate Columbia
DESCRIPTION:
URL:https://wxryfm.org/event/the-fixx-the-senate-columbia/
LOCATION:The Senate Columbia\, 1022 Senate Street\, Columbia\, SC\, 29201\, United States
CATEGORIES:Concert
ATTACH;FMTTYPE=image/jpeg:https://wxryfm.org/wp-content/uploads/2025/08/6a7fc4f8-0573-4ce3-bfac-c012d0724445_TABLET_LANDSCAPE_16_9.jpg
END:VEVENT
BEGIN:VEVENT
DTSTART;TZID=America/New_York:20250720T190000
DTEND;TZID=America/New_York:20250720T230000
DTSTAMP:20260424T074805
CREATED:20250717T163507Z
LAST-MODIFIED:20250717T163507Z
UID:1472-1753038000-1753052400@wxryfm.org
SUMMARY:Tripping Daisy at The Underground Charlotte
DESCRIPTION:
URL:https://wxryfm.org/event/tripping-daisy-at-the-underground-charlotte/
LOCATION:The Underground Charlotte\, 820 Hamilton Street\, Charlotte\, NC\, 28206\, United States
CATEGORIES:Concert
ATTACH;FMTTYPE=image/jpeg:https://wxryfm.org/wp-content/uploads/2025/07/Static_Social-IGFEED_1080x1080_TrippingDaisy_2025_Regional_TheUndergroundCharlotte_0720.jpg
END:VEVENT
BEGIN:VEVENT
DTSTART;TZID=America/New_York:20250621T180000
DTEND;TZID=America/New_York:20250621T230000
DTSTAMP:20260424T074805
CREATED:20250117T172615Z
LAST-MODIFIED:20250117T172615Z
UID:1423-1750528800-1750546800@wxryfm.org
SUMMARY:Rainbow Kitten Suprise w/Michael Marcagi - Simpsonville
DESCRIPTION:
URL:https://wxryfm.org/event/rainbow-kitten-suprise-w-michael-marcagi-simpsonville/
LOCATION:CCNB Amphitheater at Heritage Park Simpsonville\, 861 SE Main St\, Simpsonville\, SC\, 29681\, United States
CATEGORIES:Concert
ATTACH;FMTTYPE=image/jpeg:https://wxryfm.org/wp-content/uploads/2025/01/Static_Social-X-Twitter_800x419_RainbowKittenSurprise_2025_Regional_CCNBAmphitheatreSimpsonville_0621.jpg
END:VEVENT
BEGIN:VEVENT
DTSTART;TZID=America/New_York:20250510T180000
DTEND;TZID=America/New_York:20250510T230000
DTSTAMP:20260424T074805
CREATED:20240916T140053Z
LAST-MODIFIED:20240916T133929Z
UID:1161-1746900000-1746918000@wxryfm.org
SUMMARY:SESSANTA V 2.0: Primus\, Puscifer\, A Perfect Circle  A 6Ø1ST Birthday Celebration for Maynard James Keenan
DESCRIPTION:
URL:https://wxryfm.org/event/sessanta-v-2-0-primus-puscifer-a-perfect-circle-a-6o1st-birthday-celebration-for-maynard-james-keenan/
LOCATION:PNC Music Pavillion – Charlotte\, 707 Pavillion Boulevard\, Charlotte\, NC\, 28262\, United States
CATEGORIES:Concert
ATTACH;FMTTYPE=image/jpeg:https://wxryfm.org/wp-content/uploads/2024/09/Static_Social-IGFEED_1080x1080_SESSANTA_2025_Regional_PNCMusicPavilionCharlotte_05101.jpg
END:VEVENT
BEGIN:VEVENT
DTSTART;TZID=America/New_York:20250508T180000
DTEND;TZID=America/New_York:20250508T230000
DTSTAMP:20260424T074805
CREATED:20241114T120016Z
LAST-MODIFIED:20241114T043411Z
UID:1264-1746727200-1746745200@wxryfm.org
SUMMARY:LINKIN PARK w/grandson - Greenville
DESCRIPTION:
URL:https://wxryfm.org/event/linkin-park-w-grandson-greenville/
LOCATION:Bon Secours Wellness Arena – Greenville\, 650 N Academy St\, Greenville\, SC\, 29601\, United States
CATEGORIES:Concert
ATTACH;FMTTYPE=image/jpeg:https://wxryfm.org/wp-content/uploads/2024/11/Static_Social-Instagram_1080x1080_LinkinPark_2025_Regional_BonSecoursWellnessArenaGreenville_0508.jpg
END:VEVENT
BEGIN:VEVENT
DTSTART;VALUE=DATE:20250426
DTEND;VALUE=DATE:20250428
DTSTAMP:20260424T074805
CREATED:20241113T195815Z
LAST-MODIFIED:20241113T195815Z
UID:1262-1745625600-1745798399@wxryfm.org
SUMMARY:High Water Festival 2025
DESCRIPTION:
URL:https://wxryfm.org/event/high-water-festival-2025/
LOCATION:Riverfront Park – North Charleston\, 1061 Everglades Ave\, North Charleston\, SC\, 29405\, United States
CATEGORIES:Music Festival
ATTACH;FMTTYPE=image/png:https://wxryfm.org/wp-content/uploads/2024/11/HW25_Admat-4x5-1.png
END:VEVENT
BEGIN:VEVENT
DTSTART;TZID=America/New_York:20250416T180000
DTEND;TZID=America/New_York:20250416T230000
DTSTAMP:20260424T074805
CREATED:20250408T125610Z
LAST-MODIFIED:20250408T125610Z
UID:1446-1744826400-1744844400@wxryfm.org
SUMMARY:Jason Isbell and the 400 Unit
DESCRIPTION:
URL:https://wxryfm.org/event/jason-isbell-and-the-400-unit/
LOCATION:The Township Auditorium\, 1703 Taylor Street\, Columbia\, SC\, 29201\, United States
CATEGORIES:Concert
END:VEVENT
BEGIN:VEVENT
DTSTART;TZID=America/New_York:20250314T080000
DTEND;TZID=America/New_York:20250316T170000
DTSTAMP:20260424T074805
CREATED:20250302T015746Z
LAST-MODIFIED:20250302T015746Z
UID:1440-1741939200-1742144400@wxryfm.org
SUMMARY:Carolina Classic Home and Garden Show 2025 State Fairgrounds
DESCRIPTION:The 59th Home & Garden Show on March 14th\, 15th and 16th\, 2025\nDive deep into Columbia’s premier home and renovation experience as we bring together the city’s top home\, renovation\, and outdoor living companies. Last year’s show was a spectacular event that captivated many. Whether you were in the mood to transform your home\, in search of expert landscapers\, or looking for a memorable family day out\, there was something special for everyone. Don’t miss the excitement this year!
URL:https://wxryfm.org/event/carolina-classic-home-and-garden-show-2025-state-fairgrounds/
LOCATION:SC State Fairgrounds\, 1200 Rosewood Drive\, Columbia\, 29201\, United States
CATEGORIES:Home and Garden
ATTACH;FMTTYPE=image/png:https://wxryfm.org/wp-content/uploads/2025/03/save-the-dates-4.png
END:VEVENT
BEGIN:VEVENT
DTSTART;TZID=America/New_York:20250213T193000
DTEND;TZID=America/New_York:20250213T230000
DTSTAMP:20260424T074805
CREATED:20241208T201034Z
LAST-MODIFIED:20241208T201034Z
UID:1371-1739475000-1739487600@wxryfm.org
SUMMARY:Dexter and the Moonrocks - The Senate
DESCRIPTION:
URL:https://wxryfm.org/event/dexter-and-the-moonrocks-the-senate/
LOCATION:The Senate Columbia\, 1022 Senate Street\, Columbia\, SC\, 29201\, United States
CATEGORIES:Concert
ATTACH;FMTTYPE=image/jpeg:https://wxryfm.org/wp-content/uploads/2024/12/ae3f5e74-a905-4075-afff-67c2714b9dc7_TABLET_LANDSCAPE_16_9.jpg
END:VEVENT
BEGIN:VEVENT
DTSTART;TZID=America/New_York:20250207T190000
DTEND;TZID=America/New_York:20250207T230000
DTSTAMP:20260424T074805
CREATED:20241123T135722Z
LAST-MODIFIED:20241123T135722Z
UID:1308-1738954800-1738969200@wxryfm.org
SUMMARY:The Red Clay Strays
DESCRIPTION:
URL:https://wxryfm.org/event/the-red-clay-strays/
LOCATION:The Township Auditorium\, 1703 Taylor Street\, Columbia\, SC\, 29201\, United States
CATEGORIES:Concert
ATTACH;FMTTYPE=image/jpeg:https://wxryfm.org/wp-content/uploads/2024/11/250207_redclaystrays_township_1100x500.jpg
END:VEVENT
BEGIN:VEVENT
DTSTART;TZID=America/New_York:20250207T180000
DTEND;TZID=America/New_York:20250207T233000
DTSTAMP:20260424T074805
CREATED:20241117T032429Z
LAST-MODIFIED:20241117T132357Z
UID:1271-1738951200-1738971000@wxryfm.org
SUMMARY:Red Clay Strays - Township
DESCRIPTION:
URL:https://wxryfm.org/event/red-cay-strays-township/
LOCATION:The Township Auditorium\, 1703 Taylor Street\, Columbia\, SC\, 29201\, United States
CATEGORIES:Concert
END:VEVENT
BEGIN:VEVENT
DTSTART;TZID=America/New_York:20250131T193000
DTEND;TZID=America/New_York:20250131T230000
DTSTAMP:20260424T074805
CREATED:20241123T133618Z
LAST-MODIFIED:20241123T133618Z
UID:1305-1738351800-1738364400@wxryfm.org
SUMMARY:Blue Dogs/Jupiter Coyote/Cravin' Melon - Township
DESCRIPTION:
URL:https://wxryfm.org/event/blue-dogs-jupiter-coyote-cravin-melon-township/
LOCATION:The Township Auditorium\, 1703 Taylor Street\, Columbia\, SC\, 29201\, United States
CATEGORIES:Concert
ATTACH;FMTTYPE=image/jpeg:https://wxryfm.org/wp-content/uploads/2024/11/467754173_579225184466513_2434587580479558872_n.jpg
END:VEVENT
BEGIN:VEVENT
DTSTART;TZID=America/New_York:20241231T203000
DTEND;TZID=America/New_York:20241231T233000
DTSTAMP:20260424T074805
CREATED:20240919T005246Z
LAST-MODIFIED:20240919T011258Z
UID:1221-1735677000-1735687800@wxryfm.org
SUMMARY:Avett Brothers New Years Eve - Charlotte
DESCRIPTION:
URL:https://wxryfm.org/event/avett-brothers-new-years-eve-charlotte/
LOCATION:Bojangles Coliseum Charlotte\, 2700 E Independence Blvd\, Charlotte\, NC\, 28205\, United States
CATEGORIES:Concert
ATTACH;FMTTYPE=image/jpeg:https://wxryfm.org/wp-content/uploads/2024/09/13ea9a5b-6484-4123-a0bb-aa5af08ad289_1449931_RETINA_PORTRAIT_3_2-1.jpg
END:VEVENT
BEGIN:VEVENT
DTSTART;TZID=America/New_York:20241121T190000
DTEND;TZID=America/New_York:20241121T230000
DTSTAMP:20260424T074805
CREATED:20240601T230958Z
LAST-MODIFIED:20240601T230958Z
UID:1102-1732215600-1732230000@wxryfm.org
SUMMARY:The Stews - The Senate Columbia
DESCRIPTION:
URL:https://wxryfm.org/event/the-stews-the-senate-columbia/
LOCATION:The Senate Columbia\, 1022 Senate Street\, Columbia\, SC\, 29201\, United States
CATEGORIES:Concert
END:VEVENT
BEGIN:VEVENT
DTSTART;TZID=America/New_York:20241114T200000
DTEND;TZID=America/New_York:20241114T230000
DTSTAMP:20260424T074805
CREATED:20240527T135043Z
LAST-MODIFIED:20240527T135043Z
UID:1080-1731614400-1731625200@wxryfm.org
SUMMARY:Local Natives - Charleston Music Hall
DESCRIPTION:
URL:https://wxryfm.org/event/local-natives-charleston-music-hall/
LOCATION:Charleston Music Hall\, 37 John Street\, Charleston\, SC\, 29043\, United States
CATEGORIES:Concert
END:VEVENT
BEGIN:VEVENT
DTSTART;TZID=America/New_York:20241103T100000
DTEND;TZID=America/New_York:20241103T190000
DTSTAMP:20260424T074805
CREATED:20231031T030812Z
LAST-MODIFIED:20231112T043353Z
UID:536-1730628000-1730660400@wxryfm.org
SUMMARY:South Carolina Oyster Festival 2024
DESCRIPTION:
URL:https://wxryfm.org/event/south-carolina-oyster-festival-2024/
LOCATION:SC
CATEGORIES:Community Event
END:VEVENT
BEGIN:VEVENT
DTSTART;TZID=America/New_York:20241031T200000
DTEND;TZID=America/New_York:20241031T230000
DTSTAMP:20260424T074805
CREATED:20240916T145311Z
LAST-MODIFIED:20240916T145311Z
UID:1215-1730404800-1730415600@wxryfm.org
SUMMARY:Cold War Kids - The Fillmore
DESCRIPTION:
URL:https://wxryfm.org/event/cold-war-kids-the-fillmore/
LOCATION:The Fillmore Charlotte\, 820 Hamilton Street\, Charlotte\, NC\, 28206\, United States
CATEGORIES:Concert
ATTACH;FMTTYPE=image/webp:https://wxryfm.org/wp-content/uploads/2024/09/fdc9881f-f823-4b2f-b0cd-9d17597ee561_RETINA_PORTRAIT_16_9.webp
END:VEVENT
BEGIN:VEVENT
DTSTART;TZID=America/New_York:20241031T200000
DTEND;TZID=America/New_York:20241031T230000
DTSTAMP:20260424T074805
CREATED:20240527T114625Z
LAST-MODIFIED:20240527T114625Z
UID:985-1730404800-1730415600@wxryfm.org
SUMMARY:Cold War Kids - The Fillmore Charlotte
DESCRIPTION:
URL:https://wxryfm.org/event/cold-war-kids-the-fillmore-charlotte/
LOCATION:SC
CATEGORIES:Concert
END:VEVENT
BEGIN:VEVENT
DTSTART;TZID=America/New_York:20241029T200000
DTEND;TZID=America/New_York:20241029T230000
DTSTAMP:20260424T074805
CREATED:20240916T135628Z
LAST-MODIFIED:20240916T135628Z
UID:1169-1730232000-1730242800@wxryfm.org
SUMMARY:David Kushner - Fillmore Charlotte
DESCRIPTION:
URL:https://wxryfm.org/event/david-kushner-fillmore-charlotte/
LOCATION:The Fillmore Charlotte\, 820 Hamilton Street\, Charlotte\, NC\, 28206\, United States
CATEGORIES:Concert
END:VEVENT
BEGIN:VEVENT
DTSTART;TZID=America/New_York:20241025T200000
DTEND;TZID=America/New_York:20241025T230000
DTSTAMP:20260424T074805
CREATED:20240527T135151Z
LAST-MODIFIED:20240527T135151Z
UID:1082-1729886400-1729897200@wxryfm.org
SUMMARY:Ricky Montgomery - Charleston Music Hall
DESCRIPTION:
URL:https://wxryfm.org/event/ricky-montgomery-charleston-music-hall/
LOCATION:Charleston Music Hall\, 37 John Street\, Charleston\, SC\, 29043\, United States
CATEGORIES:Concert
END:VEVENT
BEGIN:VEVENT
DTSTART;TZID=America/New_York:20241025T180000
DTEND;TZID=America/New_York:20241025T230000
DTSTAMP:20260424T074805
CREATED:20240530T130712Z
LAST-MODIFIED:20240530T130712Z
UID:1092-1729879200-1729897200@wxryfm.org
SUMMARY:Rainbow Kitten Suprise - Spectrum Center Charlotte
DESCRIPTION:
URL:https://wxryfm.org/event/rainbow-kitten-suprise-spectrum-center-charlotte/
LOCATION:Spectrum Center Charlotte\, 333 E Trade St\, Charlotte\, NC\, 28202\, United States
CATEGORIES:Concert
ATTACH;FMTTYPE=image/jpeg:https://wxryfm.org/wp-content/uploads/2024/05/Static_Social-Twitter_800x419_RainbowKittenSurprise_2024_regional_SpectrumCenterCharlotte_1025.jpg
END:VEVENT
BEGIN:VEVENT
DTSTART;TZID=America/New_York:20241024T183000
DTEND;TZID=America/New_York:20241024T220000
DTSTAMP:20260424T074805
CREATED:20240912T173739Z
LAST-MODIFIED:20240912T174422Z
UID:1152-1729794600-1729807200@wxryfm.org
SUMMARY:Palladium Bidding and BBQ
DESCRIPTION:Join Historic Columbia on Thursday\, October 24\, 2024\, for the 20th Annual Palladium Silent Auction: Bidding & BBQ!\nThis annual celebration features live music from Whiskey Tango Revue\, all-you-can-eat delicious barbecue\, and specialty drinks. A wide variety of unique gifts and experiences will be up for auction\, as well as an added dose of history as we reflect upon two decades of the Palladium Silent Auction. Held on the luxurious grounds of the Hampton-Preston Mansion and Gardens in downtown Columbia\, you won’t want to miss it!\nAll proceeds from this event go to support Historic Columbia\, Columbia and Richland County’s leading local history and preservation advocates since 1961.\n🔊 We’re having an early bird flash sale from Monday\, August 5\, to Friday\, August 9\, offering Silent Auction tickets at $40 for everyone!\nAfter August 9\, prices increase to:\n$50 ∣ HC Palladium members\n$60 ∣ HC members\n$70 ∣ Non-members\n$75 ∣ At the Door
URL:https://wxryfm.org/event/palladium-bidding-and-bbq/
LOCATION:Robert Mills House and Gardens\, 1616 Blanding Street\, COLUMBIA\, SC\, 29201\, United States
CATEGORIES:Fundraiser
ATTACH;FMTTYPE=image/jpeg:https://wxryfm.org/wp-content/uploads/2024/09/453870857_893158376180628_4492573631412977496_n.jpg
END:VEVENT
BEGIN:VEVENT
DTSTART;TZID=America/New_York:20241023T200000
DTEND;TZID=America/New_York:20241023T230000
DTSTAMP:20260424T074805
CREATED:20240916T145109Z
LAST-MODIFIED:20240916T145109Z
UID:1212-1729713600-1729724400@wxryfm.org
SUMMARY:Ricky Montgomery - The Fillmore
DESCRIPTION:
URL:https://wxryfm.org/event/ricky-montgomery-the-fillmore/
LOCATION:The Fillmore Charlotte\, 820 Hamilton Street\, Charlotte\, NC\, 28206\, United States
CATEGORIES:Concert
ATTACH;FMTTYPE=image/webp:https://wxryfm.org/wp-content/uploads/2024/09/4550b2ee-4c24-465d-be78-54eb064e3653_RETINA_PORTRAIT_16_9.webp
END:VEVENT
BEGIN:VEVENT
DTSTART;TZID=America/New_York:20241023T200000
DTEND;TZID=America/New_York:20241023T230000
DTSTAMP:20260424T074805
CREATED:20240527T114511Z
LAST-MODIFIED:20240527T114511Z
UID:983-1729713600-1729724400@wxryfm.org
SUMMARY:Ricky Montgomery - The Fillmore Charlotte
DESCRIPTION:
URL:https://wxryfm.org/event/ricky-montgomery-the-fillmore-charlotte/
LOCATION:The Fillmore Charlotte\, 820 Hamilton Street\, Charlotte\, NC\, 28206\, United States
CATEGORIES:Concert
END:VEVENT
BEGIN:VEVENT
DTSTART;TZID=America/New_York:20241018T200000
DTEND;TZID=America/New_York:20241018T230000
DTSTAMP:20260424T074805
CREATED:20240916T144844Z
LAST-MODIFIED:20240916T144844Z
UID:1209-1729281600-1729292400@wxryfm.org
SUMMARY:Little Stranger - The Fillmore Charlotte
DESCRIPTION:
URL:https://wxryfm.org/event/little-stranger-the-fillmore-charlotte/
LOCATION:The Fillmore Charlotte\, 820 Hamilton Street\, Charlotte\, NC\, 28206\, United States
CATEGORIES:Concert
ATTACH;FMTTYPE=image/webp:https://wxryfm.org/wp-content/uploads/2024/09/e402dce6-04f8-42ad-8e48-339a6504a6b8_RETINA_PORTRAIT_16_9.webp
END:VEVENT
END:VCALENDAR