BEGIN:VCALENDAR
VERSION:2.0
PRODID:-// - ECPv6.15.20//NONSGML v1.0//EN
CALSCALE:GREGORIAN
METHOD:PUBLISH
X-ORIGINAL-URL:https://wxryfm.org
X-WR-CALDESC:Events for 
REFRESH-INTERVAL;VALUE=DURATION:PT1H
X-Robots-Tag:noindex
X-PUBLISHED-TTL:PT1H
BEGIN:VTIMEZONE
TZID:America/New_York
BEGIN:DAYLIGHT
TZOFFSETFROM:-0500
TZOFFSETTO:-0400
TZNAME:EDT
DTSTART:20250309T070000
END:DAYLIGHT
BEGIN:STANDARD
TZOFFSETFROM:-0400
TZOFFSETTO:-0500
TZNAME:EST
DTSTART:20251102T060000
END:STANDARD
BEGIN:DAYLIGHT
TZOFFSETFROM:-0500
TZOFFSETTO:-0400
TZNAME:EDT
DTSTART:20260308T070000
END:DAYLIGHT
BEGIN:STANDARD
TZOFFSETFROM:-0400
TZOFFSETTO:-0500
TZNAME:EST
DTSTART:20261101T060000
END:STANDARD
BEGIN:DAYLIGHT
TZOFFSETFROM:-0500
TZOFFSETTO:-0400
TZNAME:EDT
DTSTART:20270314T070000
END:DAYLIGHT
BEGIN:STANDARD
TZOFFSETFROM:-0400
TZOFFSETTO:-0500
TZNAME:EST
DTSTART:20271107T060000
END:STANDARD
BEGIN:DAYLIGHT
TZOFFSETFROM:-0500
TZOFFSETTO:-0400
TZNAME:EDT
DTSTART:20280312T070000
END:DAYLIGHT
BEGIN:STANDARD
TZOFFSETFROM:-0400
TZOFFSETTO:-0500
TZNAME:EST
DTSTART:20281105T060000
END:STANDARD
END:VTIMEZONE
BEGIN:VEVENT
DTSTART;VALUE=DATE:20260417
DTEND;VALUE=DATE:20260418
DTSTAMP:20260424T062758
CREATED:20260410T154048Z
LAST-MODIFIED:20260410T154048Z
UID:1689-1776384000-1776470399@wxryfm.org
SUMMARY:Meeting Street Music Festival
DESCRIPTION:
URL:https://wxryfm.org/event/meeting-street-music-festival/
CATEGORIES:Community Event,Music Festival
ATTACH;FMTTYPE=image/png:https://wxryfm.org/wp-content/uploads/2026/03/msmf-2026-poster-v.1-Just-Dates-scaled-1.png
END:VEVENT
BEGIN:VEVENT
DTSTART;VALUE=DATE:20260418
DTEND;VALUE=DATE:20260420
DTSTAMP:20260424T062758
CREATED:20260402T130735Z
LAST-MODIFIED:20260402T130735Z
UID:1683-1776470400-1776643199@wxryfm.org
SUMMARY:Columbia International Festival 2026
DESCRIPTION:
URL:https://wxryfm.org/event/columbia-international-festival-2026/
LOCATION:SC State Fairgrounds\, 1200 Rosewood Drive\, Columbia\, 29201\, United States
CATEGORIES:Community Event
ATTACH;FMTTYPE=image/png:https://wxryfm.org/wp-content/uploads/2026/04/digital-ads-SC-3-30-26_1920x1005-1.9-U.png
END:VEVENT
BEGIN:VEVENT
DTSTART;TZID=America/New_York:20260418T080000
DTEND;TZID=America/New_York:20270419T170000
DTSTAMP:20260424T062758
CREATED:20251020T135909Z
LAST-MODIFIED:20251020T135909Z
UID:1555-1776499200-1808154000@wxryfm.org
SUMMARY:Highwater Festival 2026 - Riverfront Park North Charleston
DESCRIPTION:
URL:https://wxryfm.org/event/highwater-festival-2026-riverfront-park-north-charleston/
LOCATION:Riverfront Park – North Charleston\, 1061 Everglades Ave\, North Charleston\, SC\, 29405\, United States
CATEGORIES:Concert,Music Festival
END:VEVENT
BEGIN:VEVENT
DTSTART;TZID=America/New_York:20260418T200000
DTEND;TZID=America/New_York:20260418T230000
DTSTAMP:20260424T062758
CREATED:20260219T133456Z
LAST-MODIFIED:20260219T133456Z
UID:1654-1776542400-1776553200@wxryfm.org
SUMMARY:WXRY Presents: AVTT/PTTN at the Township
DESCRIPTION:
URL:https://wxryfm.org/event/wxry-presents-avtt-pttn-at-the-township/
LOCATION:The Township Auditorium\, 1703 Taylor Street\, Columbia\, SC\, 29201\, United States
CATEGORIES:Concert
END:VEVENT
BEGIN:VEVENT
DTSTART;TZID=America/New_York:20260522T180000
DTEND;TZID=America/New_York:20260522T230000
DTSTAMP:20260424T062758
CREATED:20260203T170540Z
LAST-MODIFIED:20260203T170540Z
UID:1624-1779472800-1779490800@wxryfm.org
SUMMARY:Jason Mraz - Peace Center Greenville
DESCRIPTION:
URL:https://wxryfm.org/event/jason-mraz-peace-center-greenville/
LOCATION:Peace Center\, 300 South Main Street\, Greenville\, SC\, 29601\, United States
CATEGORIES:Concert
END:VEVENT
END:VCALENDAR