BEGIN:VCALENDAR
VERSION:2.0
PRODID:-// - ECPv6.15.20//NONSGML v1.0//EN
CALSCALE:GREGORIAN
METHOD:PUBLISH
X-ORIGINAL-URL:https://wxryfm.org
X-WR-CALDESC:Events for 
REFRESH-INTERVAL;VALUE=DURATION:PT1H
X-Robots-Tag:noindex
X-PUBLISHED-TTL:PT1H
BEGIN:VTIMEZONE
TZID:America/New_York
BEGIN:DAYLIGHT
TZOFFSETFROM:-0500
TZOFFSETTO:-0400
TZNAME:EDT
DTSTART:20230312T070000
END:DAYLIGHT
BEGIN:STANDARD
TZOFFSETFROM:-0400
TZOFFSETTO:-0500
TZNAME:EST
DTSTART:20231105T060000
END:STANDARD
BEGIN:DAYLIGHT
TZOFFSETFROM:-0500
TZOFFSETTO:-0400
TZNAME:EDT
DTSTART:20240310T070000
END:DAYLIGHT
BEGIN:STANDARD
TZOFFSETFROM:-0400
TZOFFSETTO:-0500
TZNAME:EST
DTSTART:20241103T060000
END:STANDARD
BEGIN:DAYLIGHT
TZOFFSETFROM:-0500
TZOFFSETTO:-0400
TZNAME:EDT
DTSTART:20250309T070000
END:DAYLIGHT
BEGIN:STANDARD
TZOFFSETFROM:-0400
TZOFFSETTO:-0500
TZNAME:EST
DTSTART:20251102T060000
END:STANDARD
BEGIN:DAYLIGHT
TZOFFSETFROM:-0500
TZOFFSETTO:-0400
TZNAME:EDT
DTSTART:20260308T070000
END:DAYLIGHT
BEGIN:STANDARD
TZOFFSETFROM:-0400
TZOFFSETTO:-0500
TZNAME:EST
DTSTART:20261101T060000
END:STANDARD
END:VTIMEZONE
BEGIN:VEVENT
DTSTART;TZID=America/New_York:20250314T080000
DTEND;TZID=America/New_York:20250316T170000
DTSTAMP:20260424T041128
CREATED:20250302T015746Z
LAST-MODIFIED:20250302T015746Z
UID:1440-1741939200-1742144400@wxryfm.org
SUMMARY:Carolina Classic Home and Garden Show 2025 State Fairgrounds
DESCRIPTION:The 59th Home & Garden Show on March 14th\, 15th and 16th\, 2025\nDive deep into Columbia’s premier home and renovation experience as we bring together the city’s top home\, renovation\, and outdoor living companies. Last year’s show was a spectacular event that captivated many. Whether you were in the mood to transform your home\, in search of expert landscapers\, or looking for a memorable family day out\, there was something special for everyone. Don’t miss the excitement this year!
URL:https://wxryfm.org/event/carolina-classic-home-and-garden-show-2025-state-fairgrounds/
LOCATION:SC State Fairgrounds\, 1200 Rosewood Drive\, Columbia\, 29201\, United States
CATEGORIES:Home and Garden
ATTACH;FMTTYPE=image/png:https://wxryfm.org/wp-content/uploads/2025/03/save-the-dates-4.png
END:VEVENT
BEGIN:VEVENT
DTSTART;VALUE=DATE:20240308
DTEND;VALUE=DATE:20240311
DTSTAMP:20260424T041128
CREATED:20240119T035816Z
LAST-MODIFIED:20240119T035816Z
UID:795-1709856000-1710115199@wxryfm.org
SUMMARY:Carolina Classic Home & Garden Show
DESCRIPTION:
URL:https://wxryfm.org/event/carolina-classic-home-garden-show/
LOCATION:SC State Fairgrounds\, 1200 Rosewood Drive\, Columbia\, 29201\, United States
CATEGORIES:Community Event,Home and Garden
END:VEVENT
END:VCALENDAR