BEGIN:VCALENDAR
VERSION:2.0
PRODID:-// - ECPv6.15.20//NONSGML v1.0//EN
CALSCALE:GREGORIAN
METHOD:PUBLISH
X-ORIGINAL-URL:https://wxryfm.org
X-WR-CALDESC:Events for 
REFRESH-INTERVAL;VALUE=DURATION:PT1H
X-Robots-Tag:noindex
X-PUBLISHED-TTL:PT1H
BEGIN:VTIMEZONE
TZID:America/New_York
BEGIN:DAYLIGHT
TZOFFSETFROM:-0500
TZOFFSETTO:-0400
TZNAME:EDT
DTSTART:20220313T070000
END:DAYLIGHT
BEGIN:STANDARD
TZOFFSETFROM:-0400
TZOFFSETTO:-0500
TZNAME:EST
DTSTART:20221106T060000
END:STANDARD
BEGIN:DAYLIGHT
TZOFFSETFROM:-0500
TZOFFSETTO:-0400
TZNAME:EDT
DTSTART:20230312T070000
END:DAYLIGHT
BEGIN:STANDARD
TZOFFSETFROM:-0400
TZOFFSETTO:-0500
TZNAME:EST
DTSTART:20231105T060000
END:STANDARD
BEGIN:DAYLIGHT
TZOFFSETFROM:-0500
TZOFFSETTO:-0400
TZNAME:EDT
DTSTART:20240310T070000
END:DAYLIGHT
BEGIN:STANDARD
TZOFFSETFROM:-0400
TZOFFSETTO:-0500
TZNAME:EST
DTSTART:20241103T060000
END:STANDARD
END:VTIMEZONE
BEGIN:VEVENT
DTSTART;TZID=America/New_York:20230922T183000
DTEND;TZID=America/New_York:20230922T223000
DTSTAMP:20260425T195428
CREATED:20230619T121750Z
LAST-MODIFIED:20230619T121750Z
UID:250-1695407400-1695421800@wxryfm.org
SUMMARY:Therapalooza - Fundraiser for The Therapy Place
DESCRIPTION:The 9th Annual Therapalooza: The GREATEST SHOW in the SOUTHEAST! \nA fundraiser benefiting The Therapy Place\, a local center providing children with life-changing and innovative therapies\, the midlands only therapeutic preschool\, and family support services.
URL:https://wxryfm.org/event/therapalooza-fundraiser-for-the-therapy-place/
LOCATION:SC State Fairgrounds\, 1200 Rosewood Drive\, Columbia\, 29201\, United States
CATEGORIES:Fundraiser
ATTACH;FMTTYPE=image/png:https://wxryfm.org/wp-content/uploads/2023/06/1686932363857.png
END:VEVENT
END:VCALENDAR