BEGIN:VCALENDAR
VERSION:2.0
PRODID:-// - ECPv6.15.20//NONSGML v1.0//EN
CALSCALE:GREGORIAN
METHOD:PUBLISH
X-ORIGINAL-URL:https://wxryfm.org
X-WR-CALDESC:Events for 
REFRESH-INTERVAL;VALUE=DURATION:PT1H
X-Robots-Tag:noindex
X-PUBLISHED-TTL:PT1H
BEGIN:VTIMEZONE
TZID:America/New_York
BEGIN:DAYLIGHT
TZOFFSETFROM:-0500
TZOFFSETTO:-0400
TZNAME:EDT
DTSTART:20230312T070000
END:DAYLIGHT
BEGIN:STANDARD
TZOFFSETFROM:-0400
TZOFFSETTO:-0500
TZNAME:EST
DTSTART:20231105T060000
END:STANDARD
BEGIN:DAYLIGHT
TZOFFSETFROM:-0500
TZOFFSETTO:-0400
TZNAME:EDT
DTSTART:20240310T070000
END:DAYLIGHT
BEGIN:STANDARD
TZOFFSETFROM:-0400
TZOFFSETTO:-0500
TZNAME:EST
DTSTART:20241103T060000
END:STANDARD
BEGIN:DAYLIGHT
TZOFFSETFROM:-0500
TZOFFSETTO:-0400
TZNAME:EDT
DTSTART:20250309T070000
END:DAYLIGHT
BEGIN:STANDARD
TZOFFSETFROM:-0400
TZOFFSETTO:-0500
TZNAME:EST
DTSTART:20251102T060000
END:STANDARD
END:VTIMEZONE
BEGIN:VEVENT
DTSTART;TZID=America/New_York:20240728T170000
DTEND;TZID=America/New_York:20240728T220000
DTSTAMP:20260425T070704
CREATED:20240527T134149Z
LAST-MODIFIED:20240527T134149Z
UID:1072-1722186000-1722204000@wxryfm.org
SUMMARY:Slightly Stoopid & Dirty Heads W/ Common Kings\, The Elovaters - Charleston
DESCRIPTION:
URL:https://wxryfm.org/event/slightly-stoopid-dirty-heads-w-common-kings-the-elovaters-charleston/
LOCATION:Credit One Stadium Charleston\, 161 Seven Farms Drive\, Charleston\, SC\, 29492\, United States
CATEGORIES:Concert
END:VEVENT
BEGIN:VEVENT
DTSTART;TZID=America/New_York:20240729T180000
DTEND;TZID=America/New_York:20240729T230000
DTSTAMP:20260425T070704
CREATED:20231023T140021Z
LAST-MODIFIED:20231023T031519Z
UID:508-1722276000-1722294000@wxryfm.org
SUMMARY:blink-182 One More Time - Bon Secours Wellness Arena
DESCRIPTION:
URL:https://wxryfm.org/event/blink-182-one-more-time-bon-secours-wellness-arena/
LOCATION:Bon Secours Wellness Arena – Greenville\, 650 N Academy St\, Greenville\, SC\, 29601\, United States
CATEGORIES:Concert
ATTACH;FMTTYPE=image/jpeg:https://wxryfm.org/wp-content/uploads/2023/10/Static_Social-Twitter_800x419_Blink182_2024_Regional_BonSecoursWellnessArenaGreenville_0729.jpeg
END:VEVENT
BEGIN:VEVENT
DTSTART;TZID=America/New_York:20240729T200000
DTEND;TZID=America/New_York:20240729T230000
DTSTAMP:20260425T070704
CREATED:20240527T112419Z
LAST-MODIFIED:20240527T112419Z
UID:962-1722283200-1722294000@wxryfm.org
SUMMARY:mxmtoon - The Undergound Charlotte
DESCRIPTION:
URL:https://wxryfm.org/event/mxmtoon-the-undergound-charlotte/
LOCATION:The Underground Charlotte\, 820 Hamilton Street\, Charlotte\, NC\, 28206\, United States
CATEGORIES:Concert
END:VEVENT
BEGIN:VEVENT
DTSTART;TZID=America/New_York:20240730T173000
DTEND;TZID=America/New_York:20240730T230000
DTSTAMP:20260425T070704
CREATED:20240527T131702Z
LAST-MODIFIED:20240527T131702Z
UID:1042-1722360600-1722380400@wxryfm.org
SUMMARY:Beartooth - The Senate
DESCRIPTION:
URL:https://wxryfm.org/event/beartooth-the-senate/
LOCATION:The Senate Columbia\, 1022 Senate Street\, Columbia\, SC\, 29201\, United States
CATEGORIES:Concert
END:VEVENT
BEGIN:VEVENT
DTSTART;TZID=America/New_York:20240802T183000
DTEND;TZID=America/New_York:20240802T230000
DTSTAMP:20260425T070704
CREATED:20240527T121931Z
LAST-MODIFIED:20240527T121931Z
UID:1011-1722623400-1722639600@wxryfm.org
SUMMARY:Limp Bizkit\, BONES\, N8NOFACE\, Corey Feldman\, Riff Raff - PNC Music Pavillion
DESCRIPTION:
URL:https://wxryfm.org/event/limp-bizkit-bones-n8noface-corey-feldman-riff-raff-pnc-music-pavillion/
LOCATION:PNC Music Pavillion – Charlotte\, 707 Pavillion Boulevard\, Charlotte\, NC\, 28262\, United States
CATEGORIES:Concert
END:VEVENT
BEGIN:VEVENT
DTSTART;TZID=America/New_York:20240804T180000
DTEND;TZID=America/New_York:20240804T210000
DTSTAMP:20260425T070704
CREATED:20240715T125817Z
LAST-MODIFIED:20240715T125817Z
UID:1138-1722794400-1722805200@wxryfm.org
SUMMARY:Groovin in the Graden - Dante Lewis & Friends - NOMA
DESCRIPTION:
URL:https://wxryfm.org/event/groovin-in-the-graden-dante-lewis-friends-noma/
LOCATION:NOMA Community Gardens\, 2417 River Drive\, COLUMBIA\, SC\, 29201\, United States
CATEGORIES:Community Event,Concert,Music Festival
END:VEVENT
BEGIN:VEVENT
DTSTART;TZID=America/New_York:20240804T183000
DTEND;TZID=America/New_York:20240804T230000
DTSTAMP:20260425T070704
CREATED:20240527T130414Z
LAST-MODIFIED:20240527T130414Z
UID:1027-1722796200-1722812400@wxryfm.org
SUMMARY:Cage the Elephant\, Young the Giant w/Bakar - PNC Music Pavillion
DESCRIPTION:
URL:https://wxryfm.org/event/cage-the-elephant-young-the-giant-w-bakar-pnc-music-pavillion/
LOCATION:PNC Music Pavillion – Charlotte\, 707 Pavillion Boulevard\, Charlotte\, NC\, 28262\, United States
CATEGORIES:Concert
END:VEVENT
BEGIN:VEVENT
DTSTART;TZID=America/New_York:20240807T193000
DTEND;TZID=America/New_York:20240807T230000
DTSTAMP:20260425T070704
CREATED:20240527T122121Z
LAST-MODIFIED:20240527T122121Z
UID:1013-1723059000-1723071600@wxryfm.org
SUMMARY:Glass Animals - PNC Music Pavillion
DESCRIPTION:
URL:https://wxryfm.org/event/glass-animals-pnc-music-pavillion/
LOCATION:PNC Music Pavillion – Charlotte\, 707 Pavillion Boulevard\, Charlotte\, NC\, 28262\, United States
CATEGORIES:Concert
END:VEVENT
BEGIN:VEVENT
DTSTART;TZID=America/New_York:20240808T193000
DTEND;TZID=America/New_York:20240808T230000
DTSTAMP:20260425T070704
CREATED:20240527T115425Z
LAST-MODIFIED:20240527T115425Z
UID:991-1723145400-1723158000@wxryfm.org
SUMMARY:Cake - Skyla Credit Union Amphitheater Charlotte
DESCRIPTION:
URL:https://wxryfm.org/event/cake-skyla-credit-union-amphitheater-charlotte/
LOCATION:Skyla Credit Union Amphitheatre at the Music Factory\, 1000 North Carolina Music Factory Blvd\, Charlotte\, NC\, 28206\, United States
CATEGORIES:Concert
END:VEVENT
BEGIN:VEVENT
DTSTART;TZID=America/New_York:20240810T190000
DTEND;TZID=America/New_York:20240810T233000
DTSTAMP:20260425T070704
CREATED:20240527T131814Z
LAST-MODIFIED:20240527T131814Z
UID:1044-1723316400-1723332600@wxryfm.org
SUMMARY:The Mountain Goats - The Senate
DESCRIPTION:
URL:https://wxryfm.org/event/the-mountain-goats-the-senate/
LOCATION:The Senate Columbia\, 1022 Senate Street\, Columbia\, SC\, 29201\, United States
CATEGORIES:Concert
END:VEVENT
BEGIN:VEVENT
DTSTART;TZID=America/New_York:20240811T190000
DTEND;TZID=America/New_York:20240811T230000
DTSTAMP:20260425T070704
CREATED:20240527T115744Z
LAST-MODIFIED:20240527T115744Z
UID:993-1723402800-1723417200@wxryfm.org
SUMMARY:311 with AWOLNATION & Neon Trees - Skyla Crdit Union Amphitheater Charlotte
DESCRIPTION:
URL:https://wxryfm.org/event/311-with-awolnation-neon-trees-skyla-crdit-union-amphitheater-charlotte/
LOCATION:Skyla Credit Union Amphitheatre at the Music Factory\, 1000 North Carolina Music Factory Blvd\, Charlotte\, NC\, 28206\, United States
CATEGORIES:Concert
END:VEVENT
BEGIN:VEVENT
DTSTART;TZID=America/New_York:20240813T183000
DTEND;TZID=America/New_York:20240813T230000
DTSTAMP:20260425T070704
CREATED:20240527T132927Z
LAST-MODIFIED:20240527T132927Z
UID:1056-1723573800-1723590000@wxryfm.org
SUMMARY:311 w/ AWOLNATION & Neon Trees - Firefly Distilley
DESCRIPTION:
URL:https://wxryfm.org/event/311-w-awolnation-neon-trees-firefly-distilley/
LOCATION:Firefly Distillery – Charleston\, 4201 Spruill Ave\, North Charleston\, SC\, 29405\, United States
CATEGORIES:Concert
END:VEVENT
BEGIN:VEVENT
DTSTART;TZID=America/New_York:20240816T180000
DTEND;TZID=America/New_York:20240816T233000
DTSTAMP:20260425T070704
CREATED:20240401T170008Z
LAST-MODIFIED:20240401T151322Z
UID:922-1723831200-1723851000@wxryfm.org
SUMMARY:Smashing Pumpkins w/PVRIS - Heritage Park Simpsonville
DESCRIPTION:
URL:https://wxryfm.org/event/smashing-pumpkins-w-pvris-heritage-park-simpsonville/
LOCATION:CCNB Amphitheater at Heritage Park Simpsonville\, 861 SE Main St\, Simpsonville\, SC\, 29681\, United States
CATEGORIES:Concert
ATTACH;FMTTYPE=image/jpeg:https://wxryfm.org/wp-content/uploads/2024/04/Static_Social-Twitter_800x419_TheSmashingPumpkins_2023_Regional_CCNBAmphitheatreSimpsonville_0827.jpg
END:VEVENT
BEGIN:VEVENT
DTSTART;TZID=America/New_York:20240820T183000
DTEND;TZID=America/New_York:20240820T230000
DTSTAMP:20260425T070704
CREATED:20240527T122345Z
LAST-MODIFIED:20240527T122345Z
UID:1015-1724178600-1724194800@wxryfm.org
SUMMARY:30 Seconds to Mars with AFI\, Poppy\, and Kennyhoopla - PNC Music Pavillion
DESCRIPTION:
URL:https://wxryfm.org/event/30-seconds-to-mars-with-afi-poppy-and-kennyhoopla-pnc-music-pavillion/
LOCATION:PNC Music Pavillion – Charlotte\, 707 Pavillion Boulevard\, Charlotte\, NC\, 28262\, United States
CATEGORIES:Concert
END:VEVENT
BEGIN:VEVENT
DTSTART;VALUE=DATE:20240824
DTEND;VALUE=DATE:20240826
DTSTAMP:20260425T070704
CREATED:20240425T144704Z
LAST-MODIFIED:20240502T233142Z
UID:936-1724457600-1724630399@wxryfm.org
SUMMARY:The Marcus King Band Family Reunion - Simpsonville
DESCRIPTION:
URL:https://wxryfm.org/event/the-marcus-king-band-family-reunions-simpsonville/
LOCATION:CCNB Amphitheater at Heritage Park Simpsonville\, 861 SE Main St\, Simpsonville\, SC\, 29681\, United States
CATEGORIES:Concert,Music Festival
ATTACH;FMTTYPE=image/jpeg:https://wxryfm.org/wp-content/uploads/2024/04/800x419_MarcusKingFamilyReunion_2024_CCNBAmphitheatreSimpsonville_0824.jpg
END:VEVENT
BEGIN:VEVENT
DTSTART;TZID=America/New_York:20240824T193000
DTEND;TZID=America/New_York:20240824T223000
DTSTAMP:20260425T070704
CREATED:20240725T135250Z
LAST-MODIFIED:20240725T135250Z
UID:1146-1724527800-1724538600@wxryfm.org
SUMMARY:Ensemble Eclectica
DESCRIPTION:
URL:https://wxryfm.org/event/ensemble-eclectica/
LOCATION:Harbison Theatre at Midlands Technical College\, 7300 College Street\, Irmo\, SC\, 29063\, United States
CATEGORIES:Concert
END:VEVENT
BEGIN:VEVENT
DTSTART;TZID=America/New_York:20240826T080000
DTEND;TZID=America/New_York:20240826T170000
DTSTAMP:20260425T070704
CREATED:20240116T172830Z
LAST-MODIFIED:20240116T184015Z
UID:788-1724659200-1724691600@wxryfm.org
SUMMARY:BUSH w/Jerry Cantrell and Candebox - Skyla Credit Union Amphitheatre Charlotte
DESCRIPTION:
URL:https://wxryfm.org/event/bush-w-jerry-cantrell-and-candebox-sylan-credit-union-amphitheatre-charlotte/
LOCATION:Skyla Credit Union Amphitheatre at the Music Factory\, 1000 North Carolina Music Factory Blvd\, Charlotte\, NC\, 28206\, United States
CATEGORIES:Concert
ATTACH;FMTTYPE=image/jpeg:https://wxryfm.org/wp-content/uploads/2024/01/Static_Social-Twitter_800x419_Bush_2024_Regional_JerryCantrell_Candlebox_SkylaCreditUnionAmphitheatreCharlotte_0826.jpg
END:VEVENT
BEGIN:VEVENT
DTSTART;TZID=America/New_York:20240826T180000
DTEND;TZID=America/New_York:20240826T230000
DTSTAMP:20260425T070704
CREATED:20231103T140621Z
LAST-MODIFIED:20231103T140621Z
UID:539-1724695200-1724713200@wxryfm.org
SUMMARY:Green Day - PNC Music Pavilion Charlotte
DESCRIPTION:
URL:https://wxryfm.org/event/green-day-pnc-music-pavilion-charlotte/
LOCATION:PNC Music Pavillion – Charlotte\, 707 Pavillion Boulevard\, Charlotte\, NC\, 28262\, United States
CATEGORIES:Concert
ATTACH;FMTTYPE=image/jpeg:https://wxryfm.org/wp-content/uploads/2023/11/Static_Social-Twitter_800x419_GreenDay_2024_Regional_PNCMusicPavilionCharlotte_0826.jpg
END:VEVENT
BEGIN:VEVENT
DTSTART;TZID=America/New_York:20240826T180000
DTEND;TZID=America/New_York:20240826T230000
DTSTAMP:20260425T070704
CREATED:20231112T154523Z
LAST-MODIFIED:20231114T133921Z
UID:557-1724695200-1724713200@wxryfm.org
SUMMARY:Green Day with Rancid and the Linda Lindas - Charlotte
DESCRIPTION:
URL:https://wxryfm.org/event/green-day-with-rancid-and-the-linda-lindas-charlotte/
LOCATION:PNC Music Pavillion – Charlotte\, 707 Pavillion Boulevard\, Charlotte\, NC\, 28262\, United States
CATEGORIES:Concert
END:VEVENT
BEGIN:VEVENT
DTSTART;TZID=America/New_York:20240826T180000
DTEND;TZID=America/New_York:20240826T230000
DTSTAMP:20260425T070704
CREATED:20240527T120013Z
LAST-MODIFIED:20240527T120013Z
UID:995-1724695200-1724713200@wxryfm.org
SUMMARY:Bush - Skyla Credit Union Amphitheater Charlotte
DESCRIPTION:
URL:https://wxryfm.org/event/bush-skyla-credit-union-amphitheater-charlotte/
LOCATION:Skyla Credit Union Amphitheatre at the Music Factory\, 1000 North Carolina Music Factory Blvd\, Charlotte\, NC\, 28206\, United States
CATEGORIES:Concert
END:VEVENT
BEGIN:VEVENT
DTSTART;TZID=America/New_York:20240826T183000
DTEND;TZID=America/New_York:20240826T230000
DTSTAMP:20260425T070704
CREATED:20240527T122622Z
LAST-MODIFIED:20240527T122622Z
UID:1017-1724697000-1724713200@wxryfm.org
SUMMARY:Green Day w/ Rancid and the Linda Lindas - PNC Music Pavillion
DESCRIPTION:
URL:https://wxryfm.org/event/green-day-w-rancid-and-the-linda-lindas-pnc-music-pavillion/
LOCATION:PNC Music Pavillion – Charlotte\, 707 Pavillion Boulevard\, Charlotte\, NC\, 28262\, United States
CATEGORIES:Concert
END:VEVENT
BEGIN:VEVENT
DTSTART;TZID=America/New_York:20240828T180000
DTEND;TZID=America/New_York:20240828T230000
DTSTAMP:20260425T070704
CREATED:20240422T160045Z
LAST-MODIFIED:20240422T143255Z
UID:928-1724868000-1724886000@wxryfm.org
SUMMARY:Imagine Dragons PNC Music Pavilion Charlotte
DESCRIPTION:
URL:https://wxryfm.org/event/imagine-dragons-pnc-music-pavilion-charlotte/
LOCATION:PNC Music Pavillion – Charlotte\, 707 Pavillion Boulevard\, Charlotte\, NC\, 28262\, United States
CATEGORIES:Concert
ATTACH;FMTTYPE=image/jpeg:https://wxryfm.org/wp-content/uploads/2024/04/Static_Social-X_800x419_ImagineDragons_2024_Regional_PNCMusicPavilionCharlotte_0828.jpg
END:VEVENT
BEGIN:VEVENT
DTSTART;TZID=America/New_York:20240831T190000
DTEND;TZID=America/New_York:20240831T230000
DTSTAMP:20260425T070704
CREATED:20240527T133158Z
LAST-MODIFIED:20240527T133158Z
UID:1060-1725130800-1725145200@wxryfm.org
SUMMARY:Sublime with Rome Farewell Tour - Firefly Distillery
DESCRIPTION:
URL:https://wxryfm.org/event/sublime-with-rome-farewell-tour-firefly-distillery/
LOCATION:Firefly Distillery – Charleston\, 4201 Spruill Ave\, North Charleston\, SC\, 29405\, United States
CATEGORIES:Concert
END:VEVENT
BEGIN:VEVENT
DTSTART;TZID=America/New_York:20240901T190000
DTEND;TZID=America/New_York:20240901T230000
DTSTAMP:20260425T070704
CREATED:20240527T122821Z
LAST-MODIFIED:20240527T122821Z
UID:1019-1725217200-1725231600@wxryfm.org
SUMMARY:Avril Lavigne w/Simple Plan and Girlfriends - PNC Music Pavillion
DESCRIPTION:
URL:https://wxryfm.org/event/avril-lavigne-w-simple-plan-and-girlfriends-pnc-music-pavillion/
LOCATION:PNC Music Pavillion – Charlotte\, 707 Pavillion Boulevard\, Charlotte\, NC\, 28262\, United States
CATEGORIES:Concert
END:VEVENT
BEGIN:VEVENT
DTSTART;TZID=America/New_York:20240906T200000
DTEND;TZID=America/New_York:20240906T230000
DTSTAMP:20260425T070704
CREATED:20240527T113846Z
LAST-MODIFIED:20240527T113846Z
UID:975-1725652800-1725663600@wxryfm.org
SUMMARY:Manchester Orchestra - The Fillmore Charlotte
DESCRIPTION:
URL:https://wxryfm.org/event/manchester-orchestra-the-fillmore-charlotte/
LOCATION:The Fillmore Charlotte\, 820 Hamilton Street\, Charlotte\, NC\, 28206\, United States
CATEGORIES:Concert
END:VEVENT
BEGIN:VEVENT
DTSTART;TZID=America/New_York:20240907T200000
DTEND;TZID=America/New_York:20240907T230000
DTSTAMP:20260425T070704
CREATED:20240527T134554Z
LAST-MODIFIED:20240527T134554Z
UID:1076-1725739200-1725750000@wxryfm.org
SUMMARY:Trevor Hall - Charleston Music Hall
DESCRIPTION:
URL:https://wxryfm.org/event/trevor-hall-charleston-music-hall/
LOCATION:Charleston Music Hall\, 37 John Street\, Charleston\, SC\, 29043\, United States
CATEGORIES:Concert
END:VEVENT
BEGIN:VEVENT
DTSTART;TZID=America/New_York:20240908T193000
DTEND;TZID=America/New_York:20240908T230000
DTSTAMP:20260425T070704
CREATED:20240527T134832Z
LAST-MODIFIED:20240527T134832Z
UID:1078-1725823800-1725836400@wxryfm.org
SUMMARY:Bowling for Soup w/ Wheatus and Don't Panic - Charleston Music Hall
DESCRIPTION:
URL:https://wxryfm.org/event/bowling-for-soup-w-wheatus-and-dont-panic-charleston-music-hall/
LOCATION:Charleston Music Hall\, 37 John Street\, Charleston\, SC\, 29043\, United States
CATEGORIES:Concert
END:VEVENT
BEGIN:VEVENT
DTSTART;TZID=America/New_York:20240912T190000
DTEND;TZID=America/New_York:20240912T230000
DTSTAMP:20260425T070704
CREATED:20240527T134333Z
LAST-MODIFIED:20240527T134333Z
UID:1074-1726167600-1726182000@wxryfm.org
SUMMARY:My Morning Jacket and Nathaniel Rateliff & The Night Sweats - Charleston
DESCRIPTION:
URL:https://wxryfm.org/event/my-morning-jacket-and-nathaniel-rateliff-the-night-sweats-charleston/
LOCATION:Credit One Stadium Charleston\, 161 Seven Farms Drive\, Charleston\, SC\, 29492\, United States
CATEGORIES:Concert
END:VEVENT
BEGIN:VEVENT
DTSTART;TZID=America/New_York:20240913T180000
DTEND;TZID=America/New_York:20240913T230000
DTSTAMP:20260425T070704
CREATED:20240325T160043Z
LAST-MODIFIED:20240325T132928Z
UID:913-1726250400-1726268400@wxryfm.org
SUMMARY:Nathaniel Rateliff & the Nightsweats/My Morning Jacket
DESCRIPTION:
URL:https://wxryfm.org/event/nathaniel-rateliff-the-nightsweats-my-morning-jacket/
LOCATION:PNC Music Pavillion – Charlotte\, 707 Pavillion Boulevard\, Charlotte\, NC\, 28262\, United States
CATEGORIES:Concert
ATTACH;FMTTYPE=image/jpeg:https://wxryfm.org/wp-content/uploads/2024/03/Static_Social-X_800x419_MyMorningJacket-NathanielRateliff_2024_Regional_PNCMusicPavilionCharlotte_0913.jpg
END:VEVENT
BEGIN:VEVENT
DTSTART;TZID=America/New_York:20240914T200000
DTEND;TZID=America/New_York:20240914T230000
DTSTAMP:20260425T070704
CREATED:20240527T112132Z
LAST-MODIFIED:20240527T112132Z
UID:960-1726344000-1726354800@wxryfm.org
SUMMARY:The Airborne Toxic Event - The Underground Charlotte
DESCRIPTION:
URL:https://wxryfm.org/event/the-airborne-toxic-event-the-underground-charlotte/
LOCATION:The Underground Charlotte\, 820 Hamilton Street\, Charlotte\, NC\, 28206\, United States
CATEGORIES:Concert
END:VEVENT
END:VCALENDAR