BEGIN:VCALENDAR
VERSION:2.0
PRODID:-// - ECPv6.15.20//NONSGML v1.0//EN
CALSCALE:GREGORIAN
METHOD:PUBLISH
X-ORIGINAL-URL:https://wxryfm.org
X-WR-CALDESC:Events for 
REFRESH-INTERVAL;VALUE=DURATION:PT1H
X-Robots-Tag:noindex
X-PUBLISHED-TTL:PT1H
BEGIN:VTIMEZONE
TZID:America/New_York
BEGIN:DAYLIGHT
TZOFFSETFROM:-0500
TZOFFSETTO:-0400
TZNAME:EDT
DTSTART:20230312T070000
END:DAYLIGHT
BEGIN:STANDARD
TZOFFSETFROM:-0400
TZOFFSETTO:-0500
TZNAME:EST
DTSTART:20231105T060000
END:STANDARD
BEGIN:DAYLIGHT
TZOFFSETFROM:-0500
TZOFFSETTO:-0400
TZNAME:EDT
DTSTART:20240310T070000
END:DAYLIGHT
BEGIN:STANDARD
TZOFFSETFROM:-0400
TZOFFSETTO:-0500
TZNAME:EST
DTSTART:20241103T060000
END:STANDARD
BEGIN:DAYLIGHT
TZOFFSETFROM:-0500
TZOFFSETTO:-0400
TZNAME:EDT
DTSTART:20250309T070000
END:DAYLIGHT
BEGIN:STANDARD
TZOFFSETFROM:-0400
TZOFFSETTO:-0500
TZNAME:EST
DTSTART:20251102T060000
END:STANDARD
END:VTIMEZONE
BEGIN:VEVENT
DTSTART;TZID=America/New_York:20240720T190000
DTEND;TZID=America/New_York:20240720T233000
DTSTAMP:20260424T094321
CREATED:20240527T132549Z
LAST-MODIFIED:20240527T132549Z
UID:1052-1721502000-1721518200@wxryfm.org
SUMMARY:Nickel Creek and Andrew Bird - Firefly Distillery
DESCRIPTION:
URL:https://wxryfm.org/event/nickel-creek-and-andrew-bird-firefly-distillery/
LOCATION:Firefly Distillery – Charleston\, 4201 Spruill Ave\, North Charleston\, SC\, 29405\, United States
CATEGORIES:Concert
END:VEVENT
BEGIN:VEVENT
DTSTART;TZID=America/New_York:20240706T193000
DTEND;TZID=America/New_York:20240706T230000
DTSTAMP:20260424T094321
CREATED:20240527T113635Z
LAST-MODIFIED:20240527T113635Z
UID:973-1720294200-1720306800@wxryfm.org
SUMMARY:Hobo Johnson & The Lovemakers - The Fillmore Charlotte
DESCRIPTION:
URL:https://wxryfm.org/event/hobo-johnson-the-lovemakers-the-fillmore-charlotte/
LOCATION:The Fillmore Charlotte\, 820 Hamilton Street\, Charlotte\, NC\, 28206\, United States
CATEGORIES:Concert
END:VEVENT
BEGIN:VEVENT
DTSTART;TZID=America/New_York:20240628T190000
DTEND;TZID=America/New_York:20240628T230000
DTSTAMP:20260424T094321
CREATED:20240527T131145Z
LAST-MODIFIED:20240527T131145Z
UID:1036-1719601200-1719615600@wxryfm.org
SUMMARY:Flippants\, The Ben Walkers\, Thousand Dollar Movie\, Late Bloomer
DESCRIPTION:
URL:https://wxryfm.org/event/flippants-the-ben-walkers-thousand-dollar-movie-late-bloomer/
LOCATION:New Brookland Tavern\, 632 Harden Street\, Columbia\, SC\, 29205\, United States
CATEGORIES:Concert
END:VEVENT
BEGIN:VEVENT
DTSTART;TZID=America/New_York:20240627T193000
DTEND;TZID=America/New_York:20240627T230000
DTSTAMP:20260424T094321
CREATED:20240527T121043Z
LAST-MODIFIED:20240527T121043Z
UID:1003-1719516600-1719529200@wxryfm.org
SUMMARY:Maroon 5 w/Maren Morris - PNC Music Pavillion
DESCRIPTION:
URL:https://wxryfm.org/event/maroon-5-w-maren-morris-pnc-music-pavillion/
LOCATION:PNC Music Pavillion – Charlotte\, 707 Pavillion Boulevard\, Charlotte\, NC\, 28262\, United States
CATEGORIES:Concert
END:VEVENT
BEGIN:VEVENT
DTSTART;TZID=America/New_York:20240626T190000
DTEND;TZID=America/New_York:20240626T230000
DTSTAMP:20260424T094321
CREATED:20240527T120841Z
LAST-MODIFIED:20240527T120841Z
UID:1001-1719428400-1719442800@wxryfm.org
SUMMARY:Alanis Morissette w/Joan Jett and the Blackhearts - PNC Music Pavilion
DESCRIPTION:
URL:https://wxryfm.org/event/alanis-morissette-w-joan-jett-and-the-blackhearts-pnc-music-pavilion/
LOCATION:PNC Music Pavillion – Charlotte\, 707 Pavillion Boulevard\, Charlotte\, NC\, 28262\, United States
CATEGORIES:Concert
END:VEVENT
BEGIN:VEVENT
DTSTART;TZID=America/New_York:20240625T190000
DTEND;TZID=America/New_York:20240625T230000
DTSTAMP:20260424T094321
CREATED:20240220T155053Z
LAST-MODIFIED:20240220T155053Z
UID:894-1719342000-1719356400@wxryfm.org
SUMMARY:Ryan Adams Solo Acoustic - Miller Theater Augusta
DESCRIPTION:
URL:https://wxryfm.org/event/ryan-adams-solo-acoustic-miller-theater-augusta/
LOCATION:Miller Theater – Augusta\, 708 Broad Street\, Augusta\, GA\, 30901\, United States
CATEGORIES:Concert
ATTACH;FMTTYPE=image/png:https://wxryfm.org/wp-content/uploads/2024/02/RASOLO_1080x1080.png
END:VEVENT
BEGIN:VEVENT
DTSTART;TZID=America/New_York:20240623T193000
DTEND;TZID=America/New_York:20240623T230000
DTSTAMP:20260424T094321
CREATED:20240527T114933Z
LAST-MODIFIED:20240527T114933Z
UID:987-1719171000-1719183600@wxryfm.org
SUMMARY:Goose - Skly Metro Credit Union Amphitheater Charlotte
DESCRIPTION:
URL:https://wxryfm.org/event/goose-skly-metro-credit-union-amphitheater-charlotte/
LOCATION:Skyla Credit Union Amphitheatre at the Music Factory\, 1000 North Carolina Music Factory Blvd\, Charlotte\, NC\, 28206\, United States
CATEGORIES:Concert
END:VEVENT
BEGIN:VEVENT
DTSTART;TZID=America/New_York:20240620T200000
DTEND;TZID=America/New_York:20240620T230000
DTSTAMP:20260424T094321
CREATED:20240527T112804Z
LAST-MODIFIED:20240527T112804Z
UID:964-1718913600-1718924400@wxryfm.org
SUMMARY:Wilderado - The Underground Charlotte
DESCRIPTION:
URL:https://wxryfm.org/event/wilderado-the-underground-charlotte/
LOCATION:The Underground Charlotte\, 820 Hamilton Street\, Charlotte\, NC\, 28206\, United States
CATEGORIES:Concert
END:VEVENT
BEGIN:VEVENT
DTSTART;TZID=America/New_York:20240620T190000
DTEND;TZID=America/New_York:20240620T230000
DTSTAMP:20260424T094321
CREATED:20240527T131035Z
LAST-MODIFIED:20240527T131035Z
UID:1034-1718910000-1718924400@wxryfm.org
SUMMARY:SUSTO w/Homemade Haircuts
DESCRIPTION:
URL:https://wxryfm.org/event/susto-w-homemade-haircuts/
LOCATION:New Brookland Tavern\, 632 Harden Street\, Columbia\, SC\, 29205\, United States
CATEGORIES:Concert
END:VEVENT
BEGIN:VEVENT
DTSTART;TZID=America/New_York:20240620T180000
DTEND;TZID=America/New_York:20240620T230000
DTSTAMP:20260424T094321
CREATED:20240222T180056Z
LAST-MODIFIED:20240222T152300Z
UID:900-1718906400-1718924400@wxryfm.org
SUMMARY:Maggie Rogers - CreditOne Stadium Charleston
DESCRIPTION:
URL:https://wxryfm.org/event/maggie-rogers-creditone-stadium-charleston/
LOCATION:Credit One Stadium Charleston\, 161 Seven Farms Drive\, Charleston\, SC\, 29492\, United States
CATEGORIES:Concert
ATTACH;FMTTYPE=image/jpeg:https://wxryfm.org/wp-content/uploads/2024/02/Static_Social-FacebookPR_1200x630_MaggieRogers-V3_2024_Regional_CreditOneStadiumCharleston_0620.jpg
END:VEVENT
BEGIN:VEVENT
DTSTART;TZID=America/New_York:20240619T200000
DTEND;TZID=America/New_York:20240619T230000
DTSTAMP:20260424T094321
CREATED:20240527T113439Z
LAST-MODIFIED:20240527T113439Z
UID:970-1718827200-1718838000@wxryfm.org
SUMMARY:Silversun PIckups - The Fillmore Charlotte
DESCRIPTION:
URL:https://wxryfm.org/event/silversun-pickups-the-fillmore-charlotte/
LOCATION:The Fillmore Charlotte\, 820 Hamilton Street\, Charlotte\, NC\, 28206\, United States
CATEGORIES:Concert
END:VEVENT
BEGIN:VEVENT
DTSTART;TZID=America/New_York:20240614T200000
DTEND;TZID=America/New_York:20240614T230000
DTSTAMP:20260424T094321
CREATED:20240527T113237Z
LAST-MODIFIED:20240527T113237Z
UID:968-1718395200-1718406000@wxryfm.org
SUMMARY:The Drive-by Truckers - The Fillmore Charlotte
DESCRIPTION:
URL:https://wxryfm.org/event/the-drive-by-truckers-the-fillmore-charlotte/
LOCATION:The Fillmore Charlotte\, 820 Hamilton Street\, Charlotte\, NC\, 28206\, United States
CATEGORIES:Concert
END:VEVENT
BEGIN:VEVENT
DTSTART;TZID=America/New_York:20240614T190000
DTEND;TZID=America/New_York:20240614T230000
DTSTAMP:20260424T094321
CREATED:20240527T130933Z
LAST-MODIFIED:20240527T130933Z
UID:1032-1718391600-1718406000@wxryfm.org
SUMMARY:All Get Out w/ Flycatcher
DESCRIPTION:
URL:https://wxryfm.org/event/all-get-out-w-flycatcher/
LOCATION:New Brookland Tavern\, 632 Harden Street\, Columbia\, SC\, 29205\, United States
CATEGORIES:Concert
END:VEVENT
BEGIN:VEVENT
DTSTART;TZID=America/New_York:20240613T200000
DTEND;TZID=America/New_York:20240613T230000
DTSTAMP:20260424T094321
CREATED:20240217T031405Z
LAST-MODIFIED:20240526T124806Z
UID:890-1718308800-1718319600@wxryfm.org
SUMMARY:Chappell Roan - The Township SOLD OUT
DESCRIPTION:
URL:https://wxryfm.org/event/chappell-roan-the-senate-sold-out/
LOCATION:The Township Auditorium\, 1703 Taylor Street\, Columbia\, SC\, 29201\, United States
CATEGORIES:Concert
END:VEVENT
BEGIN:VEVENT
DTSTART;TZID=America/New_York:20240613T190000
DTEND;TZID=America/New_York:20240613T230000
DTSTAMP:20260424T094321
CREATED:20240527T113033Z
LAST-MODIFIED:20240527T113033Z
UID:966-1718305200-1718319600@wxryfm.org
SUMMARY:The KID Laroi - Skyla Credit Union Amphitheater Charlotte
DESCRIPTION:
URL:https://wxryfm.org/event/the-kid-laroi-skyla-credit-union-amphitheater-charlotte/
LOCATION:Skyla Credit Union Amphitheatre at the Music Factory\, 1000 North Carolina Music Factory Blvd\, Charlotte\, NC\, 28206\, United States
CATEGORIES:Concert
END:VEVENT
BEGIN:VEVENT
DTSTART;TZID=America/New_York:20240602T180000
DTEND;TZID=America/New_York:20240602T230000
DTSTAMP:20260424T094321
CREATED:20240527T130719Z
LAST-MODIFIED:20240527T130719Z
UID:1030-1717351200-1717369200@wxryfm.org
SUMMARY:Longshot Odds\, The Bastard Suns\, Dial Drive\, Lewis Turn Out
DESCRIPTION:
URL:https://wxryfm.org/event/longshot-odds-the-bastard-suns-dial-drive-lewis-turn-out/
LOCATION:New Brookland Tavern\, 632 Harden Street\, Columbia\, SC\, 29205\, United States
CATEGORIES:Concert
END:VEVENT
BEGIN:VEVENT
DTSTART;TZID=America/New_York:20240531T173000
DTEND;TZID=America/New_York:20240531T223000
DTSTAMP:20260424T094321
CREATED:20240122T150045Z
LAST-MODIFIED:20240122T145657Z
UID:810-1717176600-1717194600@wxryfm.org
SUMMARY:Pixies\, Modest Mouse and Cat Power - Firefly Distillery N. CHS
DESCRIPTION:
URL:https://wxryfm.org/event/pixies-modest-mouse-and-cat-power-firefly-distillery-n-chs/
LOCATION:Firefly Distillery – Charleston\, 4201 Spruill Ave\, North Charleston\, SC\, 29405\, United States
CATEGORIES:Concert
ATTACH;FMTTYPE=image/jpeg:https://wxryfm.org/wp-content/uploads/2024/01/Static_Social-Twitter_800x419_PixiesModestMouse_2024_Regional_FireflyDistilleryCharleston_0531_CatPower.jpg
END:VEVENT
BEGIN:VEVENT
DTSTART;TZID=America/New_York:20240512T180000
DTEND;TZID=America/New_York:20240512T230000
DTSTAMP:20260424T094321
CREATED:20231024T150005Z
LAST-MODIFIED:20231024T140233Z
UID:517-1715536800-1715554800@wxryfm.org
SUMMARY:Greta Van Fleet - North Charleston Coliseum
DESCRIPTION:
URL:https://wxryfm.org/event/greta-van-fleet-north-charleston-coliseum/
LOCATION:North Charleston Performing Arts Center\, 5001 Coliseum Drive\, North Charleston\, SC\, 29418\, United States
CATEGORIES:Concert
ATTACH;FMTTYPE=image/jpeg:https://wxryfm.org/wp-content/uploads/2023/10/Static_Social-Twitter_800x419_GretaVanFleet_2024_Regional_NorthCharlestonColiseum_0512.jpg
END:VEVENT
BEGIN:VEVENT
DTSTART;TZID=America/New_York:20240508T173000
DTEND;TZID=America/New_York:20240508T223000
DTSTAMP:20260424T094321
CREATED:20240130T150056Z
LAST-MODIFIED:20240130T135256Z
UID:819-1715189400-1715207400@wxryfm.org
SUMMARY:Queens of the Stone Age and Royal Blood - Firefly Distillery NCHS
DESCRIPTION:
URL:https://wxryfm.org/event/queens-of-the-stone-age-and-royal-blood-firefly-distillery-nchs/
LOCATION:Firefly Distillery – Charleston\, 4201 Spruill Ave\, North Charleston\, SC\, 29405\, United States
CATEGORIES:Concert
ATTACH;FMTTYPE=image/png:https://wxryfm.org/wp-content/uploads/2024/01/QOTSA-2024-US-HORZ-NORTHCHARLESTON.png
END:VEVENT
BEGIN:VEVENT
DTSTART;TZID=America/New_York:20240503T183000
DTEND;TZID=America/New_York:20240503T230000
DTSTAMP:20260424T094321
CREATED:20240212T152934Z
LAST-MODIFIED:20240212T152934Z
UID:866-1714761000-1714777200@wxryfm.org
SUMMARY:Gavin DeGraw - The Senate
DESCRIPTION:
URL:https://wxryfm.org/event/gavin-degraw-the-senate/
LOCATION:The Senate Columbia\, 1022 Senate Street\, Columbia\, SC\, 29201\, United States
CATEGORIES:Concert
ATTACH;FMTTYPE=image/jpeg:https://wxryfm.org/wp-content/uploads/2024/02/420390936_936406814507710_1367443373158744112_n.jpg
END:VEVENT
BEGIN:VEVENT
DTSTART;TZID=America/New_York:20240501T180000
DTEND;TZID=America/New_York:20240501T230000
DTSTAMP:20260424T094321
CREATED:20231212T150057Z
LAST-MODIFIED:20231212T045709Z
UID:728-1714586400-1714604400@wxryfm.org
SUMMARY:Bad Religion and Social Distortion - Charleston
DESCRIPTION:
URL:https://wxryfm.org/event/bad-religion-and-social-distortion-charleston/
LOCATION:Firefly Distillery – Charleston\, 4201 Spruill Ave\, North Charleston\, SC\, 29405\, United States
CATEGORIES:Concert
ATTACH;FMTTYPE=image/jpeg:https://wxryfm.org/wp-content/uploads/2023/12/Static_Social-Twitter_800x419_BadReligion_SocialDistortion_2024_Regional_FireflyDistilleryCharleston_0501.jpeg
END:VEVENT
BEGIN:VEVENT
DTSTART;TZID=America/New_York:20240429T193000
DTEND;TZID=America/New_York:20240429T230000
DTSTAMP:20260424T094321
CREATED:20240212T005651Z
LAST-MODIFIED:20240212T005651Z
UID:859-1714419000-1714431600@wxryfm.org
SUMMARY:Silversun Pickups - The Senate Columbia
DESCRIPTION:
URL:https://wxryfm.org/event/silversun-pickups-the-senate-columbia/
LOCATION:The Senate Columbia\, 1022 Senate Street\, Columbia\, SC\, 29201\, United States
CATEGORIES:Concert
ATTACH;FMTTYPE=image/jpeg:https://wxryfm.org/wp-content/uploads/2024/02/73b54ed2-18ea-4f6a-8b67-c19432098181_TABLET_LANDSCAPE_16_9.jpg
END:VEVENT
BEGIN:VEVENT
DTSTART;TZID=America/New_York:20240426T180000
DTEND;TZID=America/New_York:20240426T230000
DTSTAMP:20260424T094321
CREATED:20231130T181006Z
LAST-MODIFIED:20231130T181006Z
UID:667-1714154400-1714172400@wxryfm.org
SUMMARY:Postal Service and Death Cab for Cutie - Charleston
DESCRIPTION:
URL:https://wxryfm.org/event/postal-service-and-death-cab-for-cutie-charleston/
LOCATION:Credit One Stadium Charleston\, 161 Seven Farms Drive\, Charleston\, SC\, 29492\, United States
CATEGORIES:Concert
ATTACH;FMTTYPE=image/jpeg:https://wxryfm.org/wp-content/uploads/2023/11/Static_Social-Twitter_800x419_ThePostalServiceDeathCabforCutie_2024_Regional_CreditOneStadiumCharleston_0426.jpg
END:VEVENT
BEGIN:VEVENT
DTSTART;TZID=America/New_York:20240424T180000
DTEND;TZID=America/New_York:20240424T230000
DTSTAMP:20260424T094321
CREATED:20240116T170905Z
LAST-MODIFIED:20240116T170905Z
UID:785-1713981600-1713999600@wxryfm.org
SUMMARY:WEEN - Firefly Distillery Charleston
DESCRIPTION:
URL:https://wxryfm.org/event/ween-firefly-distillery-charleston/
LOCATION:Firefly Distillery – Charleston\, 4201 Spruill Ave\, North Charleston\, SC\, 29405\, United States
CATEGORIES:Concert
ATTACH;FMTTYPE=image/jpeg:https://wxryfm.org/wp-content/uploads/2024/01/Static_Social-Instagram_1080x1080_Ween_2024_Regional_Firefly-Distillery-Charleston_0423.jpg
END:VEVENT
BEGIN:VEVENT
DTSTART;TZID=America/New_York:20240420T180000
DTEND;TZID=America/New_York:20240420T230000
DTSTAMP:20260424T094321
CREATED:20231030T143936Z
LAST-MODIFIED:20231030T143936Z
UID:533-1713636000-1713654000@wxryfm.org
SUMMARY:John Mellencamp - Township
DESCRIPTION:
URL:https://wxryfm.org/event/john-mellencamp-township/
LOCATION:The Township Auditorium\, 1703 Taylor Street\, Columbia\, SC\, 29201\, United States
CATEGORIES:Concert
ATTACH;FMTTYPE=image/jpeg:https://wxryfm.org/wp-content/uploads/2023/10/0420-Columbia-John-Mellencamp-1200x1200-1.jpg
END:VEVENT
BEGIN:VEVENT
DTSTART;VALUE=DATE:20240420
DTEND;VALUE=DATE:20240422
DTSTAMP:20260424T094321
CREATED:20231112T044046Z
LAST-MODIFIED:20231112T044046Z
UID:555-1713571200-1713743999@wxryfm.org
SUMMARY:Highwater Festival 2024
DESCRIPTION:
URL:https://wxryfm.org/event/highwater-festival-2024/
LOCATION:Riverfront Park – North Charleston\, 1061 Everglades Ave\, North Charleston\, SC\, 29405\, United States
CATEGORIES:Concert,Music Festival
ATTACH;FMTTYPE=image/png:https://wxryfm.org/wp-content/uploads/2023/11/HW24_Admat_1x1-Experience-10.png
END:VEVENT
BEGIN:VEVENT
DTSTART;TZID=America/New_York:20240309T200000
DTEND;TZID=America/New_York:20240309T230000
DTSTAMP:20260424T094321
CREATED:20231220T134936Z
LAST-MODIFIED:20231220T134936Z
UID:733-1710014400-1710025200@wxryfm.org
SUMMARY:Dawes and Lucius
DESCRIPTION:
URL:https://wxryfm.org/event/dawes-and-lucius/
LOCATION:Charleston Music Hall\, 37 John Street\, Charleston\, SC\, 29043\, United States
CATEGORIES:Concert
END:VEVENT
BEGIN:VEVENT
DTSTART;TZID=America/New_York:20240301T180000
DTEND;TZID=America/New_York:20240301T230000
DTSTAMP:20260424T094321
CREATED:20231114T150006Z
LAST-MODIFIED:20231114T143700Z
UID:570-1709316000-1709334000@wxryfm.org
SUMMARY:Dropkick Murphys and Pennywise - The Township
DESCRIPTION:
URL:https://wxryfm.org/event/dropkick-murphys-and-pennywise-the-township/
LOCATION:The Township Auditorium\, 1703 Taylor Street\, Columbia\, SC\, 29201\, United States
CATEGORIES:Concert
ATTACH;FMTTYPE=image/jpeg:https://wxryfm.org/wp-content/uploads/2023/11/030124-Columbia-DropkickMurphys-564x564-1.jpg
END:VEVENT
BEGIN:VEVENT
DTSTART;TZID=America/New_York:20240223T080000
DTEND;TZID=America/New_York:20240223T170000
DTSTAMP:20260424T094321
CREATED:20240111T165851Z
LAST-MODIFIED:20240111T165851Z
UID:772-1708675200-1708707600@wxryfm.org
SUMMARY:Stop Light Observations - New Brookland Tavern
DESCRIPTION:
URL:https://wxryfm.org/event/stop-light-observations-new-brookland-tavern/
LOCATION:New Brookland Tavern\, 632 Harden Street\, Columbia\, SC\, 29205\, United States
CATEGORIES:Concert
END:VEVENT
BEGIN:VEVENT
DTSTART;TZID=America/New_York:20240222T180000
DTEND;TZID=America/New_York:20240222T230000
DTSTAMP:20260424T094321
CREATED:20240111T163545Z
LAST-MODIFIED:20240111T163545Z
UID:765-1708624800-1708642800@wxryfm.org
SUMMARY:Lettuce - The Senate
DESCRIPTION:
URL:https://wxryfm.org/event/lettuce-the-senate/
LOCATION:The Senate Columbia\, 1022 Senate Street\, Columbia\, SC\, 29201\, United States
CATEGORIES:Concert
END:VEVENT
END:VCALENDAR