BEGIN:VCALENDAR
VERSION:2.0
PRODID:-// - ECPv6.15.20//NONSGML v1.0//EN
CALSCALE:GREGORIAN
METHOD:PUBLISH
X-ORIGINAL-URL:https://wxryfm.org
X-WR-CALDESC:Events for 
REFRESH-INTERVAL;VALUE=DURATION:PT1H
X-Robots-Tag:noindex
X-PUBLISHED-TTL:PT1H
BEGIN:VTIMEZONE
TZID:America/New_York
BEGIN:DAYLIGHT
TZOFFSETFROM:-0500
TZOFFSETTO:-0400
TZNAME:EDT
DTSTART:20230312T070000
END:DAYLIGHT
BEGIN:STANDARD
TZOFFSETFROM:-0400
TZOFFSETTO:-0500
TZNAME:EST
DTSTART:20231105T060000
END:STANDARD
BEGIN:DAYLIGHT
TZOFFSETFROM:-0500
TZOFFSETTO:-0400
TZNAME:EDT
DTSTART:20240310T070000
END:DAYLIGHT
BEGIN:STANDARD
TZOFFSETFROM:-0400
TZOFFSETTO:-0500
TZNAME:EST
DTSTART:20241103T060000
END:STANDARD
BEGIN:DAYLIGHT
TZOFFSETFROM:-0500
TZOFFSETTO:-0400
TZNAME:EDT
DTSTART:20250309T070000
END:DAYLIGHT
BEGIN:STANDARD
TZOFFSETFROM:-0400
TZOFFSETTO:-0500
TZNAME:EST
DTSTART:20251102T060000
END:STANDARD
END:VTIMEZONE
BEGIN:VEVENT
DTSTART;TZID=America/New_York:20241025T180000
DTEND;TZID=America/New_York:20241025T230000
DTSTAMP:20260424T221321
CREATED:20240530T130712Z
LAST-MODIFIED:20240530T130712Z
UID:1092-1729879200-1729897200@wxryfm.org
SUMMARY:Rainbow Kitten Suprise - Spectrum Center Charlotte
DESCRIPTION:
URL:https://wxryfm.org/event/rainbow-kitten-suprise-spectrum-center-charlotte/
LOCATION:Spectrum Center Charlotte\, 333 E Trade St\, Charlotte\, NC\, 28202\, United States
CATEGORIES:Concert
ATTACH;FMTTYPE=image/jpeg:https://wxryfm.org/wp-content/uploads/2024/05/Static_Social-Twitter_800x419_RainbowKittenSurprise_2024_regional_SpectrumCenterCharlotte_1025.jpg
END:VEVENT
BEGIN:VEVENT
DTSTART;TZID=America/New_York:20241025T200000
DTEND;TZID=America/New_York:20241025T230000
DTSTAMP:20260424T221321
CREATED:20240527T135151Z
LAST-MODIFIED:20240527T135151Z
UID:1082-1729886400-1729897200@wxryfm.org
SUMMARY:Ricky Montgomery - Charleston Music Hall
DESCRIPTION:
URL:https://wxryfm.org/event/ricky-montgomery-charleston-music-hall/
LOCATION:Charleston Music Hall\, 37 John Street\, Charleston\, SC\, 29043\, United States
CATEGORIES:Concert
END:VEVENT
END:VCALENDAR