BEGIN:VCALENDAR
VERSION:2.0
PRODID:-// - ECPv6.15.20//NONSGML v1.0//EN
CALSCALE:GREGORIAN
METHOD:PUBLISH
X-ORIGINAL-URL:https://wxryfm.org
X-WR-CALDESC:Events for 
REFRESH-INTERVAL;VALUE=DURATION:PT1H
X-Robots-Tag:noindex
X-PUBLISHED-TTL:PT1H
BEGIN:VTIMEZONE
TZID:America/New_York
BEGIN:DAYLIGHT
TZOFFSETFROM:-0500
TZOFFSETTO:-0400
TZNAME:EDT
DTSTART:20230312T070000
END:DAYLIGHT
BEGIN:STANDARD
TZOFFSETFROM:-0400
TZOFFSETTO:-0500
TZNAME:EST
DTSTART:20231105T060000
END:STANDARD
BEGIN:DAYLIGHT
TZOFFSETFROM:-0500
TZOFFSETTO:-0400
TZNAME:EDT
DTSTART:20240310T070000
END:DAYLIGHT
BEGIN:STANDARD
TZOFFSETFROM:-0400
TZOFFSETTO:-0500
TZNAME:EST
DTSTART:20241103T060000
END:STANDARD
BEGIN:DAYLIGHT
TZOFFSETFROM:-0500
TZOFFSETTO:-0400
TZNAME:EDT
DTSTART:20250309T070000
END:DAYLIGHT
BEGIN:STANDARD
TZOFFSETFROM:-0400
TZOFFSETTO:-0500
TZNAME:EST
DTSTART:20251102T060000
END:STANDARD
END:VTIMEZONE
BEGIN:VEVENT
DTSTART;TZID=America/New_York:20241017T180000
DTEND;TZID=America/New_York:20241017T230000
DTSTAMP:20260424T221333
CREATED:20240527T111033Z
LAST-MODIFIED:20240527T111033Z
UID:953-1729188000-1729206000@wxryfm.org
SUMMARY:Barenaked Ladies/Toad the Wet Sprocket - The Township
DESCRIPTION:
URL:https://wxryfm.org/event/barenaked-ladies-toad-the-wet-sprocket-the-township/
LOCATION:The Township Auditorium\, 1703 Taylor Street\, Columbia\, SC\, 29201\, United States
CATEGORIES:Concert
END:VEVENT
BEGIN:VEVENT
DTSTART;TZID=America/New_York:20241017T200000
DTEND;TZID=America/New_York:20241017T230000
DTSTAMP:20260424T221333
CREATED:20240916T144128Z
LAST-MODIFIED:20240916T144128Z
UID:1203-1729195200-1729206000@wxryfm.org
SUMMARY:Myles Smith - The Underground Charlotte
DESCRIPTION:
URL:https://wxryfm.org/event/myles-smith-the-underground-charlotte/
LOCATION:The Underground Charlotte\, 820 Hamilton Street\, Charlotte\, NC\, 28206\, United States
CATEGORIES:Concert
ATTACH;FMTTYPE=image/webp:https://wxryfm.org/wp-content/uploads/2024/09/7505bc8b-d743-4fc7-ba0d-d322edb4c418_RETINA_PORTRAIT_16_9.webp
END:VEVENT
BEGIN:VEVENT
DTSTART;TZID=America/New_York:20241017T200000
DTEND;TZID=America/New_York:20241017T230000
DTSTAMP:20260424T221333
CREATED:20240916T144428Z
LAST-MODIFIED:20240916T144428Z
UID:1206-1729195200-1729206000@wxryfm.org
SUMMARY:Two Feet - The Fillmore Charlotte
DESCRIPTION:
URL:https://wxryfm.org/event/two-feet-the-fillmore-charlotte/
LOCATION:The Fillmore Charlotte\, 820 Hamilton Street\, Charlotte\, NC\, 28206\, United States
CATEGORIES:Concert
ATTACH;FMTTYPE=image/webp:https://wxryfm.org/wp-content/uploads/2024/09/d407f2b8-6925-4b9b-a944-83e19fa3080e_RETINA_PORTRAIT_16_9.webp
END:VEVENT
END:VCALENDAR