BEGIN:VCALENDAR
VERSION:2.0
PRODID:-// - ECPv6.15.20//NONSGML v1.0//EN
CALSCALE:GREGORIAN
METHOD:PUBLISH
X-ORIGINAL-URL:https://wxryfm.org
X-WR-CALDESC:Events for 
REFRESH-INTERVAL;VALUE=DURATION:PT1H
X-Robots-Tag:noindex
X-PUBLISHED-TTL:PT1H
BEGIN:VTIMEZONE
TZID:America/New_York
BEGIN:DAYLIGHT
TZOFFSETFROM:-0500
TZOFFSETTO:-0400
TZNAME:EDT
DTSTART:20230312T070000
END:DAYLIGHT
BEGIN:STANDARD
TZOFFSETFROM:-0400
TZOFFSETTO:-0500
TZNAME:EST
DTSTART:20231105T060000
END:STANDARD
BEGIN:DAYLIGHT
TZOFFSETFROM:-0500
TZOFFSETTO:-0400
TZNAME:EDT
DTSTART:20240310T070000
END:DAYLIGHT
BEGIN:STANDARD
TZOFFSETFROM:-0400
TZOFFSETTO:-0500
TZNAME:EST
DTSTART:20241103T060000
END:STANDARD
BEGIN:DAYLIGHT
TZOFFSETFROM:-0500
TZOFFSETTO:-0400
TZNAME:EDT
DTSTART:20250309T070000
END:DAYLIGHT
BEGIN:STANDARD
TZOFFSETFROM:-0400
TZOFFSETTO:-0500
TZNAME:EST
DTSTART:20251102T060000
END:STANDARD
END:VTIMEZONE
BEGIN:VEVENT
DTSTART;TZID=America/New_York:20241009T200000
DTEND;TZID=America/New_York:20241009T230000
DTSTAMP:20260424T221318
CREATED:20240916T143325Z
LAST-MODIFIED:20240916T143325Z
UID:1191-1728504000-1728514800@wxryfm.org
SUMMARY:The WLDLFE - The Underground Charlotte
DESCRIPTION:
URL:https://wxryfm.org/event/the-wldlfe-the-underground-charlotte/
LOCATION:The Underground Charlotte\, 820 Hamilton Street\, Charlotte\, NC\, 28206\, United States
CATEGORIES:Concert
ATTACH;FMTTYPE=image/webp:https://wxryfm.org/wp-content/uploads/2024/09/ed5bc38b-f902-4a2d-83b5-da27161bda14_RETINA_PORTRAIT_16_9.webp
END:VEVENT
END:VCALENDAR