BEGIN:VCALENDAR
VERSION:2.0
PRODID:-// - ECPv6.15.20//NONSGML v1.0//EN
CALSCALE:GREGORIAN
METHOD:PUBLISH
X-ORIGINAL-URL:https://wxryfm.org
X-WR-CALDESC:Events for 
REFRESH-INTERVAL;VALUE=DURATION:PT1H
X-Robots-Tag:noindex
X-PUBLISHED-TTL:PT1H
BEGIN:VTIMEZONE
TZID:America/New_York
BEGIN:DAYLIGHT
TZOFFSETFROM:-0500
TZOFFSETTO:-0400
TZNAME:EDT
DTSTART:20230312T070000
END:DAYLIGHT
BEGIN:STANDARD
TZOFFSETFROM:-0400
TZOFFSETTO:-0500
TZNAME:EST
DTSTART:20231105T060000
END:STANDARD
BEGIN:DAYLIGHT
TZOFFSETFROM:-0500
TZOFFSETTO:-0400
TZNAME:EDT
DTSTART:20240310T070000
END:DAYLIGHT
BEGIN:STANDARD
TZOFFSETFROM:-0400
TZOFFSETTO:-0500
TZNAME:EST
DTSTART:20241103T060000
END:STANDARD
BEGIN:DAYLIGHT
TZOFFSETFROM:-0500
TZOFFSETTO:-0400
TZNAME:EDT
DTSTART:20250309T070000
END:DAYLIGHT
BEGIN:STANDARD
TZOFFSETFROM:-0400
TZOFFSETTO:-0500
TZNAME:EST
DTSTART:20251102T060000
END:STANDARD
END:VTIMEZONE
BEGIN:VEVENT
DTSTART;TZID=America/New_York:20241006T113000
DTEND;TZID=America/New_York:20241006T200000
DTSTAMP:20260424T221323
CREATED:20240612T145832Z
LAST-MODIFIED:20240612T145832Z
UID:1120-1728214200-1728244800@wxryfm.org
SUMMARY:Jerryfest 2024
DESCRIPTION:
URL:https://wxryfm.org/event/jerryfest-2024/
LOCATION:Five Points
CATEGORIES:Community Event,Concert,Music Festival
END:VEVENT
BEGIN:VEVENT
DTSTART;TZID=America/New_York:20241006T190000
DTEND;TZID=America/New_York:20241006T230000
DTSTAMP:20260424T221323
CREATED:20240527T134007Z
LAST-MODIFIED:20240527T134007Z
UID:1070-1728241200-1728255600@wxryfm.org
SUMMARY:Lake Street Dive - Firefly Distillery
DESCRIPTION:
URL:https://wxryfm.org/event/lake-street-dive-firefly-distillery/
LOCATION:Firefly Distillery – Charleston\, 4201 Spruill Ave\, North Charleston\, SC\, 29405\, United States
CATEGORIES:Concert
END:VEVENT
END:VCALENDAR