BEGIN:VCALENDAR
VERSION:2.0
PRODID:-// - ECPv6.15.20//NONSGML v1.0//EN
CALSCALE:GREGORIAN
METHOD:PUBLISH
X-ORIGINAL-URL:https://wxryfm.org
X-WR-CALDESC:Events for 
REFRESH-INTERVAL;VALUE=DURATION:PT1H
X-Robots-Tag:noindex
X-PUBLISHED-TTL:PT1H
BEGIN:VTIMEZONE
TZID:America/New_York
BEGIN:DAYLIGHT
TZOFFSETFROM:-0500
TZOFFSETTO:-0400
TZNAME:EDT
DTSTART:20230312T070000
END:DAYLIGHT
BEGIN:STANDARD
TZOFFSETFROM:-0400
TZOFFSETTO:-0500
TZNAME:EST
DTSTART:20231105T060000
END:STANDARD
BEGIN:DAYLIGHT
TZOFFSETFROM:-0500
TZOFFSETTO:-0400
TZNAME:EDT
DTSTART:20240310T070000
END:DAYLIGHT
BEGIN:STANDARD
TZOFFSETFROM:-0400
TZOFFSETTO:-0500
TZNAME:EST
DTSTART:20241103T060000
END:STANDARD
BEGIN:DAYLIGHT
TZOFFSETFROM:-0500
TZOFFSETTO:-0400
TZNAME:EDT
DTSTART:20250309T070000
END:DAYLIGHT
BEGIN:STANDARD
TZOFFSETFROM:-0400
TZOFFSETTO:-0500
TZNAME:EST
DTSTART:20251102T060000
END:STANDARD
END:VTIMEZONE
BEGIN:VEVENT
DTSTART;TZID=America/New_York:20241005T193000
DTEND;TZID=America/New_York:20241005T230000
DTSTAMP:20260424T221446
CREATED:20240527T131323Z
LAST-MODIFIED:20240527T131323Z
UID:1038-1728156600-1728169200@wxryfm.org
SUMMARY:CULTS
DESCRIPTION:
URL:https://wxryfm.org/event/cults/
LOCATION:New Brookland Tavern\, 632 Harden Street\, Columbia\, SC\, 29205\, United States
CATEGORIES:Concert
END:VEVENT
BEGIN:VEVENT
DTSTART;TZID=America/New_York:20241005T200000
DTEND;TZID=America/New_York:20241005T230000
DTSTAMP:20260424T221446
CREATED:20240527T120411Z
LAST-MODIFIED:20240527T120411Z
UID:999-1728158400-1728169200@wxryfm.org
SUMMARY:Lake Street Dive - Skyla Credit Union Amphitheater Charlotte
DESCRIPTION:
URL:https://wxryfm.org/event/lake-street-dive-skyla-credit-union-amphitheater-charlotte/
LOCATION:Skyla Credit Union Amphitheatre at the Music Factory\, 1000 North Carolina Music Factory Blvd\, Charlotte\, NC\, 28206\, United States
CATEGORIES:Concert
END:VEVENT
END:VCALENDAR