BEGIN:VCALENDAR
VERSION:2.0
PRODID:-// - ECPv6.15.20//NONSGML v1.0//EN
CALSCALE:GREGORIAN
METHOD:PUBLISH
X-ORIGINAL-URL:https://wxryfm.org
X-WR-CALDESC:Events for 
REFRESH-INTERVAL;VALUE=DURATION:PT1H
X-Robots-Tag:noindex
X-PUBLISHED-TTL:PT1H
BEGIN:VTIMEZONE
TZID:America/New_York
BEGIN:DAYLIGHT
TZOFFSETFROM:-0500
TZOFFSETTO:-0400
TZNAME:EDT
DTSTART:20230312T070000
END:DAYLIGHT
BEGIN:STANDARD
TZOFFSETFROM:-0400
TZOFFSETTO:-0500
TZNAME:EST
DTSTART:20231105T060000
END:STANDARD
BEGIN:DAYLIGHT
TZOFFSETFROM:-0500
TZOFFSETTO:-0400
TZNAME:EDT
DTSTART:20240310T070000
END:DAYLIGHT
BEGIN:STANDARD
TZOFFSETFROM:-0400
TZOFFSETTO:-0500
TZNAME:EST
DTSTART:20241103T060000
END:STANDARD
BEGIN:DAYLIGHT
TZOFFSETFROM:-0500
TZOFFSETTO:-0400
TZNAME:EDT
DTSTART:20250309T070000
END:DAYLIGHT
BEGIN:STANDARD
TZOFFSETFROM:-0400
TZOFFSETTO:-0500
TZNAME:EST
DTSTART:20251102T060000
END:STANDARD
END:VTIMEZONE
BEGIN:VEVENT
DTSTART;TZID=America/New_York:20241004T183000
DTEND;TZID=America/New_York:20241004T230000
DTSTAMP:20260424T221348
CREATED:20240725T124109Z
LAST-MODIFIED:20240725T124109Z
UID:1142-1728066600-1728082800@wxryfm.org
SUMMARY:Everclear "Rock for Recovery" - Icee House Amphitheatre
DESCRIPTION:Rock with Everclear at the LRADAC Foundation’s 5th annual Rock 4 Recovery concert on October 4 at the Icehouse Amphitheater in Lexington! Presented by Dominion Energy\, this epic\, substance-free event raises awarness about the power of recovery from substance misuse\, with all proceeds supportsing LRADAC’s programs and services. Evercelear\, a beloved ’90s alt-rock band with 11 studio releases and 12 Top 40 hits\, is led by Art Alexakis\, who celebraes 35 years of sobriety. Enjoy hits like “Santa Monica” and “Father of Mine” while supporting a great cause. Don’t miss out – grab your tickets now and join us for an unforgettable night of music and recovery!
URL:https://wxryfm.org/event/everclear-rock-for-recovery-icee-house-amphitheatre/
LOCATION:Icehouse Amphitheater – Lexington\, 107 West Main Street\, Lexington\, SC\, 29072\, United States
CATEGORIES:Concert
END:VEVENT
BEGIN:VEVENT
DTSTART;TZID=America/New_York:20241004T190000
DTEND;TZID=America/New_York:20241004T230000
DTSTAMP:20260424T221348
CREATED:20240713T140121Z
LAST-MODIFIED:20240713T140121Z
UID:1133-1728068400-1728082800@wxryfm.org
SUMMARY:Houndmouth - The Senate
DESCRIPTION:
URL:https://wxryfm.org/event/houndmouth-the-senate/
LOCATION:The Senate Columbia\, 1022 Senate Street\, Columbia\, SC\, 29201\, United States
CATEGORIES:Concert
ATTACH;FMTTYPE=image/webp:https://wxryfm.org/wp-content/uploads/2024/07/06b4a38a-f999-477f-88a4-5d2f9f220ddd_RETINA_PORTRAIT_16_9.webp
END:VEVENT
BEGIN:VEVENT
DTSTART;TZID=America/New_York:20241004T200000
DTEND;TZID=America/New_York:20241004T230000
DTSTAMP:20260424T221348
CREATED:20240527T114209Z
LAST-MODIFIED:20240527T114209Z
UID:979-1728072000-1728082800@wxryfm.org
SUMMARY:Mother MOther - The Fillmore Charlotte
DESCRIPTION:
URL:https://wxryfm.org/event/mother-mother-the-fillmore-charlotte/
LOCATION:The Fillmore Charlotte\, 820 Hamilton Street\, Charlotte\, NC\, 28206\, United States
CATEGORIES:Concert
END:VEVENT
END:VCALENDAR