BEGIN:VCALENDAR
VERSION:2.0
PRODID:-// - ECPv6.15.20//NONSGML v1.0//EN
CALSCALE:GREGORIAN
METHOD:PUBLISH
X-ORIGINAL-URL:https://wxryfm.org
X-WR-CALDESC:Events for 
REFRESH-INTERVAL;VALUE=DURATION:PT1H
X-Robots-Tag:noindex
X-PUBLISHED-TTL:PT1H
BEGIN:VTIMEZONE
TZID:America/New_York
BEGIN:DAYLIGHT
TZOFFSETFROM:-0500
TZOFFSETTO:-0400
TZNAME:EDT
DTSTART:20230312T070000
END:DAYLIGHT
BEGIN:STANDARD
TZOFFSETFROM:-0400
TZOFFSETTO:-0500
TZNAME:EST
DTSTART:20231105T060000
END:STANDARD
BEGIN:DAYLIGHT
TZOFFSETFROM:-0500
TZOFFSETTO:-0400
TZNAME:EDT
DTSTART:20240310T070000
END:DAYLIGHT
BEGIN:STANDARD
TZOFFSETFROM:-0400
TZOFFSETTO:-0500
TZNAME:EST
DTSTART:20241103T060000
END:STANDARD
BEGIN:DAYLIGHT
TZOFFSETFROM:-0500
TZOFFSETTO:-0400
TZNAME:EDT
DTSTART:20250309T070000
END:DAYLIGHT
BEGIN:STANDARD
TZOFFSETFROM:-0400
TZOFFSETTO:-0500
TZNAME:EST
DTSTART:20251102T060000
END:STANDARD
END:VTIMEZONE
BEGIN:VEVENT
DTSTART;TZID=America/New_York:20240928T200000
DTEND;TZID=America/New_York:20240928T230000
DTSTAMP:20260424T231626
CREATED:20240916T142948Z
LAST-MODIFIED:20240916T142948Z
UID:1185-1727553600-1727564400@wxryfm.org
SUMMARY:The Used - The Fillmore Charlotte
DESCRIPTION:
URL:https://wxryfm.org/event/the-used-the-fillmore-charlotte/
LOCATION:The Fillmore Charlotte\, 820 Hamilton Street\, Charlotte\, NC\, 28206\, United States
CATEGORIES:Concert
ATTACH;FMTTYPE=image/webp:https://wxryfm.org/wp-content/uploads/2024/09/d7a33d6c-adcc-4f3b-a697-4372128a34b4_RETINA_PORTRAIT_16_9.webp
END:VEVENT
END:VCALENDAR