BEGIN:VCALENDAR
VERSION:2.0
PRODID:-// - ECPv6.15.20//NONSGML v1.0//EN
CALSCALE:GREGORIAN
METHOD:PUBLISH
X-ORIGINAL-URL:https://wxryfm.org
X-WR-CALDESC:Events for 
REFRESH-INTERVAL;VALUE=DURATION:PT1H
X-Robots-Tag:noindex
X-PUBLISHED-TTL:PT1H
BEGIN:VTIMEZONE
TZID:America/New_York
BEGIN:DAYLIGHT
TZOFFSETFROM:-0500
TZOFFSETTO:-0400
TZNAME:EDT
DTSTART:20220313T070000
END:DAYLIGHT
BEGIN:STANDARD
TZOFFSETFROM:-0400
TZOFFSETTO:-0500
TZNAME:EST
DTSTART:20221106T060000
END:STANDARD
BEGIN:DAYLIGHT
TZOFFSETFROM:-0500
TZOFFSETTO:-0400
TZNAME:EDT
DTSTART:20230312T070000
END:DAYLIGHT
BEGIN:STANDARD
TZOFFSETFROM:-0400
TZOFFSETTO:-0500
TZNAME:EST
DTSTART:20231105T060000
END:STANDARD
BEGIN:DAYLIGHT
TZOFFSETFROM:-0500
TZOFFSETTO:-0400
TZNAME:EDT
DTSTART:20240310T070000
END:DAYLIGHT
BEGIN:STANDARD
TZOFFSETFROM:-0400
TZOFFSETTO:-0500
TZNAME:EST
DTSTART:20241103T060000
END:STANDARD
END:VTIMEZONE
BEGIN:VEVENT
DTSTART;TZID=America/New_York:20231030T180000
DTEND;TZID=America/New_York:20231030T230000
DTSTAMP:20260425T114733
CREATED:20230621T020848Z
LAST-MODIFIED:20230925T023458Z
UID:292-1698688800-1698706800@wxryfm.org
SUMMARY:The Brook and the Bluff - The Senate Columbia
DESCRIPTION:
URL:https://wxryfm.org/event/the-brook-and-the-bluff-the-senate-columbia/
LOCATION:The Senate Columbia\, 1022 Senate Street\, Columbia\, SC\, 29201\, United States
CATEGORIES:Concert
ATTACH;FMTTYPE=image/jpeg:https://wxryfm.org/wp-content/uploads/2023/06/639ff4bf-d531-4399-8104-d6da9576bd1a_TABLET_LANDSCAPE_16_9.jpg
END:VEVENT
END:VCALENDAR