BEGIN:VCALENDAR
VERSION:2.0
PRODID:-// - ECPv6.15.20//NONSGML v1.0//EN
CALSCALE:GREGORIAN
METHOD:PUBLISH
X-ORIGINAL-URL:https://wxryfm.org
X-WR-CALDESC:Events for 
REFRESH-INTERVAL;VALUE=DURATION:PT1H
X-Robots-Tag:noindex
X-PUBLISHED-TTL:PT1H
BEGIN:VTIMEZONE
TZID:America/New_York
BEGIN:DAYLIGHT
TZOFFSETFROM:-0500
TZOFFSETTO:-0400
TZNAME:EDT
DTSTART:20220313T070000
END:DAYLIGHT
BEGIN:STANDARD
TZOFFSETFROM:-0400
TZOFFSETTO:-0500
TZNAME:EST
DTSTART:20221106T060000
END:STANDARD
BEGIN:DAYLIGHT
TZOFFSETFROM:-0500
TZOFFSETTO:-0400
TZNAME:EDT
DTSTART:20230312T070000
END:DAYLIGHT
BEGIN:STANDARD
TZOFFSETFROM:-0400
TZOFFSETTO:-0500
TZNAME:EST
DTSTART:20231105T060000
END:STANDARD
BEGIN:DAYLIGHT
TZOFFSETFROM:-0500
TZOFFSETTO:-0400
TZNAME:EDT
DTSTART:20240310T070000
END:DAYLIGHT
BEGIN:STANDARD
TZOFFSETFROM:-0400
TZOFFSETTO:-0500
TZNAME:EST
DTSTART:20241103T060000
END:STANDARD
END:VTIMEZONE
BEGIN:VEVENT
DTSTART;TZID=America/New_York:20230928T183000
DTEND;TZID=America/New_York:20230928T230000
DTSTAMP:20260425T145002
CREATED:20230621T014407Z
LAST-MODIFIED:20230621T014510Z
UID:271-1695925800-1695942000@wxryfm.org
SUMMARY:Moon Taxi w/The Stews
DESCRIPTION:
URL:https://wxryfm.org/event/moon-taxi-w-the-stews/
LOCATION:The Senate Columbia\, 1022 Senate Street\, Columbia\, SC\, 29201\, United States
CATEGORIES:Concert
ATTACH;FMTTYPE=image/jpeg:https://wxryfm.org/wp-content/uploads/2023/06/c471c8ed-a0b5-48a5-a960-bbdae7336818_TABLET_LANDSCAPE_16_9.jpg
END:VEVENT
BEGIN:VEVENT
DTSTART;TZID=America/New_York:20230928T193000
DTEND;TZID=America/New_York:20230928T213000
DTSTAMP:20260425T145002
CREATED:20230922T154328Z
LAST-MODIFIED:20230922T154328Z
UID:464-1695929400-1695936600@wxryfm.org
SUMMARY:USC Symphony - Gershwin's "Rhapsody in Blue" and Beethoven's 7th Symphony
DESCRIPTION:
URL:https://wxryfm.org/event/usc-symphony-gershwins-rhapsody-in-blue-and-beethovens-7th-symphony/
LOCATION:Koger Center for the Arts\, 1051 Greene St\, Columbia\, SC\, 29201\, United States
CATEGORIES:Classical and Orchestral Music,Concert
ATTACH;FMTTYPE=image/jpeg:https://wxryfm.org/wp-content/uploads/2023/09/1694529626.jpg
END:VEVENT
END:VCALENDAR