BEGIN:VCALENDAR
VERSION:2.0
PRODID:-// - ECPv6.15.20//NONSGML v1.0//EN
CALSCALE:GREGORIAN
METHOD:PUBLISH
X-ORIGINAL-URL:https://wxryfm.org
X-WR-CALDESC:Events for 
REFRESH-INTERVAL;VALUE=DURATION:PT1H
X-Robots-Tag:noindex
X-PUBLISHED-TTL:PT1H
BEGIN:VTIMEZONE
TZID:America/New_York
BEGIN:DAYLIGHT
TZOFFSETFROM:-0500
TZOFFSETTO:-0400
TZNAME:EDT
DTSTART:20220313T070000
END:DAYLIGHT
BEGIN:STANDARD
TZOFFSETFROM:-0400
TZOFFSETTO:-0500
TZNAME:EST
DTSTART:20221106T060000
END:STANDARD
BEGIN:DAYLIGHT
TZOFFSETFROM:-0500
TZOFFSETTO:-0400
TZNAME:EDT
DTSTART:20230312T070000
END:DAYLIGHT
BEGIN:STANDARD
TZOFFSETFROM:-0400
TZOFFSETTO:-0500
TZNAME:EST
DTSTART:20231105T060000
END:STANDARD
BEGIN:DAYLIGHT
TZOFFSETFROM:-0500
TZOFFSETTO:-0400
TZNAME:EDT
DTSTART:20240310T070000
END:DAYLIGHT
BEGIN:STANDARD
TZOFFSETFROM:-0400
TZOFFSETTO:-0500
TZNAME:EST
DTSTART:20241103T060000
END:STANDARD
END:VTIMEZONE
BEGIN:VEVENT
DTSTART;TZID=America/New_York:20230924T160000
DTEND;TZID=America/New_York:20230924T170000
DTSTAMP:20260425T162122
CREATED:20230922T153922Z
LAST-MODIFIED:20230922T153922Z
UID:462-1695571200-1695574800@wxryfm.org
SUMMARY:USC Wind Ensemble - John Mackey "Divine Mischief"
DESCRIPTION:The USC Wind Ensemble presents “Divine Mischief”\, music by world-renowned composer John Mackey\, Sunday\, September 24th at 4 p.m. in the Koger Center for the Arts. Free event.
URL:https://wxryfm.org/event/usc-wind-ensemble-john-mackey-divine-mischief/
LOCATION:Koger Center for the Arts\, 1051 Greene St\, Columbia\, SC\, 29201\, United States
CATEGORIES:Classical and Orchestral Music,Concert
END:VEVENT
END:VCALENDAR