BEGIN:VCALENDAR
VERSION:2.0
PRODID:-// - ECPv6.15.20//NONSGML v1.0//EN
CALSCALE:GREGORIAN
METHOD:PUBLISH
X-ORIGINAL-URL:https://wxryfm.org
X-WR-CALDESC:Events for 
REFRESH-INTERVAL;VALUE=DURATION:PT1H
X-Robots-Tag:noindex
X-PUBLISHED-TTL:PT1H
BEGIN:VTIMEZONE
TZID:America/New_York
BEGIN:DAYLIGHT
TZOFFSETFROM:-0500
TZOFFSETTO:-0400
TZNAME:EDT
DTSTART:20220313T070000
END:DAYLIGHT
BEGIN:STANDARD
TZOFFSETFROM:-0400
TZOFFSETTO:-0500
TZNAME:EST
DTSTART:20221106T060000
END:STANDARD
BEGIN:DAYLIGHT
TZOFFSETFROM:-0500
TZOFFSETTO:-0400
TZNAME:EDT
DTSTART:20230312T070000
END:DAYLIGHT
BEGIN:STANDARD
TZOFFSETFROM:-0400
TZOFFSETTO:-0500
TZNAME:EST
DTSTART:20231105T060000
END:STANDARD
BEGIN:DAYLIGHT
TZOFFSETFROM:-0500
TZOFFSETTO:-0400
TZNAME:EDT
DTSTART:20240310T070000
END:DAYLIGHT
BEGIN:STANDARD
TZOFFSETFROM:-0400
TZOFFSETTO:-0500
TZNAME:EST
DTSTART:20241103T060000
END:STANDARD
END:VTIMEZONE
BEGIN:VEVENT
DTSTART;TZID=America/New_York:20230621T180000
DTEND;TZID=America/New_York:20230621T220000
DTSTAMP:20260425T202800
CREATED:20230606T141028Z
LAST-MODIFIED:20230606T141038Z
UID:203-1687370400-1687384800@wxryfm.org
SUMMARY:SC Philarmonic Chamber Crawl - Craft and Draft Devine
DESCRIPTION:CHAMBER CRAWL brings small classical ensembles to your favorite neighborhood watering holes. The Philharmonic is headed downtown to the original Craft & Draft (2706 Devine St\, Columbia\, SC 29205). Doors are at 6:00 PM\, and the concert is at 7:00 PM. Tickets are $20. Reservations are recommended because space is limited.
URL:https://wxryfm.org/event/sc-philarmonic-chamber-crawl-craft-and-draft-devine/
LOCATION:Craft and Draft – Devine Street\, 2706 Devine Street\, Columbia\, SC\, 29205\, United States
CATEGORIES:Classical and Orchestral Music
ATTACH;FMTTYPE=image/jpeg:https://wxryfm.org/wp-content/uploads/2023/06/63f11a4c-cb51-aa37-ef4a-1a1005feab2b.jpg
END:VEVENT
END:VCALENDAR