BEGIN:VCALENDAR
VERSION:2.0
PRODID:-// - ECPv6.15.20//NONSGML v1.0//EN
CALSCALE:GREGORIAN
METHOD:PUBLISH
X-ORIGINAL-URL:https://wxryfm.org
X-WR-CALDESC:Events for 
REFRESH-INTERVAL;VALUE=DURATION:PT1H
X-Robots-Tag:noindex
X-PUBLISHED-TTL:PT1H
BEGIN:VTIMEZONE
TZID:America/New_York
BEGIN:DAYLIGHT
TZOFFSETFROM:-0500
TZOFFSETTO:-0400
TZNAME:EDT
DTSTART:20220313T070000
END:DAYLIGHT
BEGIN:STANDARD
TZOFFSETFROM:-0400
TZOFFSETTO:-0500
TZNAME:EST
DTSTART:20221106T060000
END:STANDARD
BEGIN:DAYLIGHT
TZOFFSETFROM:-0500
TZOFFSETTO:-0400
TZNAME:EDT
DTSTART:20230312T070000
END:DAYLIGHT
BEGIN:STANDARD
TZOFFSETFROM:-0400
TZOFFSETTO:-0500
TZNAME:EST
DTSTART:20231105T060000
END:STANDARD
BEGIN:DAYLIGHT
TZOFFSETFROM:-0500
TZOFFSETTO:-0400
TZNAME:EDT
DTSTART:20240310T070000
END:DAYLIGHT
BEGIN:STANDARD
TZOFFSETFROM:-0400
TZOFFSETTO:-0500
TZNAME:EST
DTSTART:20241103T060000
END:STANDARD
END:VTIMEZONE
BEGIN:VEVENT
DTSTART;TZID=America/New_York:20231201T183000
DTEND;TZID=America/New_York:20231201T200000
DTSTAMP:20260424T030748
CREATED:20231003T144233Z
LAST-MODIFIED:20231003T144233Z
UID:493-1701455400-1701460800@wxryfm.org
SUMMARY:West Columbia Christmas Tree Lighting
DESCRIPTION:
URL:https://wxryfm.org/event/west-columbia-christmas-tree-lighting/
LOCATION:West Columbia City Hall\, 200 N 12th St\, West Columbia\, SC\, 29169\, United States
CATEGORIES:Christmas,Community Event
END:VEVENT
BEGIN:VEVENT
DTSTART;TZID=America/New_York:20231110T190000
DTEND;TZID=America/New_York:20231110T220000
DTSTAMP:20260424T030748
CREATED:20231003T030427Z
LAST-MODIFIED:20231003T030427Z
UID:488-1699642800-1699653600@wxryfm.org
SUMMARY:Arts and Draughts at the Columbia Museum of Art
DESCRIPTION:Columbia’s most creative party is back\, and this time it’s celebrating Lee Alexander McQueen & Ann Ray: Rendez-Vous. Enjoy live music from Gamine and Candy Coffins\, sets by DJ VooDoo Child\, and a multichannel silent disco with DJ sets by L0V3. The Carolina Chapter of the Artistic Haus of Telfar presents a powerful message of love\, acceptance\, and inclusion celebrating the rich and diverse history of the LGBTQIA+ community through a kiki haus performance. Anton + Maxine & Tabitha Ott and Nori Noir present fashion shows\, Beautiful Neighborhood’s Ginevra Hardin offers live styling displays\, and Kelvin Davis of Notoriously Dapper gives Unique Perspective Tours of Rendez-Vous. Check out live screenprinting from Screened Out Printers of the official Arts & Draughts designed by Catawba artist Alex Osborn. Plus enjoy art activities like a DIY dyeing station with Chris Scott of Dyes Effx Art Ware (buy the Arts & Draughts t-shirt or bring your own duds)\, an upcycle fashion station by the Columbia Design League\, a hand fan design station\, printmaking with USC Printmaking\, a fashion photo booth\, and a scavenger hunt through the collection galleries with prizes from Mast General Store. Food for purchase from Cheese and Thank You\, Los Chicanos\, and Kusina Filipina. Cash-only bar with beer and wine from Weco Bottle and Biergarten featuring brews from Highland Brewing Co. including a special collaboration beer brewed just for this Arts & Draughts. \n$15 / $8 for members. Join or renew that night or volunteer for a short shift and get in free.
URL:https://wxryfm.org/event/arts-and-draughts-at-the-columbia-museum-of-art/
LOCATION:Columbia Museum of Art\, 1515 Main Street\, Columbia\, SC\, 29201\, United States
CATEGORIES:Art,Community Event
ATTACH;FMTTYPE=image/jpeg:https://wxryfm.org/wp-content/uploads/2023/10/ArtsDraughts-3-23-48-scaled.jpg
END:VEVENT
BEGIN:VEVENT
DTSTART;TZID=America/New_York:20231104T120000
DTEND;TZID=America/New_York:20231104T220000
DTSTAMP:20260424T030748
CREATED:20230926T132425Z
LAST-MODIFIED:20231024T140504Z
UID:467-1699099200-1699135200@wxryfm.org
SUMMARY:Jam Room Music Festival
DESCRIPTION:2023 OFFICIAL LINEUP\n\n\n\n\n\n\n\n\n\n\n\n\n\nTORTOISE\nADIA VICTORIA\nJARON MARSHALL & THE COLLECTIVE\nJ. ROBBINS BAND\nDEVON KAY & THE SOLUTIONS\nTRIGGER (NYC)\nTHROTTLEROD\nLEONE AND THE ASCENSION\nBEDLAM HOUR\nHOMEMADE HAIRCUTS\nUSC BATTLE OF THE BANDS WINNER
URL:https://wxryfm.org/event/jam-room-music-festival/
LOCATION:SC
CATEGORIES:Community Event,Concert
ATTACH;FMTTYPE=image/jpeg:https://wxryfm.org/wp-content/uploads/2023/09/369902339_779094730889805_7152363572584312178_n.jpg
END:VEVENT
BEGIN:VEVENT
DTSTART;TZID=America/New_York:20231103T173000
DTEND;TZID=America/New_York:20231103T213000
DTSTAMP:20260424T030748
CREATED:20231003T145304Z
LAST-MODIFIED:20231003T145304Z
UID:495-1699032600-1699047000@wxryfm.org
SUMMARY:Fall Back Fest 2023 - State Street West Columbia
DESCRIPTION:
URL:https://wxryfm.org/event/fall-back-fest-2023-state-street-west-columbia/
LOCATION:SC
CATEGORIES:Community Event
ATTACH;FMTTYPE=image/jpeg:https://wxryfm.org/wp-content/uploads/2023/10/Fall-BAck-Fest_Instagram-Square-1080x1080_2023_background-01-scaled-1.jpg
END:VEVENT
BEGIN:VEVENT
DTSTART;TZID=America/New_York:20231013T180000
DTEND;TZID=America/New_York:20231013T210000
DTSTAMP:20260424T030748
CREATED:20230916T115557Z
LAST-MODIFIED:20230916T120358Z
UID:448-1697220000-1697230800@wxryfm.org
SUMMARY:Paint the Town Garnet and Black - USC Homecoming Block Party in Five Points
DESCRIPTION:USC Homecoming Bloack Party in the Five Points Mural Lot for the most Gamecock spirited night of the year! Complete with food trucks\, live music by The Ramblers Band\, games\, USC Swag\, and all of your favorite local businesses.
URL:https://wxryfm.org/event/paint-the-town-garnet-and-black-usc-homecoming-block-party-in-five-points/
LOCATION:Five Points
CATEGORIES:Community Event
ATTACH;FMTTYPE=image/jpeg:https://wxryfm.org/wp-content/uploads/2023/09/376503467_800277225221826_4106922330962452887_n.jpeg
END:VEVENT
BEGIN:VEVENT
DTSTART;TZID=America/New_York:20231007T120000
DTEND;TZID=America/New_York:20231007T180000
DTSTAMP:20260424T030748
CREATED:20230719T214145Z
LAST-MODIFIED:20230719T214145Z
UID:344-1696680000-1696701600@wxryfm.org
SUMMARY:Cayce Fall Fest 2023
DESCRIPTION:Cayce Fall Fest will be held on Saturday\, October 7\, from 12 pm – 6 pm at Granby Gardens Park\, located at 1800 12th Street in Cayce. \nThis family-friendly event will have a multitude of fun festivities including: live music\, a DJ and dance floor\, local food & beverages\, a kid’s area that includes face painters\, balloon artists\, a petting zoo\, inflatables\, and more. This event is free and open to the public. \nLocal favorite\, Mystic Vibrations\, a reggae group\, will be headlining the event. More live music from The Accused\, a five-piece rock cover band\, and Willie Wells and the Blue Ridge Mountain Grass\, a bluegrass band will play throughout the afternoon. \nFall Fest Live Music Lineup\nWillie Wells and the Blue Ridge Mountain Grass\nThe Accused\nMystic Vibrations
URL:https://wxryfm.org/event/cayce-fall-fest-2023/
LOCATION:SC
CATEGORIES:Community Event
ATTACH;FMTTYPE=image/png:https://wxryfm.org/wp-content/uploads/2023/07/Cayce-Fall-Fest.png
END:VEVENT
BEGIN:VEVENT
DTSTART;TZID=America/New_York:20231007T110000
DTEND;TZID=America/New_York:20231007T180000
DTSTAMP:20260424T030748
CREATED:20230907T140902Z
LAST-MODIFIED:20230907T140902Z
UID:425-1696676400-1696701600@wxryfm.org
SUMMARY:Rosewood Art and Music Festival 2023
DESCRIPTION:
URL:https://wxryfm.org/event/rosewood-art-and-music-festival-2023/
LOCATION:Rosewood Park\, 901 South Holly Street\, COLUMBIA\, SC\, 29205\, United States
CATEGORIES:Art,Community Event,Music Festival
ATTACH;FMTTYPE=image/png:https://wxryfm.org/wp-content/uploads/2023/09/RAMF-Logo-Stacked-400pxW-251x300-1.png
END:VEVENT
BEGIN:VEVENT
DTSTART;TZID=America/New_York:20231006T073000
DTEND;TZID=America/New_York:20231006T093000
DTSTAMP:20260424T030748
CREATED:20230926T133529Z
LAST-MODIFIED:20230926T133529Z
UID:471-1696577400-1696584600@wxryfm.org
SUMMARY:Mayor's Campaign Against Breast Cancer Isabel Law Breakfast
DESCRIPTION:Tickets are $15 each and can be purchased at the following locations: \n· City Hall\, 1737 Main Street\, 1st floor \n· Fire Department\, 1800 Laurel Street \n· Payment Center\, 3000 Harden Street \n· Police Department\, 1 Justice Square \n  \nAll proceeds will go to Prisma Health Midlands Foundation for the Bosom Buddies Fund to assist women with post-mastectomy bras and other support materials.
URL:https://wxryfm.org/event/mayors-campaign-against-breast-cancer-isabel-law-breakfast/
LOCATION:Columbia City Hall\, 1737 Main Street\, Columbia\, SC\, 29201\, United States
CATEGORIES:Community Event,Fundraiser
END:VEVENT
BEGIN:VEVENT
DTSTART;TZID=America/New_York:20230930T120000
DTEND;TZID=America/New_York:20230930T180000
DTSTAMP:20260424T030748
CREATED:20230916T133330Z
LAST-MODIFIED:20230916T133330Z
UID:455-1696075200-1696096800@wxryfm.org
SUMMARY:Animal Mission 16th Annual Palmetto Peanut Boil - Devine Street
DESCRIPTION:16th Annual Palmetto Peanut Boil\nSaturday September 30th\, 2023\nNoon to 6pm\n2900 Block of Devine Street\n\n\nDevine Street welcomes back the Palmetto Peanut Boil on Saturday September 30th with a street party celebrating the official state snack of South Carolina\, the boiled peanut. Come sample all the unique flavors and recipes as teams compete for the title of Best Boiled Peanut in the state. The event features live music\, food\, beverages\, and plenty of fun for the whole family. Find out more at PalmettoPeanutBoil.org. The event is hosted by Animal Mission\, and 100% of all proceeds benefit Columbia Animal Services and the Mission’s spay and neuter program.
URL:https://wxryfm.org/event/animal-mission-16th-annual-palmetto-peanut-boil-devine-street/
LOCATION:SC
CATEGORIES:Community Event,Fundraiser
ATTACH;FMTTYPE=image/png:https://wxryfm.org/wp-content/uploads/2023/09/download.png
END:VEVENT
BEGIN:VEVENT
DTSTART;TZID=America/New_York:20230916T160000
DTEND;TZID=America/New_York:20230916T220000
DTSTAMP:20260424T030748
CREATED:20230907T143547Z
LAST-MODIFIED:20230907T143547Z
UID:428-1694880000-1694901600@wxryfm.org
SUMMARY:Meeting Street Music Festival - West Columbia
DESCRIPTION:
URL:https://wxryfm.org/event/meeting-street-music-festival-west-columbia/
LOCATION:SC
CATEGORIES:Community Event,Music Festival
ATTACH;FMTTYPE=image/jpeg:https://wxryfm.org/wp-content/uploads/2023/08/363984207_761370762658818_4385567622682040162_n.jpg
END:VEVENT
BEGIN:VEVENT
DTSTART;TZID=America/New_York:20230916T160000
DTEND;TZID=America/New_York:20230916T220000
DTSTAMP:20260424T030748
CREATED:20230821T142435Z
LAST-MODIFIED:20230821T142435Z
UID:407-1694880000-1694901600@wxryfm.org
SUMMARY:Meeting Street Music Festival - Meeting Street West Columbia
DESCRIPTION:The City of West Columbia is thrilled to announce its first-ever Meeting Street Music Fest\, to be held on the 500 – 700 Blocks of Meeting Street\, West Columbia\, SC\, on Saturday\, September 16\, 2023\, from 4 – 8 PM. This highly anticipated event will showcase an incredible lineup of multiple genres of music\, including nationally and regionally renowned artists on multiple stages throughout the River District on Meeting and State Streets. \nOn the main stage\, prepare to be captivated by the soulful sounds of The Reggie Sullivan Band\, Turnstiles – The Ultimate Tribute to the Music of Billy Joel\, and national R&B recording artist\, Meli’sa Morgan. Renowned for her chart-topping hits that have dominated the Billboard charts\, Meli’sa has consistently reached the pinnacle of success with multiple top 5 and top 10 songs. With an impressive repertoire of sold-out shows around the world\, including London\, UK\, Manchester\, and Amsterdam\, Meli’sa Morgan has shared stages with music icons such as Patti Labelle and The Whispers. This extraordinary artist has graced the concert halls of Tokyo and Osaka\, Japan\, Venice\, Italy\, and many more venues.\nMain Stage \n4 – 5 PM: The Reggie Sullivan Band: https://www.facebook.com/TheReggieSullivanBand/\n5:15 – 6:15 PM: Turnstiles – The Ultimate Tribute to the Music of Billy Joel: https://thebillyjoeltribute.com/\n6:30 – 8 PM: Meli’sa Morgan: http://www.melisamorgan1.com/\nPerforming Live with a 10 Piece Band and Special Guest Dancer Kartier Conway\nSunset Stage\n4:15 – 5:15 PM: E.Z. Shakes: https://www.facebook.com/ZACHSEIBERTMUSIC\n5:30 – 6:30 PM: ChaVonne Campbell & TreSounds: https://www.facebook.com/TreSounds\n6:40 – 8 PM: Civil Remedy: https://www.facebook.com/CivilRemedyMusic/\nSavage Craft Ale Works Stage\n7 – 10 PM: Knights of Flannel \nThis one-of-a-kind music festival promises to be an unparalleled experience that will leave attendees coming back year after year. Mark your calendars for Saturday\, September 16\, 2023\, from 4 – 8 PM\, and prepare for an evening of sensational performances\, great company\, cold drinks\, and delicious bites. \nStay tuned for further updates on the event website www.meetingstreetmusicfest.com and follow the event on Facebook at https://www.facebook.com/events/6550353108365188/. For information about becoming a vendor\, email events@westcolumbiasc.gov. \nFREE to Attend!\nWhat to Bring:\n*Chair\n*ID\n*Sunblock\n*Hat\nNO Coolers\nNO Large Bags\nNO Backpacks\nATM Available at First Community Bank \nTROLLEY PICK UP AREAS:\n301 9th Street\, West Columbia\, SC 29169\n715 9th Street\, West Columbia\, SC 29169\n200 N. 12th Street\, West Columbia\, SC 29169\nPick up begins at 3:30 PM and will run until 10:30 PM. You must be at one of the trolley pick up stations by 10:15 PM for final pick up. \nAFTER EVENT PICK UP AREAS:\nBrookland UMC Church\, 541 Meeting Street\nSavage Craft Ale Works: 430 Center Street \nHANDICAPPED ONLY PARKING:\nBrookland UMC Church – 541 Meeting Street\, West Columbia\, SC 29169 (Enter lot directly across from 529 Center Street) \nWALKABLE PARKING:\nCapitol Square – 483 Sunset Blvd\, West Columbia\, SC 29169\nInteractive Art Park – 425 Meeting Street\, West Columbia\, SC 29169 (Center Street entrance near Savage Craft Ale Works at 430 Center Street.)\nPublic Parking Garage – 310 Court Avenue\, West Columbia\, SC 29169\nCarraway Park – 212 Hudson Street\, West Columbia\, SC 29169 \nWant to volunteer?\nhttps://www.eventeny.com/events/volunteer/application/…\nwww.meetingstreetmusicfest.com\nQuestions? info@meetingstreetmusicfest.com\nThank you to our partners:\nChayz Lounge\nACS Sound & Lighting\nWXRY 99.3 FM\nBrookland UMC \nAfter Party (Ticketed Event)\nThe Meli’sa Morgan Meet & Greet Experience\nDoors Open at 8 PM\nEvent from 8:30 – 11:30 PM at Chayz Lounge\nYou’re invited to the intimate setting that is Chayz Lounge for a Meet & Greet and after party with the incomparable singer Meli’sa Morgan. Tickets can be purchased at https://melissamorganmeetandgreet.eventbrite.com/.
URL:https://wxryfm.org/event/meeting-street-music-festival-meeting-street-west-columbia/
LOCATION:SC
CATEGORIES:Community Event,Music Festival
ATTACH;FMTTYPE=image/jpeg:https://wxryfm.org/wp-content/uploads/2023/08/363984207_761370762658818_4385567622682040162_n.jpg
END:VEVENT
BEGIN:VEVENT
DTSTART;TZID=America/New_York:20230819T080000
DTEND;TZID=America/New_York:20230819T170000
DTSTAMP:20260424T030748
CREATED:20230704T134644Z
LAST-MODIFIED:20230704T134644Z
UID:316-1692432000-1692464400@wxryfm.org
SUMMARY:Hip Hop Family Day with Kurtis Blow
DESCRIPTION:World Famous Hip Hop Family Day returns to the Columbia festival scene at the Koger Center for the Arts at University of South Carolina on Saturday\, August 19\, 2023 in commemoration of the 50th birthday of hip-hop culture\, whose origin date is widely recognized as August 1973. \nHip Hop father Kurtis Blow headlines. Hailing from Harlem as the first commercially-successful rap artist\, Kurtis Blow is a towering figure in hip-hop history. He was the first rapper to sign with a major label\, the first with a single certified gold 1980 landmark-hit “The Breaks\,” and the first to embark on a national and international concert tour.
URL:https://wxryfm.org/event/hip-hop-family-day-with-kurtis-blow/
LOCATION:Koger Center for the Arts\, 1051 Greene St\, Columbia\, SC\, 29201\, United States
CATEGORIES:Community Event,Concert
ATTACH;FMTTYPE=image/jpeg:https://wxryfm.org/wp-content/uploads/2023/07/e21dd6_f5c734f18fd34c2380ce0a5eb8719488mv2.jpg
END:VEVENT
BEGIN:VEVENT
DTSTART;TZID=America/New_York:20230812T100000
DTEND;TZID=America/New_York:20230812T130000
DTSTAMP:20260424T030748
CREATED:20230807T121314Z
LAST-MODIFIED:20230807T121314Z
UID:388-1691834400-1691845200@wxryfm.org
SUMMARY:SC Historic Aviation Foundation Open House - Rosewood/Owens Field
DESCRIPTION:The August Open House of the SC Historic Avaiation Foundation celebrating the 40th Anniversary of the foundation’s B-25C retrieval from the bottom of Lake Greenwood with special guests\, historic vehicles and displays. Free and open to all ages.
URL:https://wxryfm.org/event/sc-historic-aviation-foundation-open-house-rosewood-owens-field/
LOCATION:Owens Field (Jim Hamilton–L.B. Owens Airport) – Rosewood\, 1400 Jim Hamilton Boulevard\, Columbia\, SC\, 29205\, United States
CATEGORIES:Community Event
ATTACH;FMTTYPE=image/jpeg:https://wxryfm.org/wp-content/uploads/2023/08/364069112_302948565730861_169606702623534796_n.jpg
END:VEVENT
BEGIN:VEVENT
DTSTART;VALUE=DATE:20230804
DTEND;VALUE=DATE:20230807
DTSTAMP:20260424T030748
CREATED:20230727T143745Z
LAST-MODIFIED:20230727T143745Z
UID:350-1691107200-1691366399@wxryfm.org
SUMMARY:Devine Street Summer Sidewalk Sale
DESCRIPTION:Get ready for back-to-school with Devine Street’s “Summer Sidewalk Sale”\, happening Friday – Sunday\, August 4th\, 5th and 6th (SC’s Tax Free Weekend). Come find some great deals on everything for your home\, health\, family and wardrobe! \n  \nHere are just SOME of the amazing discounts being offered. Please check with each location to determine hours of operation: \n  \n\nBella Bridesmaids – It’s time for a Sample Sale! On Saturday\, shop 10am to 2pm and check out their rack of $50 sample sale formal gowns. More than 150 dresses sizes 2 – 26. Perfect for prom\, mother-of-the-occasion\, wedding guests\, galas and more!\n\n  \n\nCraft and Draft – Stop for a much-needed drink\, delicious food and enjoy live music in-between your shopping adventures! Craft and Draft will feature “Tax-Free” Beer for to-go purchases (all package beer sold as carry-out will receive an 8% discount). Enjoy food trucks each day (Friday\, 5-9pm\, Parabellum Mobile Eats / Saturday\, 5-9pm\, Cousins Maine Lobster / Sunday\, 5-8pm\, Cafe Strudel).\n\n  \n\nThe Crescent Olive – Purchase TWO bottles of oil / balsamic vinegar at the regular price and receive the THIRD bottle at HALF PRICE! (Bottle refill discounts will apply / sale cannot be combined with other discounts or awards).\n\n  \n\nCurio Classic – Let the experts at Curious Classic show you how to add “that special touch” to your home to make it go from “great” to “divine”. Showroom doors will be open Saturday and Sunday\, 10am to 2pm and they will offer a 15% discount!\n\n  \n\nGardener’s Outpost – Your yard WILL look better with some new plants! Stop in Gardner’s Outpost and check out their selection of “Buy one plant\, get 50% off another plant”.\n\n  \n\nIl Giorgione Pizzeria & Wine Bar – Sip on a COMPLIMENTARY glass of Prosecco during lunch brunch Friday – Sunday. (Must be 21 to participate.)\n\n  \n\nJMcLaughlin – Don’t miss JMcLaughlin’s Summer Sale with 30% off your favorite clothing items! Hours are Friday & Saturday (10am – 6pm) and Sunday (12pm – 5pm).\n\n  \n\nMainstream Boutique – Enjoy 60% off summer’s BEST styles and NEW FALL merchandise!\n\n  \n\nParlour 818 – Let those locks shine while you SAVE MONEY at Parlour 818! Purchase 3 products and get one free OR save 20% off your purchase of Sidewalk Sale items.\n\n  \n\nSugar & Lola – Enjoy mimosas\, beer and seltzers all day while you shop this amazing store with discounts up to 40% on select jewelry and accessories.
URL:https://wxryfm.org/event/devine-street-summer-sidewalk-sale/
LOCATION:SC
CATEGORIES:Community Event
ATTACH;FMTTYPE=image/jpeg:https://wxryfm.org/wp-content/uploads/2023/07/Logo-Sidewalk-Sale-Aug-2023.jpg
END:VEVENT
BEGIN:VEVENT
DTSTART;TZID=America/New_York:20230704T040000
DTEND;TZID=America/New_York:20230704T130000
DTSTAMP:20260424T030748
CREATED:20230604T005008Z
LAST-MODIFIED:20230604T005008Z
UID:142-1688443200-1688475600@wxryfm.org
SUMMARY:Fireworks with the Phil
DESCRIPTION:The South Carolina Philharmonic and conductor Morihiko Nakahara return to Segra Park on July 4th for FIREWORKS WITH THE PHIL! This year’s patriotic program will be a spectacular celebration. Get tickets for the whole family and join us for this new SC Phil tradition!
URL:https://wxryfm.org/event/fireworks-with-the-phil/
LOCATION:SEGRA Park\, 1640 Freed Street\, Columbia\, SC\, 29201\, United States
CATEGORIES:4th of July,Classical and Orchestral Music,Concert
ATTACH;FMTTYPE=image/jpeg:https://wxryfm.org/wp-content/uploads/2023/06/349317562_641967777366366_7804841618415522934_n.jpg
END:VEVENT
BEGIN:VEVENT
DTSTART;TZID=America/New_York:20230701T080000
DTEND;TZID=America/New_York:20230701T190000
DTSTAMP:20260424T030748
CREATED:20230603T221838Z
LAST-MODIFIED:20230603T222109Z
UID:100-1688198400-1688238000@wxryfm.org
SUMMARY:Lake Murray Independence Day Fireworks and Boat Parade
DESCRIPTION:12:00 PM: Patriotic Boat Parade at Bomb Island \nEnjoy the patriotic display as locals & visitors decorate their boats in ways that will leave you amazed! Viewable from the park sites at the Lake Murray Dam after 12:30 PM or by boat! This year’s theme is “Red\, White\, Blue and You”. Prizes: 1st place $400\, 2nd place $300\, 3rd place $200\, and 4th place $100. Registration will be available online through June 23. Visit Lake Murray Country Visitor’s Center to register through June 30. \n9:30 PM: Watch SC’s Largest Fireworks Show on Lake Murray \nFireworks will launch at dark (roughly 9:30 PM) from two lake locations: Spence Island & Dreher Island. Fireworks DO NOT launch from the park sites at the dam. The best viewing location is from a boat.
URL:https://wxryfm.org/event/lake-murray-independence-day-fireworks-and-boat-parade/
LOCATION:Lake Murray\, 1797 North Lake Drive\, Lexington\, SC\, 29072\, United States
CATEGORIES:4th of July,Community Event
ATTACH;FMTTYPE=image/webp:https://wxryfm.org/wp-content/uploads/2023/06/4th-of-July_1920-×-1080-px-1-768x432-1.webp
END:VEVENT
BEGIN:VEVENT
DTSTART;TZID=America/New_York:20230624T110000
DTEND;TZID=America/New_York:20230624T190000
DTSTAMP:20260424T030748
CREATED:20230612T163636Z
LAST-MODIFIED:20230612T163636Z
UID:229-1687604400-1687633200@wxryfm.org
SUMMARY:LOCO Craft Beer Jam - Rescheduled Date
DESCRIPTION:
URL:https://wxryfm.org/event/loco-craft-beer-jam-rescheduled-date/
LOCATION:City Roots Farm – Rosewood\, 1005 Airport Boulevard\, Columbia\, SC\, 29205\, United States
CATEGORIES:Community Event,Music Festival
ATTACH;FMTTYPE=image/jpeg:https://wxryfm.org/wp-content/uploads/2023/06/353387723_10160805915419642_8875162305317334480_n.jpg
END:VEVENT
BEGIN:VEVENT
DTSTART;TZID=America/New_York:20230619T100000
DTEND;TZID=America/New_York:20230619T113000
DTSTAMP:20260424T030748
CREATED:20230605T203152Z
LAST-MODIFIED:20230605T203152Z
UID:197-1687168800-1687174200@wxryfm.org
SUMMARY:Juneteenth Parade - SC's Main Street
DESCRIPTION:
URL:https://wxryfm.org/event/juneteenth-parade-scs-main-street/
LOCATION:SC’s Main Street\, 1500 Main Street\, Columbia\, SC\, 29201\, United States
CATEGORIES:Community Event
END:VEVENT
BEGIN:VEVENT
DTSTART;TZID=America/New_York:20230617T130000
DTEND;TZID=America/New_York:20230617T170000
DTSTAMP:20260424T030748
CREATED:20230604T001933Z
LAST-MODIFIED:20230604T001933Z
UID:122-1687006800-1687021200@wxryfm.org
SUMMARY:Groovin' in the Garden - North Main Community Garden
DESCRIPTION: A free summer concert in the NOMA/ North Main Street neighborhood with performances by Southern Soul Artist Joston Case\, R & B Artist Nicole Marie\, ‘Ray’ Tribute to Ray Charles and “Slick James” Tribute to Rick James.  Bring blankets and lawn chairs to enjoy a night of good music\, entertainment\, and fun! \n 
URL:https://wxryfm.org/event/groovin-in-the-garden-north-main-community-garden/
LOCATION:NOMA Community Garden\, 2714 River Drive\, Columbia\, SC\, 29201\, United States
CATEGORIES:Community Event,Concert
END:VEVENT
BEGIN:VEVENT
DTSTART;TZID=America/New_York:20230616T103000
DTEND;TZID=America/New_York:20230616T110000
DTSTAMP:20260424T030748
CREATED:20230605T203522Z
LAST-MODIFIED:20230605T203522Z
UID:199-1686911400-1686913200@wxryfm.org
SUMMARY:Palmetto Boys & Girls State Parade - SC's Main Street
DESCRIPTION:
URL:https://wxryfm.org/event/palmetto-boys-girls-state-parade-scs-main-street/
LOCATION:SC’s Main Street\, 1500 Main Street\, Columbia\, SC\, 29201\, United States
CATEGORIES:Community Event
END:VEVENT
BEGIN:VEVENT
DTSTART;TZID=America/New_York:20230613T173000
DTEND;TZID=America/New_York:20230613T210000
DTSTAMP:20260424T030748
CREATED:20230608T004124Z
LAST-MODIFIED:20230608T004124Z
UID:216-1686677400-1686690000@wxryfm.org
SUMMARY:Taste on the River - West Columbia Beautification Foundation
DESCRIPTION:The 7th Annual West Columbia Beautification Foundation Taste on the Rivercelebrates the vibrant food scene of the Midlands while supporting the ongoing beautification efforts in West Columbia. Purchase tickets today for Tuesday\, June 13\, 2023\, from 5:30 PM to 9:00 PM\, and join us at Stone River for an extraordinary culinary experience. \nTickets for the event are $100 per person. Attendees will enjoy an array of activities\, including a captivating silent auction\, tantalizing unlimited tastings from renowned restaurants\, live music performed by the Easy Does It Duo\, and a fully stocked open bar. \nThe participating restaurants include: \n  \nBlack Rooster \nDi Vino Rosso \nCafe Strudel \nSakiTumi \nBlue Marlin \nGrecian Gardens \nHite’s BBQ \nThe Blended Bakery and Bistro \nCucinella’s Pizzeria and Italian Ice \nBrookland Conference Center \nBrickhouse Coffee & Tea Co. \nThe Cake House Casa de Pastel \nAlways Original Bakery \n  \n  \nPurchase Tickets: https://bit.ly/2023TOTR \nFacebook event link: https://www.facebook.com/events/801368551559185/
URL:https://wxryfm.org/event/taste-on-the-river-west-columbia-beautification-foundation/
LOCATION:Stone River\, 121 Alexander Road\, West Columbia\, SC\, 29169\, United States
CATEGORIES:Community Event,Fundraiser
ATTACH;FMTTYPE=image/png:https://wxryfm.org/wp-content/uploads/2023/06/Taste-on-the-River-2023.png
END:VEVENT
BEGIN:VEVENT
DTSTART;VALUE=DATE:20230610
DTEND;VALUE=DATE:20230618
DTSTAMP:20260424T030748
CREATED:20230604T002358Z
LAST-MODIFIED:20230604T004403Z
UID:127-1686427200-1687031999@wxryfm.org
SUMMARY:Southeastern Piano Festival - Koger Center and the USC School of Music
DESCRIPTION:
URL:https://wxryfm.org/event/southeastern-piano-festival-koger-center-and-the-usc-school-of-music/
LOCATION:Koger Center for the Arts\, 1051 Greene St\, Columbia\, SC\, 29201\, United States
CATEGORIES:Classical and Orchestral Music,Community Event,Concert
ATTACH;FMTTYPE=image/jpeg:https://wxryfm.org/wp-content/uploads/2023/06/347261563_645026963621792_7803308961154047087_n.jpg
END:VEVENT
BEGIN:VEVENT
DTSTART;VALUE=DATE:20230607
DTEND;VALUE=DATE:20230612
DTSTAMP:20260424T030748
CREATED:20230604T003359Z
LAST-MODIFIED:20230604T003359Z
UID:136-1686168000-1686513599@wxryfm.org
SUMMARY:Shakespeare's Much Ado About Nothing - Lexington Icehouse Amphitheater
DESCRIPTION:The South Carolina Shakespeare Company presents William Shakespeare’s “Much Ado About Nothing” for 6 nights.\nDon’t be fooled by the title! A LOT happens in this play: many wonderful\, happy\, tragic\, and funny “somethings” happen on the grounds of Leonato’s villa where Don Pedro and his comrades have returned from wat.\nDirector Lina Khoury has chosen a talented cast for this production. Join the South Carolina Shakespeare Company for exuberant excitement and hilarious action in Shakespeare’s Much Ado About Nothing.\nShows will start at 7:30\, and be on the following dates:\nThursday\, June 1\nFriday\, June 2\nSaturday\, June 3\nThursday\, June 8\nFriday\, June 9\nand\nSaturday\, June 10\nBring a blanket and a picnic to enjoy this great performance.\nJune 8\, 2023 – 07:30PM\nTicket Price(s): FREE
URL:https://wxryfm.org/event/shakespeares-much-ado-about-nothing-lexington-icehouse-amphitheater/
LOCATION:Icehouse Amphitheater – Lexington\, 107 West Main Street\, Lexington\, SC\, 29072\, United States
CATEGORIES:Community Event,Theatre
ATTACH;FMTTYPE=image/png:https://wxryfm.org/wp-content/uploads/2023/06/Much-400x533-1.png
END:VEVENT
END:VCALENDAR