BEGIN:VCALENDAR
VERSION:2.0
PRODID:-// - ECPv6.15.20//NONSGML v1.0//EN
CALSCALE:GREGORIAN
METHOD:PUBLISH
X-ORIGINAL-URL:https://wxryfm.org
X-WR-CALDESC:Events for 
REFRESH-INTERVAL;VALUE=DURATION:PT1H
X-Robots-Tag:noindex
X-PUBLISHED-TTL:PT1H
BEGIN:VTIMEZONE
TZID:America/New_York
BEGIN:DAYLIGHT
TZOFFSETFROM:-0500
TZOFFSETTO:-0400
TZNAME:EDT
DTSTART:20230312T070000
END:DAYLIGHT
BEGIN:STANDARD
TZOFFSETFROM:-0400
TZOFFSETTO:-0500
TZNAME:EST
DTSTART:20231105T060000
END:STANDARD
BEGIN:DAYLIGHT
TZOFFSETFROM:-0500
TZOFFSETTO:-0400
TZNAME:EDT
DTSTART:20240310T070000
END:DAYLIGHT
BEGIN:STANDARD
TZOFFSETFROM:-0400
TZOFFSETTO:-0500
TZNAME:EST
DTSTART:20241103T060000
END:STANDARD
BEGIN:DAYLIGHT
TZOFFSETFROM:-0500
TZOFFSETTO:-0400
TZNAME:EDT
DTSTART:20250309T070000
END:DAYLIGHT
BEGIN:STANDARD
TZOFFSETFROM:-0400
TZOFFSETTO:-0500
TZNAME:EST
DTSTART:20251102T060000
END:STANDARD
BEGIN:DAYLIGHT
TZOFFSETFROM:-0500
TZOFFSETTO:-0400
TZNAME:EDT
DTSTART:20260308T070000
END:DAYLIGHT
BEGIN:STANDARD
TZOFFSETFROM:-0400
TZOFFSETTO:-0500
TZNAME:EST
DTSTART:20261101T060000
END:STANDARD
BEGIN:DAYLIGHT
TZOFFSETFROM:-0500
TZOFFSETTO:-0400
TZNAME:EDT
DTSTART:20270314T070000
END:DAYLIGHT
BEGIN:STANDARD
TZOFFSETFROM:-0400
TZOFFSETTO:-0500
TZNAME:EST
DTSTART:20271107T060000
END:STANDARD
END:VTIMEZONE
BEGIN:VEVENT
DTSTART;TZID=America/New_York:20240420T103000
DTEND;TZID=America/New_York:20240420T153000
DTSTAMP:20260425T201831
CREATED:20231220T140633Z
LAST-MODIFIED:20231220T140633Z
UID:738-1713609000-1713627000@wxryfm.org
SUMMARY:Kinetic Derby Day
DESCRIPTION:The Kinetic Derby Day returns to Meeting and State Streets for it’s fifth year. This year\, we are excited to announce the return of the kinetic sculpture parade to kick off the day\, followed by soapbox racing\, and the obstacle course. \nIn addition to the Kids’ Zone\, brought to you by the Boys and Girls Club\, iMAGINE has joined us bringing a STEAM festival with demonstrations and even more hands-on experiences. As always\, the event spurs creative thinking\, competition\, and family fun as teams come together to build unusual vehicles and awe-inspiring art installations. \nThe day begins with a kinetic sculpture parade\, at 10:30 AM\, followed by soapbox cars taking over the massive hill on Meeting Street to race in adult and children divisions. After the traditional side-by-side soapbox race ends at noon\, an obstacle course comes on to Meeting Street for more intense soapbox racing. Awards are given for the best sculpture\, the fastest car\, and the best soapbox car design. \nAt the bottom of the hill\, you’ll find a food truck rally and West Columbia’s Interactive Art Park hosting an artisan market. At the corner of Meeting Street and State Street\, you can’t miss a Giant Slide that will be sure to bring a crowd. On State Street\, you’ll find the iMAGINE STEAM festival with interactive science fun and the Kids’ Zone with exhibition soapbox racing for the little ones. ​ \nThe mission of Kinetic Derby Day is to inspire creative problem solving\, build community pride\, and showcase our growing community welcoming economic investment. The event is intended to inspire creative thinkers and help develop problem-solving skills to construct the ideas imagined.
URL:https://wxryfm.org/event/kinetic-derby-day/
LOCATION:SC
CATEGORIES:Community Event
END:VEVENT
BEGIN:VEVENT
DTSTART;TZID=America/New_York:20240704T080000
DTEND;TZID=America/New_York:20240704T170000
DTSTAMP:20260425T201831
CREATED:20240610T230028Z
LAST-MODIFIED:20240610T230511Z
UID:1106-1720080000-1720112400@wxryfm.org
SUMMARY:Fort Jackson Independence Day Celebration
DESCRIPTION:Gates open at 4pm. \nOPEN TO THE PUBLIC \nCarnival Rides at 4pm\nFood and Beer Trucks at 4pm\nMisting Stations\nFireworks Around 9pm (tentative)\nMusic Festival Starts at 6pm (Local Bands and Artists) Featuring: \nDj Payne\nJazzy Trinity\nHiJacked\nThe REGGIE SULLIVAN BAND (HEADLINER)\nTitle Sponsor: Upside Property LLC. \nUSAA\nFisher House-Columbia\, SC\nBlue Cross Blue Shield of Columbia\nAllSouth\nKPot Korean BBQ and Hot Pot
URL:https://wxryfm.org/event/fort-jackson-independence-day-celebration/
LOCATION:Fort Jackson Hilton Field\, Hartsville Guard Rd\, Columbia\, SC\, 29207\, United States
CATEGORIES:4th of July
ATTACH;FMTTYPE=image/png:https://wxryfm.org/wp-content/uploads/2024/06/4th_of_July_Website_750_x_400_px_3.png
END:VEVENT
BEGIN:VEVENT
DTSTART;TZID=America/New_York:20240704T183000
DTEND;TZID=America/New_York:20240704T220000
DTSTAMP:20260425T201831
CREATED:20240610T230331Z
LAST-MODIFIED:20240611T002042Z
UID:1109-1720117800-1720130400@wxryfm.org
SUMMARY:Fireworks with the Phil
DESCRIPTION:The Columbia Fireflies and the South Carolina Philharmonic Orchestra are excited to announce that Fireworks with the Phil\, presented by Prisma Health\, is returning to Segra Park for the 4th annual Orchestral Independence Day Celebration on July 4. Following a sell-out crowd of over 6\,000 in 2023\, the Fireflies and the Philharmonic are moving the Fireworks to the exterior of the ballpark to create more capacity inside Segra Park in expectation of another sold out performance. \nSegra Park’s gates for Fireworks with the Phil will open at 6:30 pm and the concert will begin at 8 pm. The 4th of July Fireworks spectacular will coincide with a rousing rendition of the 1812 overture performed by the SC Philharmonic around 9:15pm to conclude the concert. \nThroughout the event\, food and beverage will be available for purchase. The SCU Kids Zone will be open 6:30 pm to 8 pm\, closing once the concert begins. \nTICKETING:  \n• $10 per person\n• Bullpen Box $40\n• 4Topps Table(seats 4) $40\n• Military receive $2 per tickets discount\, provided by Combined Insurance\n• Private Suites $750\n• Club seats with wait service $24 per seat \nPARKING:  \nParking for the event is $8 per car. \nSAFETY:  \nThis event will abide by the Fireflies clear bag policy and Segra Park will operate under its cashless policy. More information on the clear bag policy is available here.
URL:https://wxryfm.org/event/fireworks-with-the-phil-2/
LOCATION:SEGRA Park\, 1640 Freed Street\, Columbia\, SC\, 29201\, United States
CATEGORIES:4th of July
ATTACH;FMTTYPE=image/jpeg:https://wxryfm.org/wp-content/uploads/2024/06/2023-fireworks-with-the-phil.jpg
END:VEVENT
BEGIN:VEVENT
DTSTART;TZID=America/New_York:20240804T180000
DTEND;TZID=America/New_York:20240804T210000
DTSTAMP:20260425T201831
CREATED:20240715T125817Z
LAST-MODIFIED:20240715T125817Z
UID:1138-1722794400-1722805200@wxryfm.org
SUMMARY:Groovin in the Graden - Dante Lewis & Friends - NOMA
DESCRIPTION:
URL:https://wxryfm.org/event/groovin-in-the-graden-dante-lewis-friends-noma/
LOCATION:NOMA Community Gardens\, 2417 River Drive\, COLUMBIA\, SC\, 29201\, United States
CATEGORIES:Community Event,Concert,Music Festival
END:VEVENT
BEGIN:VEVENT
DTSTART;TZID=America/New_York:20240907T150000
DTEND;TZID=America/New_York:20240907T200000
DTSTAMP:20260425T201831
CREATED:20240205T141255Z
LAST-MODIFIED:20240205T141255Z
UID:831-1725721200-1725739200@wxryfm.org
SUMMARY:Meeting Street Music Festival - West Columbia
DESCRIPTION:
URL:https://wxryfm.org/event/meeting-street-music-festival-west-columbia-2/
LOCATION:SC
CATEGORIES:Community Event,Music Festival
END:VEVENT
BEGIN:VEVENT
DTSTART;TZID=America/New_York:20240928T120000
DTEND;TZID=America/New_York:20240928T180000
DTSTAMP:20260425T201831
CREATED:20240912T175220Z
LAST-MODIFIED:20240912T175220Z
UID:1155-1727524800-1727546400@wxryfm.org
SUMMARY:Animal Mission's Palmetto Peanut Boil 2024
DESCRIPTION:Devine Street welcomes back the Palmetto Peanut Boil on Saturday September 28th with a street party celebrating the official state snack of South Carolina\, the boiled peanut. Come sample all the unique flavors and recipes as teams compete for the title of Best Boiled Peanut in the state. The event features live music\, food\, beverages\, and plenty of fun for the whole family. Find out more at PalmettoPeanutBoil.org. The event is hosted by Animal Mission\, and 100% of all proceeds benefit Columbia Animal Services and the Mission’s spay and neuter program.
URL:https://wxryfm.org/event/animal-missions-palmetto-peanut-boil-2024/
LOCATION:2900 Devine Street\, 2900 Devine Street\, Columbia\, SC\, 29205\, United States
CATEGORIES:Community Event,Fundraiser
ATTACH;FMTTYPE=image/png:https://wxryfm.org/wp-content/uploads/2024/09/2024-PeanutBoil-Logo-17thAnnual.png
END:VEVENT
BEGIN:VEVENT
DTSTART;TZID=America/New_York:20241006T113000
DTEND;TZID=America/New_York:20241006T200000
DTSTAMP:20260425T201831
CREATED:20240612T145832Z
LAST-MODIFIED:20240612T145832Z
UID:1120-1728214200-1728244800@wxryfm.org
SUMMARY:Jerryfest 2024
DESCRIPTION:
URL:https://wxryfm.org/event/jerryfest-2024/
LOCATION:Five Points
CATEGORIES:Community Event,Concert,Music Festival
END:VEVENT
BEGIN:VEVENT
DTSTART;TZID=America/New_York:20241012T080000
DTEND;TZID=America/New_York:20241012T170000
DTSTAMP:20260425T201831
CREATED:20240610T235108Z
LAST-MODIFIED:20240610T235108Z
UID:1112-1728720000-1728752400@wxryfm.org
SUMMARY:Crafted in Carolina - A Celebration of South Carolina's Brewers & Artisans
DESCRIPTION:
URL:https://wxryfm.org/event/crafted-in-carolina-a-celebration-of-south-carolinas-brewers-artisans/
LOCATION:SEGRA Park\, 1640 Freed Street\, Columbia\, SC\, 29201\, United States
CATEGORIES:Community Event
END:VEVENT
BEGIN:VEVENT
DTSTART;TZID=America/New_York:20241103T100000
DTEND;TZID=America/New_York:20241103T190000
DTSTAMP:20260425T201831
CREATED:20231031T030812Z
LAST-MODIFIED:20231112T043353Z
UID:536-1730628000-1730660400@wxryfm.org
SUMMARY:South Carolina Oyster Festival 2024
DESCRIPTION:
URL:https://wxryfm.org/event/south-carolina-oyster-festival-2024/
LOCATION:SC
CATEGORIES:Community Event
END:VEVENT
BEGIN:VEVENT
DTSTART;TZID=America/New_York:20251115T080000
DTEND;TZID=America/New_York:20251115T210000
DTSTAMP:20260425T201831
CREATED:20251020T140037Z
LAST-MODIFIED:20251020T140229Z
UID:1557-1763193600-1763240400@wxryfm.org
SUMMARY:Jam Room Music Festival - Finlay Park
DESCRIPTION:
URL:https://wxryfm.org/event/jam-room-music-festival-finlay-park/
LOCATION:Finlay Park\, 930 Taylor Street\, COLUMBIA\, SC\, 29201\, United States
CATEGORIES:Community Event,Music Festival
END:VEVENT
BEGIN:VEVENT
DTSTART;TZID=America/New_York:20260214T110000
DTEND;TZID=America/New_York:20260214T200000
DTSTAMP:20260425T201831
CREATED:20260212T161042Z
LAST-MODIFIED:20260212T161737Z
UID:1641-1771066800-1771099200@wxryfm.org
SUMMARY:Mardi Gras Columbia
DESCRIPTION:
URL:https://wxryfm.org/event/mradi-gras-columbia/
LOCATION:City Roots Farm – Rosewood\, 1005 Airport Boulevard\, Columbia\, SC\, 29205\, United States
CATEGORIES:Community Event,Music Festival
END:VEVENT
BEGIN:VEVENT
DTSTART;TZID=America/New_York:20260307T100000
DTEND;TZID=America/New_York:20260307T160000
DTSTAMP:20260425T201831
CREATED:20260219T131912Z
LAST-MODIFIED:20260219T132209Z
UID:1648-1772877600-1772899200@wxryfm.org
SUMMARY:Cottontown Art Crawl
DESCRIPTION:
URL:https://wxryfm.org/event/cottontown-art-crawl/
LOCATION:SC
CATEGORIES:Art,Community Event
ATTACH;FMTTYPE=image/png:https://wxryfm.org/wp-content/uploads/2026/02/CAC-Logo-w_Background.png
END:VEVENT
BEGIN:VEVENT
DTSTART;VALUE=DATE:20260314
DTEND;VALUE=DATE:20260315
DTSTAMP:20260425T201831
CREATED:20260203T170650Z
LAST-MODIFIED:20260203T170650Z
UID:1627-1773446400-1773532799@wxryfm.org
SUMMARY:St. Pats in Five Points
DESCRIPTION:
URL:https://wxryfm.org/event/st-pats-in-five-points/
LOCATION:Five Points
CATEGORIES:Community Event,Music Festival
END:VEVENT
BEGIN:VEVENT
DTSTART;TZID=America/New_York:20260314T080000
DTEND;TZID=America/New_York:20260314T190000
DTSTAMP:20260425T201831
CREATED:20260122T051720Z
LAST-MODIFIED:20260122T051720Z
UID:1613-1773475200-1773514800@wxryfm.org
SUMMARY:St. Pat's in Five Points 2026
DESCRIPTION:
URL:https://wxryfm.org/event/st-pats-in-five-points-2026/
LOCATION:Five Points
CATEGORIES:Community Event,Music Festival
END:VEVENT
BEGIN:VEVENT
DTSTART;VALUE=DATE:20260417
DTEND;VALUE=DATE:20260418
DTSTAMP:20260425T201831
CREATED:20260410T154048Z
LAST-MODIFIED:20260410T154048Z
UID:1689-1776384000-1776470399@wxryfm.org
SUMMARY:Meeting Street Music Festival
DESCRIPTION:
URL:https://wxryfm.org/event/meeting-street-music-festival/
LOCATION:SC
CATEGORIES:Community Event,Music Festival
ATTACH;FMTTYPE=image/png:https://wxryfm.org/wp-content/uploads/2026/03/msmf-2026-poster-v.1-Just-Dates-scaled-1.png
END:VEVENT
BEGIN:VEVENT
DTSTART;VALUE=DATE:20260418
DTEND;VALUE=DATE:20260420
DTSTAMP:20260425T201831
CREATED:20260402T130735Z
LAST-MODIFIED:20260402T130735Z
UID:1683-1776470400-1776643199@wxryfm.org
SUMMARY:Columbia International Festival 2026
DESCRIPTION:
URL:https://wxryfm.org/event/columbia-international-festival-2026/
LOCATION:SC State Fairgrounds\, 1200 Rosewood Drive\, Columbia\, 29201\, United States
CATEGORIES:Community Event
ATTACH;FMTTYPE=image/png:https://wxryfm.org/wp-content/uploads/2026/04/digital-ads-SC-3-30-26_1920x1005-1.9-U.png
END:VEVENT
END:VCALENDAR