BEGIN:VCALENDAR
VERSION:2.0
PRODID:-// - ECPv6.15.20//NONSGML v1.0//EN
CALSCALE:GREGORIAN
METHOD:PUBLISH
X-ORIGINAL-URL:https://wxryfm.org
X-WR-CALDESC:Events for 
REFRESH-INTERVAL;VALUE=DURATION:PT1H
X-Robots-Tag:noindex
X-PUBLISHED-TTL:PT1H
BEGIN:VTIMEZONE
TZID:America/New_York
BEGIN:DAYLIGHT
TZOFFSETFROM:-0500
TZOFFSETTO:-0400
TZNAME:EDT
DTSTART:20230312T070000
END:DAYLIGHT
BEGIN:STANDARD
TZOFFSETFROM:-0400
TZOFFSETTO:-0500
TZNAME:EST
DTSTART:20231105T060000
END:STANDARD
BEGIN:DAYLIGHT
TZOFFSETFROM:-0500
TZOFFSETTO:-0400
TZNAME:EDT
DTSTART:20240310T070000
END:DAYLIGHT
BEGIN:STANDARD
TZOFFSETFROM:-0400
TZOFFSETTO:-0500
TZNAME:EST
DTSTART:20241103T060000
END:STANDARD
BEGIN:DAYLIGHT
TZOFFSETFROM:-0500
TZOFFSETTO:-0400
TZNAME:EDT
DTSTART:20250309T070000
END:DAYLIGHT
BEGIN:STANDARD
TZOFFSETFROM:-0400
TZOFFSETTO:-0500
TZNAME:EST
DTSTART:20251102T060000
END:STANDARD
END:VTIMEZONE
BEGIN:VEVENT
DTSTART;TZID=America/New_York:20240214T180000
DTEND;TZID=America/New_York:20240214T220000
DTSTAMP:20260425T100439
CREATED:20240119T053605Z
LAST-MODIFIED:20240119T053605Z
UID:799-1707933600-1707948000@wxryfm.org
SUMMARY:Japser Project "Infamous Lovers" Costumed Fundraiser
DESCRIPTION:Jasper is excited to present “Infamous Lovers\,” a night of art and entertainment in celebration of love. Join us dressed as your favorite infamous lover for a memorable evening of food\, drinks\, and fun. We are taking it back to the ’70s with Columbia’s own Big Love – bringing the legendary music (and drama) of Fleetwood Mac to life! Come dance the night away to their greatest hits\, enjoy performances by Tiny Coven Dance\, partake in heavy hors d’oeuvres by Chef Joe Turkaly\, and strut the red carpet in our costume contest. \nStop by next door at the 701 Community Hall Gallery for Jasper’s yearly Valentine’s Day art exhibition\, this year featuring the mesmerizing narrative art of Thomas Washington’s “Love Quest.” In addition to providing a spectacular night full of fun\, the main goal of this event is to fund the Spring 2024 issue of Jasper Magazine\, distributed for free to nearly 100 locations throughout the Midlands. More surprises and announcements to come!
URL:https://wxryfm.org/event/japser-project-infamous-lovers-costumed-fundraiser/
LOCATION:701 Whaley Street\, 701 Whaley Street\, Columbia\, SC\, 29201\, United States
CATEGORIES:Community Event,Fundraiser
ATTACH;FMTTYPE=image/jpeg:https://wxryfm.org/wp-content/uploads/2024/01/IL-FB-Event.jpg
END:VEVENT
END:VCALENDAR