BEGIN:VCALENDAR
VERSION:2.0
PRODID:-// - ECPv6.15.20//NONSGML v1.0//EN
CALSCALE:GREGORIAN
METHOD:PUBLISH
X-ORIGINAL-URL:https://wxryfm.org
X-WR-CALDESC:Events for 
REFRESH-INTERVAL;VALUE=DURATION:PT1H
X-Robots-Tag:noindex
X-PUBLISHED-TTL:PT1H
BEGIN:VTIMEZONE
TZID:America/New_York
BEGIN:DAYLIGHT
TZOFFSETFROM:-0500
TZOFFSETTO:-0400
TZNAME:EDT
DTSTART:20230312T070000
END:DAYLIGHT
BEGIN:STANDARD
TZOFFSETFROM:-0400
TZOFFSETTO:-0500
TZNAME:EST
DTSTART:20231105T060000
END:STANDARD
BEGIN:DAYLIGHT
TZOFFSETFROM:-0500
TZOFFSETTO:-0400
TZNAME:EDT
DTSTART:20240310T070000
END:DAYLIGHT
BEGIN:STANDARD
TZOFFSETFROM:-0400
TZOFFSETTO:-0500
TZNAME:EST
DTSTART:20241103T060000
END:STANDARD
BEGIN:DAYLIGHT
TZOFFSETFROM:-0500
TZOFFSETTO:-0400
TZNAME:EDT
DTSTART:20250309T070000
END:DAYLIGHT
BEGIN:STANDARD
TZOFFSETFROM:-0400
TZOFFSETTO:-0500
TZNAME:EST
DTSTART:20251102T060000
END:STANDARD
END:VTIMEZONE
BEGIN:VEVENT
DTSTART;TZID=America/New_York:20240907T150000
DTEND;TZID=America/New_York:20240907T200000
DTSTAMP:20260424T234832
CREATED:20240205T141255Z
LAST-MODIFIED:20240205T141255Z
UID:831-1725721200-1725739200@wxryfm.org
SUMMARY:Meeting Street Music Festival - West Columbia
DESCRIPTION:
URL:https://wxryfm.org/event/meeting-street-music-festival-west-columbia-2/
CATEGORIES:Community Event,Music Festival
END:VEVENT
BEGIN:VEVENT
DTSTART;TZID=America/New_York:20240928T120000
DTEND;TZID=America/New_York:20240928T180000
DTSTAMP:20260424T234832
CREATED:20240912T175220Z
LAST-MODIFIED:20240912T175220Z
UID:1155-1727524800-1727546400@wxryfm.org
SUMMARY:Animal Mission's Palmetto Peanut Boil 2024
DESCRIPTION:Devine Street welcomes back the Palmetto Peanut Boil on Saturday September 28th with a street party celebrating the official state snack of South Carolina\, the boiled peanut. Come sample all the unique flavors and recipes as teams compete for the title of Best Boiled Peanut in the state. The event features live music\, food\, beverages\, and plenty of fun for the whole family. Find out more at PalmettoPeanutBoil.org. The event is hosted by Animal Mission\, and 100% of all proceeds benefit Columbia Animal Services and the Mission’s spay and neuter program.
URL:https://wxryfm.org/event/animal-missions-palmetto-peanut-boil-2024/
LOCATION:2900 Devine Street\, 2900 Devine Street\, Columbia\, SC\, 29205\, United States
CATEGORIES:Community Event,Fundraiser
ATTACH;FMTTYPE=image/png:https://wxryfm.org/wp-content/uploads/2024/09/2024-PeanutBoil-Logo-17thAnnual.png
END:VEVENT
END:VCALENDAR